<VRTDataset rasterXSize="94783" rasterYSize="109135">
  <SRS dataAxisToSRSAxisMapping="1,2">PROJCS["NAD83(CSRS) / Canada Atlas Lambert",GEOGCS["NAD83(CSRS)",DATUM["NAD83_Canadian_Spatial_Reference_System",SPHEROID["GRS 1980",6378137,298.257222101,AUTHORITY["EPSG","7019"]],AUTHORITY["EPSG","6140"]],PRIMEM["Greenwich",0,AUTHORITY["EPSG","8901"]],UNIT["degree",0.0174532925199433,AUTHORITY["EPSG","9122"]],AUTHORITY["EPSG","4617"]],PROJECTION["Lambert_Conformal_Conic_2SP"],PARAMETER["latitude_of_origin",49],PARAMETER["central_meridian",-95],PARAMETER["standard_parallel_1",49],PARAMETER["standard_parallel_2",77],PARAMETER["false_easting",0],PARAMETER["false_northing",0],UNIT["metre",1,AUTHORITY["EPSG","9001"]],AXIS["Easting",EAST],AXIS["Northing",NORTH],AUTHORITY["EPSG","3979"]]</SRS>
  <GeoTransform>  1.6725242130000000e+06,  1.0000000000000000e+00,  0.0000000000000000e+00,  3.7315679700000002e+05,  0.0000000000000000e+00, -1.0000000000000000e+00</GeoTransform>
  <VRTRasterBand dataType="Float32" band="1">
    <NoDataValue>-32767</NoDataValue>
    <ColorInterp>Gray</ColorInterp>
    <ComplexSource>
      <SourceFilename relativeToVRT="0">/vsicurl/https://canelevation-dem.s3.ca-central-1.amazonaws.com/hrdem-lidar/QC-R02_2013_F07_UG24-1m-dtm.tif</SourceFilename>
      <SourceBand>1</SourceBand>
      <SourceProperties RasterXSize="97356" RasterYSize="59141" DataType="Float32" BlockXSize="512" BlockYSize="512" />
      <SrcRect xOff="47008.213" yOff="0" xSize="50347.787" ySize="59141" />
      <DstRect xOff="0" yOff="32183.797" xSize="50347.787" ySize="59141" />
      <NODATA>-32767</NODATA>
    </ComplexSource>
    <ComplexSource>
      <SourceFilename relativeToVRT="0">/vsicurl/https://canelevation-dem.s3.ca-central-1.amazonaws.com/hrdem-lidar/QC-600016-08_SOR_2016-1m-dtm.tif</SourceFilename>
      <SourceBand>1</SourceBand>
      <SourceProperties RasterXSize="107674" RasterYSize="132667" DataType="Float32" BlockXSize="512" BlockYSize="512" />
      <SrcRect xOff="0" yOff="29427.203" xSize="85026.213" ySize="103239.797" />
      <DstRect xOff="9756.78700000001" yOff="0" xSize="85026.213" ySize="103239.797" />
      <NODATA>-32767</NODATA>
    </ComplexSource>
    <ComplexSource>
      <SourceFilename relativeToVRT="0">/vsicurl/https://canelevation-dem.s3.ca-central-1.amazonaws.com/hrdem-lidar/QC-600017_17_Lac_Saint_Jacques_MTM7_2017-1m-dtm.tif</SourceFilename>
      <SourceBand>1</SourceBand>
      <SourceProperties RasterXSize="36726" RasterYSize="66875" DataType="Float32" BlockXSize="512" BlockYSize="512" />
      <SrcRect xOff="0" yOff="21575.203" xSize="36726" ySize="45299.797" />
      <DstRect xOff="573.787000000011" yOff="0" xSize="36726" ySize="45299.797" />
      <NODATA>-32767</NODATA>
    </ComplexSource>
    <ComplexSource>
      <SourceFilename relativeToVRT="0">/vsicurl/https://canelevation-dem.s3.ca-central-1.amazonaws.com/hrdem-lidar/QC-600016_18_Lac_Saint_Jean_Nord_MTM7_2016_2018-1m-dtm.tif</SourceFilename>
      <SourceBand>1</SourceBand>
      <SourceProperties RasterXSize="142325" RasterYSize="85682" DataType="Float32" BlockXSize="512" BlockYSize="512" />
      <SrcRect xOff="40693.213" yOff="0" xSize="94783" ySize="57383.203" />
      <DstRect xOff="0" yOff="51751.797" xSize="94783" ySize="57383.203" />
      <NODATA>-32767</NODATA>
    </ComplexSource>
    <ComplexSource>
      <SourceFilename relativeToVRT="0">/vsicurl/https://canelevation-dem.s3.ca-central-1.amazonaws.com/hrdem-lidar/QC-600019_22_SaguenayLacStJean_MTM7_2019-1m-dtm.tif</SourceFilename>
      <SourceBand>1</SourceBand>
      <SourceProperties RasterXSize="182392" RasterYSize="232863" DataType="Float32" BlockXSize="512" BlockYSize="512" />
      <SrcRect xOff="57049.213" yOff="24259.203" xSize="94783" ySize="109135" />
      <DstRect xOff="0" yOff="0" xSize="94783" ySize="109135" />
      <NODATA>-32767</NODATA>
    </ComplexSource>
    <ComplexSource>
      <SourceFilename relativeToVRT="0">/vsicurl/https://canelevation-dem.s3.ca-central-1.amazonaws.com/hrdem-lidar/QC-600020-28_LacStJeanNord_MTM7_2020-1m-dtm.tif</SourceFilename>
      <SourceBand>1</SourceBand>
      <SourceProperties RasterXSize="92825" RasterYSize="161271" DataType="Float32" BlockXSize="512" BlockYSize="512" />
      <SrcRect xOff="63461.213" yOff="63489.203" xSize="29363.787" ySize="97781.797" />
      <DstRect xOff="0" yOff="0" xSize="29363.787" ySize="97781.797" />
      <NODATA>-32767</NODATA>
    </ComplexSource>
    <ComplexSource>
      <SourceFilename relativeToVRT="0">/vsicurl/https://canelevation-dem.s3.ca-central-1.amazonaws.com/hrdem-lidar/QC-600022_24_Mont_Valin_MTM7_2022-1m-dtm.tif</SourceFilename>
      <SourceBand>1</SourceBand>
      <SourceProperties RasterXSize="107674" RasterYSize="127426" DataType="Float32" BlockXSize="512" BlockYSize="512" />
      <SrcRect xOff="0" yOff="24186.203" xSize="85026.213" ySize="103239.797" />
      <DstRect xOff="9756.78700000001" yOff="0" xSize="85026.213" ySize="103239.797" />
      <NODATA>-32767</NODATA>
    </ComplexSource>
  </VRTRasterBand>
  <OverviewList resampling="nearest">2 4 8 16 32 64 128</OverviewList>
</VRTDataset>
