<VRTDataset rasterXSize="61794" rasterYSize="91304">
  <SRS dataAxisToSRSAxisMapping="1,2">PROJCS["NAD83(CSRS) / Canada Atlas Lambert",GEOGCS["NAD83(CSRS)",DATUM["NAD83_Canadian_Spatial_Reference_System",SPHEROID["GRS 1980",6378137,298.257222101,AUTHORITY["EPSG","7019"]],AUTHORITY["EPSG","6140"]],PRIMEM["Greenwich",0,AUTHORITY["EPSG","8901"]],UNIT["degree",0.0174532925199433,AUTHORITY["EPSG","9122"]],AUTHORITY["EPSG","4617"]],PROJECTION["Lambert_Conformal_Conic_2SP"],PARAMETER["latitude_of_origin",49],PARAMETER["central_meridian",-95],PARAMETER["standard_parallel_1",49],PARAMETER["standard_parallel_2",77],PARAMETER["false_easting",0],PARAMETER["false_northing",0],UNIT["metre",1,AUTHORITY["EPSG","9001"]],AXIS["Easting",EAST],AXIS["Northing",NORTH],AUTHORITY["EPSG","3979"]]</SRS>
  <GeoTransform>  1.6281900940000000e+06,  1.0000000000000000e+00,  0.0000000000000000e+00,  2.7616790100000001e+05,  0.0000000000000000e+00, -1.0000000000000000e+00</GeoTransform>
  <VRTRasterBand dataType="Float32" band="1">
    <NoDataValue>-32767</NoDataValue>
    <ColorInterp>Gray</ColorInterp>
    <ComplexSource>
      <SourceFilename relativeToVRT="0">/vsicurl/https://canelevation-dem.s3.ca-central-1.amazonaws.com/hrdem-lidar/QC-600012-22_LacStJeanOuest_MTM8_2013-1m-dtm.tif</SourceFilename>
      <SourceBand>1</SourceBand>
      <SourceProperties RasterXSize="91779" RasterYSize="69670" DataType="Float32" BlockXSize="512" BlockYSize="512" />
      <SrcRect xOff="40631.094" yOff="20148.099" xSize="51147.906" ySize="49521.901" />
      <DstRect xOff="0" yOff="0" xSize="51147.906" ySize="49521.901" />
      <NODATA>-32767</NODATA>
    </ComplexSource>
    <ComplexSource>
      <SourceFilename relativeToVRT="0">/vsicurl/https://canelevation-dem.s3.ca-central-1.amazonaws.com/hrdem-lidar/QC-600012-22_LacStJeanOuest_MTM7_2013-1m-dtm.tif</SourceFilename>
      <SourceBand>1</SourceBand>
      <SourceProperties RasterXSize="53971" RasterYSize="44726" DataType="Float32" BlockXSize="512" BlockYSize="512" />
      <SrcRect xOff="0" yOff="0" xSize="29095.094" ySize="44726" />
      <DstRect xOff="32698.906" yOff="6094.90100000001" xSize="29095.094" ySize="44726" />
      <NODATA>-32767</NODATA>
    </ComplexSource>
    <ComplexSource>
      <SourceFilename relativeToVRT="0">/vsicurl/https://canelevation-dem.s3.ca-central-1.amazonaws.com/hrdem-lidar/QC-600017-18_SOR_2017-1m-dtm.tif</SourceFilename>
      <SourceBand>1</SourceBand>
      <SourceProperties RasterXSize="118136" RasterYSize="95176" DataType="Float32" BlockXSize="512" BlockYSize="512" />
      <SrcRect xOff="56647.094" yOff="0" xSize="61488.906" ySize="73525.099" />
      <DstRect xOff="0" yOff="17778.901" xSize="61488.906" ySize="73525.099" />
      <NODATA>-32767</NODATA>
    </ComplexSource>
    <ComplexSource>
      <SourceFilename relativeToVRT="0">/vsicurl/https://canelevation-dem.s3.ca-central-1.amazonaws.com/hrdem-lidar/QC-600016_18_Lac_Saint_Jean_Nord_MTM8_2016_2018-1m-dtm.tif</SourceFilename>
      <SourceBand>1</SourceBand>
      <SourceProperties RasterXSize="80761" RasterYSize="75890" DataType="Float32" BlockXSize="512" BlockYSize="512" />
      <SrcRect xOff="37434.094" yOff="58050.099" xSize="43326.906" ySize="17839.901" />
      <DstRect xOff="0" yOff="0" xSize="43326.906" ySize="17839.901" />
      <NODATA>-32767</NODATA>
    </ComplexSource>
    <ComplexSource>
      <SourceFilename relativeToVRT="0">/vsicurl/https://canelevation-dem.s3.ca-central-1.amazonaws.com/hrdem-lidar/QC-600016_18_Lac_Saint_Jean_Nord_MTM7_2016_2018-1m-dtm.tif</SourceFilename>
      <SourceBand>1</SourceBand>
      <SourceProperties RasterXSize="142325" RasterYSize="85682" DataType="Float32" BlockXSize="512" BlockYSize="512" />
      <SrcRect xOff="0" yOff="45237.099" xSize="58153.094" ySize="40444.901" />
      <DstRect xOff="3640.90599999996" yOff="0" xSize="58153.094" ySize="40444.901" />
      <NODATA>-32767</NODATA>
    </ComplexSource>
    <ComplexSource>
      <SourceFilename relativeToVRT="0">/vsicurl/https://canelevation-dem.s3.ca-central-1.amazonaws.com/hrdem-lidar/QC-600018-18_LidarDIF_Mauricie_MTM8_2018-1m-dtm.tif</SourceFilename>
      <SourceBand>1</SourceBand>
      <SourceProperties RasterXSize="244387" RasterYSize="190588" DataType="Float32" BlockXSize="512" BlockYSize="512" />
      <SrcRect xOff="164526.094" yOff="0" xSize="61794" ySize="41860.099" />
      <DstRect xOff="0" yOff="49443.901" xSize="61794" ySize="41860.099" />
      <NODATA>-32767</NODATA>
    </ComplexSource>
    <ComplexSource>
      <SourceFilename relativeToVRT="0">/vsicurl/https://canelevation-dem.s3.ca-central-1.amazonaws.com/hrdem-lidar/QC-600019_22_SaguenayLacStJean_MTM8_2019-1m-dtm.tif</SourceFilename>
      <SourceBand>1</SourceBand>
      <SourceProperties RasterXSize="117161" RasterYSize="192197" DataType="Float32" BlockXSize="512" BlockYSize="512" />
      <SrcRect xOff="43722.094" yOff="82000.099" xSize="61794" ySize="91304" />
      <DstRect xOff="0" yOff="0" xSize="61794" ySize="91304" />
      <NODATA>-32767</NODATA>
    </ComplexSource>
    <ComplexSource>
      <SourceFilename relativeToVRT="0">/vsicurl/https://canelevation-dem.s3.ca-central-1.amazonaws.com/hrdem-lidar/QC-600019_22_SaguenayLacStJean_MTM7_2019-1m-dtm.tif</SourceFilename>
      <SourceBand>1</SourceBand>
      <SourceProperties RasterXSize="182392" RasterYSize="232863" DataType="Float32" BlockXSize="512" BlockYSize="512" />
      <SrcRect xOff="12715.094" yOff="121248.099" xSize="61794" ySize="91304" />
      <DstRect xOff="0" yOff="0" xSize="61794" ySize="91304" />
      <NODATA>-32767</NODATA>
    </ComplexSource>
  </VRTRasterBand>
  <OverviewList resampling="nearest">2 4 8 16 32 64 128</OverviewList>
</VRTDataset>
