<VRTDataset rasterXSize="74360" rasterYSize="112904">
  <SRS dataAxisToSRSAxisMapping="1,2">PROJCS["NAD83(CSRS) / Canada Atlas Lambert",GEOGCS["NAD83(CSRS)",DATUM["NAD83_Canadian_Spatial_Reference_System",SPHEROID["GRS 1980",6378137,298.257222101,AUTHORITY["EPSG","7019"]],AUTHORITY["EPSG","6140"]],PRIMEM["Greenwich",0,AUTHORITY["EPSG","8901"]],UNIT["degree",0.0174532925199433,AUTHORITY["EPSG","9122"]],AUTHORITY["EPSG","4617"]],PROJECTION["Lambert_Conformal_Conic_2SP"],PARAMETER["latitude_of_origin",49],PARAMETER["central_meridian",-95],PARAMETER["standard_parallel_1",49],PARAMETER["standard_parallel_2",77],PARAMETER["false_easting",0],PARAMETER["false_northing",0],UNIT["metre",1,AUTHORITY["EPSG","9001"]],AXIS["Easting",EAST],AXIS["Northing",NORTH],AUTHORITY["EPSG","3979"]]</SRS>
  <GeoTransform>  1.6365081050000000e+06,  1.0000000000000000e+00,  0.0000000000000000e+00,  3.8281697999999998e+05,  0.0000000000000000e+00, -1.0000000000000000e+00</GeoTransform>
  <VRTRasterBand dataType="Float32" band="1">
    <NoDataValue>-32767</NoDataValue>
    <ColorInterp>Gray</ColorInterp>
    <ComplexSource>
      <SourceFilename relativeToVRT="0">/vsicurl/https://canelevation-dem.s3.ca-central-1.amazonaws.com/hrdem-lidar/QC-R02_2013_F07_UG24-1m-dtm.tif</SourceFilename>
      <SourceBand>1</SourceBand>
      <SourceProperties RasterXSize="97356" RasterYSize="59141" DataType="Float32" BlockXSize="512" BlockYSize="512" />
      <SrcRect xOff="10992.105" yOff="0" xSize="74360" ySize="59141" />
      <DstRect xOff="0" yOff="41843.98" xSize="74360" ySize="59141" />
      <NODATA>-32767</NODATA>
    </ComplexSource>
    <ComplexSource>
      <SourceFilename relativeToVRT="0">/vsicurl/https://canelevation-dem.s3.ca-central-1.amazonaws.com/hrdem-lidar/QC-R02_2013_F07_2451-1m-dtm.tif</SourceFilename>
      <SourceBand>1</SourceBand>
      <SourceProperties RasterXSize="104508" RasterYSize="188735" DataType="Float32" BlockXSize="512" BlockYSize="512" />
      <SrcRect xOff="39128.105" yOff="81293.02" xSize="65379.895" ySize="107441.98" />
      <DstRect xOff="0" yOff="0" xSize="65379.895" ySize="107441.98" />
      <NODATA>-32767</NODATA>
    </ComplexSource>
    <ComplexSource>
      <SourceFilename relativeToVRT="0">/vsicurl/https://canelevation-dem.s3.ca-central-1.amazonaws.com/hrdem-lidar/QC-600016-08_SOR_2016-1m-dtm.tif</SourceFilename>
      <SourceBand>1</SourceBand>
      <SourceProperties RasterXSize="107674" RasterYSize="132667" DataType="Float32" BlockXSize="512" BlockYSize="512" />
      <SrcRect xOff="0" yOff="19767.02" xSize="28587.105" ySize="112899.98" />
      <DstRect xOff="45772.895" yOff="0" xSize="28587.105" ySize="112899.98" />
      <NODATA>-32767</NODATA>
    </ComplexSource>
    <ComplexSource>
      <SourceFilename relativeToVRT="0">/vsicurl/https://canelevation-dem.s3.ca-central-1.amazonaws.com/hrdem-lidar/QC-600017_17_Lac_Saint_Jacques_MTM7_2017-1m-dtm.tif</SourceFilename>
      <SourceBand>1</SourceBand>
      <SourceProperties RasterXSize="36726" RasterYSize="66875" DataType="Float32" BlockXSize="512" BlockYSize="512" />
      <SrcRect xOff="0" yOff="11915.02" xSize="36726" ySize="54959.98" />
      <DstRect xOff="36589.895" yOff="0" xSize="36726" ySize="54959.98" />
      <NODATA>-32767</NODATA>
    </ComplexSource>
    <ComplexSource>
      <SourceFilename relativeToVRT="0">/vsicurl/https://canelevation-dem.s3.ca-central-1.amazonaws.com/hrdem-lidar/QC-600016_18_Lac_Saint_Jean_Nord_MTM8_2016_2018-1m-dtm.tif</SourceFilename>
      <SourceBand>1</SourceBand>
      <SourceProperties RasterXSize="80761" RasterYSize="75890" DataType="Float32" BlockXSize="512" BlockYSize="512" />
      <SrcRect xOff="45752.105" yOff="0" xSize="35008.895" ySize="64305.02" />
      <DstRect xOff="0" yOff="48598.98" xSize="35008.895" ySize="64305.02" />
      <NODATA>-32767</NODATA>
    </ComplexSource>
    <ComplexSource>
      <SourceFilename relativeToVRT="0">/vsicurl/https://canelevation-dem.s3.ca-central-1.amazonaws.com/hrdem-lidar/QC-600016_18_Lac_Saint_Jean_Nord_MTM7_2016_2018-1m-dtm.tif</SourceFilename>
      <SourceBand>1</SourceBand>
      <SourceProperties RasterXSize="142325" RasterYSize="85682" DataType="Float32" BlockXSize="512" BlockYSize="512" />
      <SrcRect xOff="4677.10499999998" yOff="0" xSize="74360" ySize="51492.02" />
      <DstRect xOff="0" yOff="61411.98" xSize="74360" ySize="51492.02" />
      <NODATA>-32767</NODATA>
    </ComplexSource>
    <ComplexSource>
      <SourceFilename relativeToVRT="0">/vsicurl/https://canelevation-dem.s3.ca-central-1.amazonaws.com/hrdem-lidar/QC-600019_22_SaguenayLacStJean_MTM8_2019-1m-dtm.tif</SourceFilename>
      <SourceBand>1</SourceBand>
      <SourceProperties RasterXSize="117161" RasterYSize="192197" DataType="Float32" BlockXSize="512" BlockYSize="512" />
      <SrcRect xOff="52040.105" yOff="0" xSize="65120.895" ySize="88255.02" />
      <DstRect xOff="0" yOff="24648.98" xSize="65120.895" ySize="88255.02" />
      <NODATA>-32767</NODATA>
    </ComplexSource>
    <ComplexSource>
      <SourceFilename relativeToVRT="0">/vsicurl/https://canelevation-dem.s3.ca-central-1.amazonaws.com/hrdem-lidar/QC-600019_22_SaguenayLacStJean_MTM7_2019-1m-dtm.tif</SourceFilename>
      <SourceBand>1</SourceBand>
      <SourceProperties RasterXSize="182392" RasterYSize="232863" DataType="Float32" BlockXSize="512" BlockYSize="512" />
      <SrcRect xOff="21033.105" yOff="14599.02" xSize="74360" ySize="112904" />
      <DstRect xOff="0" yOff="0" xSize="74360" ySize="112904" />
      <NODATA>-32767</NODATA>
    </ComplexSource>
    <ComplexSource>
      <SourceFilename relativeToVRT="0">/vsicurl/https://canelevation-dem.s3.ca-central-1.amazonaws.com/hrdem-lidar/QC-600018_19_20_Lac_Onistagane_MTM7_2018-1m-dtm.tif</SourceFilename>
      <SourceBand>1</SourceBand>
      <SourceProperties RasterXSize="118553" RasterYSize="226269" DataType="Float32" BlockXSize="512" BlockYSize="512" />
      <SrcRect xOff="74129.105" yOff="160953.02" xSize="44423.895" ySize="65315.98" />
      <DstRect xOff="0" yOff="0" xSize="44423.895" ySize="65315.98" />
      <NODATA>-32767</NODATA>
    </ComplexSource>
    <ComplexSource>
      <SourceFilename relativeToVRT="0">/vsicurl/https://canelevation-dem.s3.ca-central-1.amazonaws.com/hrdem-lidar/QC-600019_21_Reservoir_Pipmuacan_MTM7_2019-1m-dtm.tif</SourceFilename>
      <SourceBand>1</SourceBand>
      <SourceProperties RasterXSize="237643" RasterYSize="274245" DataType="Float32" BlockXSize="512" BlockYSize="512" />
      <SrcRect xOff="97426.105" yOff="250745.02" xSize="74360" ySize="23499.98" />
      <DstRect xOff="0" yOff="0" xSize="74360" ySize="23499.98" />
      <NODATA>-32767</NODATA>
    </ComplexSource>
    <ComplexSource>
      <SourceFilename relativeToVRT="0">/vsicurl/https://canelevation-dem.s3.ca-central-1.amazonaws.com/hrdem-lidar/QC-600020-28_LacStJeanNord_MTM7_2020-1m-dtm.tif</SourceFilename>
      <SourceBand>1</SourceBand>
      <SourceProperties RasterXSize="92825" RasterYSize="161271" DataType="Float32" BlockXSize="512" BlockYSize="512" />
      <SrcRect xOff="27445.105" yOff="53829.02" xSize="65379.895" ySize="107441.98" />
      <DstRect xOff="0" yOff="0" xSize="65379.895" ySize="107441.98" />
      <NODATA>-32767</NODATA>
    </ComplexSource>
    <ComplexSource>
      <SourceFilename relativeToVRT="0">/vsicurl/https://canelevation-dem.s3.ca-central-1.amazonaws.com/hrdem-lidar/QC-600021_28_Lac_Peribonka_MTM7_2021-1m-dtm.tif</SourceFilename>
      <SourceBand>1</SourceBand>
      <SourceProperties RasterXSize="134254" RasterYSize="322842" DataType="Float32" BlockXSize="512" BlockYSize="512" />
      <SrcRect xOff="42772.105" yOff="229916.02" xSize="74360" ySize="92925.98" />
      <DstRect xOff="0" yOff="0" xSize="74360" ySize="92925.98" />
      <NODATA>-32767</NODATA>
    </ComplexSource>
    <ComplexSource>
      <SourceFilename relativeToVRT="0">/vsicurl/https://canelevation-dem.s3.ca-central-1.amazonaws.com/hrdem-lidar/QC-600022_24_Mont_Valin_MTM7_2022-1m-dtm.tif</SourceFilename>
      <SourceBand>1</SourceBand>
      <SourceProperties RasterXSize="107674" RasterYSize="127426" DataType="Float32" BlockXSize="512" BlockYSize="512" />
      <SrcRect xOff="0" yOff="14526.02" xSize="28587.105" ySize="112899.98" />
      <DstRect xOff="45772.895" yOff="0" xSize="28587.105" ySize="112899.98" />
      <NODATA>-32767</NODATA>
    </ComplexSource>
  </VRTRasterBand>
  <OverviewList resampling="nearest">2 4 8 16 32 64 128</OverviewList>
</VRTDataset>
