<VRTDataset rasterXSize="77503" rasterYSize="157545">
  <SRS dataAxisToSRSAxisMapping="1,2">PROJCS["NAD83(CSRS) / Canada Atlas Lambert",GEOGCS["NAD83(CSRS)",DATUM["NAD83_Canadian_Spatial_Reference_System",SPHEROID["GRS 1980",6378137,298.257222101,AUTHORITY["EPSG","7019"]],AUTHORITY["EPSG","6140"]],PRIMEM["Greenwich",0,AUTHORITY["EPSG","8901"]],UNIT["degree",0.0174532925199433,AUTHORITY["EPSG","9122"]],AUTHORITY["EPSG","4617"]],PROJECTION["Lambert_Conformal_Conic_2SP"],PARAMETER["latitude_of_origin",49],PARAMETER["central_meridian",-95],PARAMETER["standard_parallel_1",49],PARAMETER["standard_parallel_2",77],PARAMETER["false_easting",0],PARAMETER["false_northing",0],UNIT["metre",1,AUTHORITY["EPSG","9001"]],AXIS["Easting",EAST],AXIS["Northing",NORTH],AUTHORITY["EPSG","3979"]]</SRS>
  <GeoTransform>  1.6048273000000000e+06,  1.0000000000000000e+00,  0.0000000000000000e+00,  5.1806848400000000e+05,  0.0000000000000000e+00, -1.0000000000000000e+00</GeoTransform>
  <VRTRasterBand dataType="Float32" band="1">
    <NoDataValue>-32767</NoDataValue>
    <ColorInterp>Gray</ColorInterp>
    <ComplexSource>
      <SourceFilename relativeToVRT="0">/vsicurl/https://canelevation-dem.s3.ca-central-1.amazonaws.com/hrdem-lidar/QC-R02_2013_F07_2451-1m-dtm.tif</SourceFilename>
      <SourceBand>1</SourceBand>
      <SourceProperties RasterXSize="104508" RasterYSize="188735" DataType="Float32" BlockXSize="512" BlockYSize="512" />
      <SrcRect xOff="7447.30000000005" yOff="0" xSize="77503" ySize="103586.516" />
      <DstRect xOff="0" yOff="53958.484" xSize="77503" ySize="103586.516" />
      <NODATA>-32767</NODATA>
    </ComplexSource>
    <ComplexSource>
      <SourceFilename relativeToVRT="0">/vsicurl/https://canelevation-dem.s3.ca-central-1.amazonaws.com/hrdem-lidar/QC-600013_20_Lac_Manouane_MTM7_2013-1m-dtm.tif</SourceFilename>
      <SourceBand>1</SourceBand>
      <SourceProperties RasterXSize="92544" RasterYSize="148668" DataType="Float32" BlockXSize="512" BlockYSize="512" />
      <SrcRect xOff="17627.3" yOff="62138.516" xSize="74916.7" ySize="86529.484" />
      <DstRect xOff="0" yOff="0" xSize="74916.7" ySize="86529.484" />
      <NODATA>-32767</NODATA>
    </ComplexSource>
    <ComplexSource>
      <SourceFilename relativeToVRT="0">/vsicurl/https://canelevation-dem.s3.ca-central-1.amazonaws.com/hrdem-lidar/QC-600017_17_Riviere_Manouane_MTM7_2017-1m-dtm.tif</SourceFilename>
      <SourceBand>1</SourceBand>
      <SourceProperties RasterXSize="83695" RasterYSize="92813" DataType="Float32" BlockXSize="512" BlockYSize="512" />
      <SrcRect xOff="0" yOff="0" xSize="39183.3" ySize="92813" />
      <DstRect xOff="38319.7" yOff="3017.484" xSize="39183.3" ySize="92813" />
      <NODATA>-32767</NODATA>
    </ComplexSource>
    <ComplexSource>
      <SourceFilename relativeToVRT="0">/vsicurl/https://canelevation-dem.s3.ca-central-1.amazonaws.com/hrdem-lidar/QC-600019_22_SaguenayLacStJean_MTM7_2019-1m-dtm.tif</SourceFilename>
      <SourceBand>1</SourceBand>
      <SourceProperties RasterXSize="182392" RasterYSize="232863" DataType="Float32" BlockXSize="512" BlockYSize="512" />
      <SrcRect xOff="0" yOff="0" xSize="66855.3" ySize="36892.516" />
      <DstRect xOff="10647.7" yOff="120652.484" xSize="66855.3" ySize="36892.516" />
      <NODATA>-32767</NODATA>
    </ComplexSource>
    <ComplexSource>
      <SourceFilename relativeToVRT="0">/vsicurl/https://canelevation-dem.s3.ca-central-1.amazonaws.com/hrdem-lidar/QC-600018_19_20_Lac_Perdu_MTM7_2018-1m-dtm.tif</SourceFilename>
      <SourceBand>1</SourceBand>
      <SourceProperties RasterXSize="83613" RasterYSize="207848" DataType="Float32" BlockXSize="512" BlockYSize="512" />
      <SrcRect xOff="0" yOff="54395.516" xSize="35274.3" ySize="153452.484" />
      <DstRect xOff="42228.7" yOff="0" xSize="35274.3" ySize="153452.484" />
      <NODATA>-32767</NODATA>
    </ComplexSource>
    <ComplexSource>
      <SourceFilename relativeToVRT="0">/vsicurl/https://canelevation-dem.s3.ca-central-1.amazonaws.com/hrdem-lidar/QC-600018_19_20_Lac_Onistagane_MTM7_2018-1m-dtm.tif</SourceFilename>
      <SourceBand>1</SourceBand>
      <SourceProperties RasterXSize="118553" RasterYSize="226269" DataType="Float32" BlockXSize="512" BlockYSize="512" />
      <SrcRect xOff="42448.3" yOff="25701.516" xSize="76104.7" ySize="157545" />
      <DstRect xOff="0" yOff="0" xSize="76104.7" ySize="157545" />
      <NODATA>-32767</NODATA>
    </ComplexSource>
    <ComplexSource>
      <SourceFilename relativeToVRT="0">/vsicurl/https://canelevation-dem.s3.ca-central-1.amazonaws.com/hrdem-lidar/QC-600019_21_Reservoir_Pipmuacan_MTM7_2019-1m-dtm.tif</SourceFilename>
      <SourceBand>1</SourceBand>
      <SourceProperties RasterXSize="237643" RasterYSize="274245" DataType="Float32" BlockXSize="512" BlockYSize="512" />
      <SrcRect xOff="65745.3" yOff="115493.516" xSize="77503" ySize="157545" />
      <DstRect xOff="0" yOff="0" xSize="77503" ySize="157545" />
      <NODATA>-32767</NODATA>
    </ComplexSource>
    <ComplexSource>
      <SourceFilename relativeToVRT="0">/vsicurl/https://canelevation-dem.s3.ca-central-1.amazonaws.com/hrdem-lidar/QC-600020-28_LacStJeanNord_MTM7_2020-1m-dtm.tif</SourceFilename>
      <SourceBand>1</SourceBand>
      <SourceProperties RasterXSize="92825" RasterYSize="161271" DataType="Float32" BlockXSize="512" BlockYSize="512" />
      <SrcRect xOff="0" yOff="0" xSize="73267.3" ySize="76122.516" />
      <DstRect xOff="4235.69999999995" yOff="81422.484" xSize="73267.3" ySize="76122.516" />
      <NODATA>-32767</NODATA>
    </ComplexSource>
    <ComplexSource>
      <SourceFilename relativeToVRT="0">/vsicurl/https://canelevation-dem.s3.ca-central-1.amazonaws.com/hrdem-lidar/QC-600020_06_Nord-du-Quebec_MTM07_2020-1m-dtm.tif</SourceFilename>
      <SourceBand>1</SourceBand>
      <SourceProperties RasterXSize="210708" RasterYSize="253355" DataType="Float32" BlockXSize="512" BlockYSize="512" />
      <SrcRect xOff="70301.3" yOff="102481.516" xSize="77503" ySize="150873.484" />
      <DstRect xOff="0" yOff="0" xSize="77503" ySize="150873.484" />
      <NODATA>-32767</NODATA>
    </ComplexSource>
    <ComplexSource>
      <SourceFilename relativeToVRT="0">/vsicurl/https://canelevation-dem.s3.ca-central-1.amazonaws.com/hrdem-lidar/QC-600021_28_Lac_Peribonka_MTM7_2021-1m-dtm.tif</SourceFilename>
      <SourceBand>1</SourceBand>
      <SourceProperties RasterXSize="134254" RasterYSize="322842" DataType="Float32" BlockXSize="512" BlockYSize="512" />
      <SrcRect xOff="11091.3" yOff="94664.516" xSize="77503" ySize="157545" />
      <DstRect xOff="0" yOff="0" xSize="77503" ySize="157545" />
      <NODATA>-32767</NODATA>
    </ComplexSource>
    <ComplexSource>
      <SourceFilename relativeToVRT="0">/vsicurl/https://canelevation-dem.s3.ca-central-1.amazonaws.com/hrdem-lidar/QC-600023_30_Lac_Piacouadie_MTM7_2023-1m-dtm.tif</SourceFilename>
      <SourceBand>1</SourceBand>
      <SourceProperties RasterXSize="110906" RasterYSize="206409" DataType="Float32" BlockXSize="512" BlockYSize="512" />
      <SrcRect xOff="9837.30000000005" yOff="62138.516" xSize="77503" ySize="144270.484" />
      <DstRect xOff="0" yOff="0" xSize="77503" ySize="144270.484" />
      <NODATA>-32767</NODATA>
    </ComplexSource>
  </VRTRasterBand>
  <OverviewList resampling="nearest">2 4 8 16 32 64 128 256</OverviewList>
</VRTDataset>
