<VRTDataset rasterXSize="54321" rasterYSize="59643">
  <SRS dataAxisToSRSAxisMapping="1,2">PROJCS["NAD83(CSRS) / Canada Atlas Lambert",GEOGCS["NAD83(CSRS)",DATUM["NAD83_Canadian_Spatial_Reference_System",SPHEROID["GRS 1980",6378137,298.257222101,AUTHORITY["EPSG","7019"]],AUTHORITY["EPSG","6140"]],PRIMEM["Greenwich",0,AUTHORITY["EPSG","8901"]],UNIT["degree",0.0174532925199433,AUTHORITY["EPSG","9122"]],AUTHORITY["EPSG","4617"]],PROJECTION["Lambert_Conformal_Conic_2SP"],PARAMETER["latitude_of_origin",49],PARAMETER["central_meridian",-95],PARAMETER["standard_parallel_1",49],PARAMETER["standard_parallel_2",77],PARAMETER["false_easting",0],PARAMETER["false_northing",0],UNIT["metre",1,AUTHORITY["EPSG","9001"]],AXIS["Easting",EAST],AXIS["Northing",NORTH],AUTHORITY["EPSG","3979"]]</SRS>
  <GeoTransform>  2.0501748170000000e+06,  1.0000000000000000e+00,  0.0000000000000000e+00,  5.2197867400000000e+05,  0.0000000000000000e+00, -1.0000000000000000e+00</GeoTransform>
  <VRTRasterBand dataType="Float32" band="1">
    <NoDataValue>-32767</NoDataValue>
    <ColorInterp>Gray</ColorInterp>
    <ComplexSource>
      <SourceFilename relativeToVRT="0">/vsicurl/https://canelevation-dem.s3.ca-central-1.amazonaws.com/hrdem-lidar/QC-600018_27_RisquesNaturels_Gaspesie_B_MTM5_2018-1m-dtm.tif</SourceFilename>
      <SourceBand>1</SourceBand>
      <SourceProperties RasterXSize="77843" RasterYSize="54512" DataType="Float32" BlockXSize="512" BlockYSize="512" />
      <SrcRect xOff="16912.817" yOff="2504.326" xSize="54321" ySize="52007.674" />
      <DstRect xOff="0" yOff="0" xSize="54321" ySize="52007.674" />
      <NODATA>-32767</NODATA>
    </ComplexSource>
    <ComplexSource>
      <SourceFilename relativeToVRT="0">/vsicurl/https://canelevation-dem.s3.ca-central-1.amazonaws.com/hrdem-lidar/QC-600018_27_RisquesNaturels_Gaspesie_A_MTM5_2018_19-1m-dtm.tif</SourceFilename>
      <SourceBand>1</SourceBand>
      <SourceProperties RasterXSize="152952" RasterYSize="64485" DataType="Float32" BlockXSize="512" BlockYSize="512" />
      <SrcRect xOff="20949.817" yOff="21622.326" xSize="54321" ySize="42862.674" />
      <DstRect xOff="0" yOff="0" xSize="54321" ySize="42862.674" />
      <NODATA>-32767</NODATA>
    </ComplexSource>
    <ComplexSource>
      <SourceFilename relativeToVRT="0">/vsicurl/https://canelevation-dem.s3.ca-central-1.amazonaws.com/hrdem-lidar/QC-600018_28_Gaspesie_MTM6_2018_20-1m-dtm.tif</SourceFilename>
      <SourceBand>1</SourceBand>
      <SourceProperties RasterXSize="104567" RasterYSize="108367" DataType="Float32" BlockXSize="512" BlockYSize="512" />
      <SrcRect xOff="58610.817" yOff="0" xSize="45956.183" ySize="33564.326" />
      <DstRect xOff="0" yOff="26078.674" xSize="45956.183" ySize="33564.326" />
      <NODATA>-32767</NODATA>
    </ComplexSource>
    <ComplexSource>
      <SourceFilename relativeToVRT="0">/vsicurl/https://canelevation-dem.s3.ca-central-1.amazonaws.com/hrdem-lidar/QC-600018_28_Gaspesie_MTM5_2018_20-1m-dtm.tif</SourceFilename>
      <SourceBand>1</SourceBand>
      <SourceProperties RasterXSize="114523" RasterYSize="122980" DataType="Float32" BlockXSize="512" BlockYSize="512" />
      <SrcRect xOff="12874.817" yOff="0" xSize="54321" ySize="50138.326" />
      <DstRect xOff="0" yOff="9504.674" xSize="54321" ySize="50138.326" />
      <NODATA>-32767</NODATA>
    </ComplexSource>
    <ComplexSource>
      <SourceFilename relativeToVRT="0">/vsicurl/https://canelevation-dem.s3.ca-central-1.amazonaws.com/hrdem-lidar/QC-600020_09_Gaspesie_MTM5_2020_21_B-1m-dtm.tif</SourceFilename>
      <SourceBand>1</SourceBand>
      <SourceProperties RasterXSize="99791" RasterYSize="139130" DataType="Float32" BlockXSize="512" BlockYSize="512" />
      <SrcRect xOff="0" yOff="17635.326" xSize="16491.817" ySize="59643" />
      <DstRect xOff="37829.183" yOff="0" xSize="16491.817" ySize="59643" />
      <NODATA>-32767</NODATA>
    </ComplexSource>
    <ComplexSource>
      <SourceFilename relativeToVRT="0">/vsicurl/https://canelevation-dem.s3.ca-central-1.amazonaws.com/hrdem-lidar/QC-600020_09_Gaspesie_MTM5_2020_21_A-1m-dtm.tif</SourceFilename>
      <SourceBand>1</SourceBand>
      <SourceProperties RasterXSize="110098" RasterYSize="121434" DataType="Float32" BlockXSize="512" BlockYSize="512" />
      <SrcRect xOff="5366.81700000004" yOff="0" xSize="54321" ySize="48592.326" />
      <DstRect xOff="0" yOff="11050.674" xSize="54321" ySize="48592.326" />
      <NODATA>-32767</NODATA>
    </ComplexSource>
  </VRTRasterBand>
  <OverviewList resampling="nearest">2 4 8 16 32 64 128</OverviewList>
</VRTDataset>
