<VRTDataset rasterXSize="51173" rasterYSize="57575">
  <SRS dataAxisToSRSAxisMapping="1,2">PROJCS["NAD83(CSRS) / Canada Atlas Lambert",GEOGCS["NAD83(CSRS)",DATUM["NAD83_Canadian_Spatial_Reference_System",SPHEROID["GRS 1980",6378137,298.257222101,AUTHORITY["EPSG","7019"]],AUTHORITY["EPSG","6140"]],PRIMEM["Greenwich",0,AUTHORITY["EPSG","8901"]],UNIT["degree",0.0174532925199433,AUTHORITY["EPSG","9122"]],AUTHORITY["EPSG","4617"]],PROJECTION["Lambert_Conformal_Conic_2SP"],PARAMETER["latitude_of_origin",49],PARAMETER["central_meridian",-95],PARAMETER["standard_parallel_1",49],PARAMETER["standard_parallel_2",77],PARAMETER["false_easting",0],PARAMETER["false_northing",0],UNIT["metre",1,AUTHORITY["EPSG","9001"]],AXIS["Easting",EAST],AXIS["Northing",NORTH],AUTHORITY["EPSG","3979"]]</SRS>
  <GeoTransform>  2.0078867339999999e+06,  1.0000000000000000e+00,  0.0000000000000000e+00,  5.0496976100000000e+05,  0.0000000000000000e+00, -1.0000000000000000e+00</GeoTransform>
  <VRTRasterBand dataType="Float32" band="1">
    <NoDataValue>-32767</NoDataValue>
    <ColorInterp>Gray</ColorInterp>
    <ComplexSource>
      <SourceFilename relativeToVRT="0">/vsicurl/https://canelevation-dem.s3.ca-central-1.amazonaws.com/hrdem-lidar/QC-600018_27_RisquesNaturels_Gaspesie_B_MTM5_2018-1m-dtm.tif</SourceFilename>
      <SourceBand>1</SourceBand>
      <SourceProperties RasterXSize="77843" RasterYSize="54512" DataType="Float32" BlockXSize="512" BlockYSize="512" />
      <SrcRect xOff="0" yOff="19513.239" xSize="25797.7339999999" ySize="34998.761" />
      <DstRect xOff="25375.2660000001" yOff="0" xSize="25797.7339999999" ySize="34998.761" />
      <NODATA>-32767</NODATA>
    </ComplexSource>
    <ComplexSource>
      <SourceFilename relativeToVRT="0">/vsicurl/https://canelevation-dem.s3.ca-central-1.amazonaws.com/hrdem-lidar/QC-600018_27_RisquesNaturels_Gaspesie_A_MTM6_2019-1m-dtm.tif</SourceFilename>
      <SourceBand>1</SourceBand>
      <SourceProperties RasterXSize="71190" RasterYSize="68068" DataType="Float32" BlockXSize="512" BlockYSize="512" />
      <SrcRect xOff="25474.7339999999" yOff="0" xSize="45715.2660000001" ySize="57293.239" />
      <DstRect xOff="0" yOff="281.760999999999" xSize="45715.2660000001" ySize="57293.239" />
      <NODATA>-32767</NODATA>
    </ComplexSource>
    <ComplexSource>
      <SourceFilename relativeToVRT="0">/vsicurl/https://canelevation-dem.s3.ca-central-1.amazonaws.com/hrdem-lidar/QC-600018_27_RisquesNaturels_Gaspesie_A_MTM5_2018_19-1m-dtm.tif</SourceFilename>
      <SourceBand>1</SourceBand>
      <SourceProperties RasterXSize="152952" RasterYSize="64485" DataType="Float32" BlockXSize="512" BlockYSize="512" />
      <SrcRect xOff="0" yOff="38631.239" xSize="29834.7339999999" ySize="25853.761" />
      <DstRect xOff="21338.2660000001" yOff="0" xSize="29834.7339999999" ySize="25853.761" />
      <NODATA>-32767</NODATA>
    </ComplexSource>
    <ComplexSource>
      <SourceFilename relativeToVRT="0">/vsicurl/https://canelevation-dem.s3.ca-central-1.amazonaws.com/hrdem-lidar/QC-600018_28_Gaspesie_MTM6_2018_20-1m-dtm.tif</SourceFilename>
      <SourceBand>1</SourceBand>
      <SourceProperties RasterXSize="104567" RasterYSize="108367" DataType="Float32" BlockXSize="512" BlockYSize="512" />
      <SrcRect xOff="16322.7339999999" yOff="0" xSize="51173" ySize="48505.239" />
      <DstRect xOff="0" yOff="9069.761" xSize="51173" ySize="48505.239" />
      <NODATA>-32767</NODATA>
    </ComplexSource>
    <ComplexSource>
      <SourceFilename relativeToVRT="0">/vsicurl/https://canelevation-dem.s3.ca-central-1.amazonaws.com/hrdem-lidar/QC-600018_28_Gaspesie_MTM5_2018_20-1m-dtm.tif</SourceFilename>
      <SourceBand>1</SourceBand>
      <SourceProperties RasterXSize="114523" RasterYSize="122980" DataType="Float32" BlockXSize="512" BlockYSize="512" />
      <SrcRect xOff="0" yOff="7504.239" xSize="21759.7339999999" ySize="57575" />
      <DstRect xOff="29413.2660000001" yOff="0" xSize="21759.7339999999" ySize="57575" />
      <NODATA>-32767</NODATA>
    </ComplexSource>
    <ComplexSource>
      <SourceFilename relativeToVRT="0">/vsicurl/https://canelevation-dem.s3.ca-central-1.amazonaws.com/hrdem-lidar/QC-600020_09_Gaspesie_MTM5_2020_21_A-1m-dtm.tif</SourceFilename>
      <SourceBand>1</SourceBand>
      <SourceProperties RasterXSize="110098" RasterYSize="121434" DataType="Float32" BlockXSize="512" BlockYSize="512" />
      <SrcRect xOff="0" yOff="5958.239" xSize="14251.7339999999" ySize="57575" />
      <DstRect xOff="36921.2660000001" yOff="0" xSize="14251.7339999999" ySize="57575" />
      <NODATA>-32767</NODATA>
    </ComplexSource>
  </VRTRasterBand>
  <OverviewList resampling="nearest">2 4 8 16 32 64 128</OverviewList>
</VRTDataset>
