<VRTDataset rasterXSize="62984" rasterYSize="67176">
  <SRS dataAxisToSRSAxisMapping="1,2">PROJCS["NAD83(CSRS) / Canada Atlas Lambert",GEOGCS["NAD83(CSRS)",DATUM["NAD83_Canadian_Spatial_Reference_System",SPHEROID["GRS 1980",6378137,298.257222101,AUTHORITY["EPSG","7019"]],AUTHORITY["EPSG","6140"]],PRIMEM["Greenwich",0,AUTHORITY["EPSG","8901"]],UNIT["degree",0.0174532925199433,AUTHORITY["EPSG","9122"]],AUTHORITY["EPSG","4617"]],PROJECTION["Lambert_Conformal_Conic_2SP"],PARAMETER["latitude_of_origin",49],PARAMETER["central_meridian",-95],PARAMETER["standard_parallel_1",49],PARAMETER["standard_parallel_2",77],PARAMETER["false_easting",0],PARAMETER["false_northing",0],UNIT["metre",1,AUTHORITY["EPSG","9001"]],AXIS["Easting",EAST],AXIS["Northing",NORTH],AUTHORITY["EPSG","3979"]]</SRS>
  <GeoTransform>  1.9542923640000001e+06,  1.0000000000000000e+00,  0.0000000000000000e+00,  4.4876266999999998e+05,  0.0000000000000000e+00, -1.0000000000000000e+00</GeoTransform>
  <VRTRasterBand dataType="Float32" band="1">
    <NoDataValue>-32767</NoDataValue>
    <ColorInterp>Gray</ColorInterp>
    <ComplexSource>
      <SourceFilename relativeToVRT="0">/vsicurl/https://canelevation-dem.s3.ca-central-1.amazonaws.com/hrdem-lidar/QC-600019_11_Rivieres_Matane_et_Cascapedia_MTM6_2019-1m-dtm.tif</SourceFilename>
      <SourceBand>1</SourceBand>
      <SourceProperties RasterXSize="56787" RasterYSize="71101" DataType="Float32" BlockXSize="512" BlockYSize="512" />
      <SrcRect xOff="9651.36400000006" yOff="0" xSize="47135.6359999999" ySize="64192.33" />
      <DstRect xOff="0" yOff="2983.66999999998" xSize="47135.6359999999" ySize="64192.33" />
      <NODATA>-32767</NODATA>
    </ComplexSource>
    <ComplexSource>
      <SourceFilename relativeToVRT="0">/vsicurl/https://canelevation-dem.s3.ca-central-1.amazonaws.com/hrdem-lidar/QC-600018_27_RisquesNaturels_Gaspesie_A_MTM6_2019-1m-dtm.tif</SourceFilename>
      <SourceBand>1</SourceBand>
      <SourceProperties RasterXSize="71190" RasterYSize="68068" DataType="Float32" BlockXSize="512" BlockYSize="512" />
      <SrcRect xOff="0" yOff="55925.33" xSize="34864.3640000001" ySize="12142.67" />
      <DstRect xOff="28119.6359999999" yOff="0" xSize="34864.3640000001" ySize="12142.67" />
      <NODATA>-32767</NODATA>
    </ComplexSource>
    <ComplexSource>
      <SourceFilename relativeToVRT="0">/vsicurl/https://canelevation-dem.s3.ca-central-1.amazonaws.com/hrdem-lidar/QC-600020_08_Gaspesie_BasStLaurent_MTM6_2020-1m-dtm.tif</SourceFilename>
      <SourceBand>1</SourceBand>
      <SourceProperties RasterXSize="161889" RasterYSize="166537" DataType="Float32" BlockXSize="512" BlockYSize="512" />
      <SrcRect xOff="34336.3640000001" yOff="21209.33" xSize="62984" ySize="67176" />
      <DstRect xOff="0" yOff="0" xSize="62984" ySize="67176" />
      <NODATA>-32767</NODATA>
    </ComplexSource>
    <ComplexSource>
      <SourceFilename relativeToVRT="0">/vsicurl/https://canelevation-dem.s3.ca-central-1.amazonaws.com/hrdem-lidar/QC-600019-54_Prevention_risques_sinistres_2019-1m-dtm.tif</SourceFilename>
      <SourceBand>1</SourceBand>
      <SourceProperties RasterXSize="107254" RasterYSize="125533" DataType="Float32" BlockXSize="512" BlockYSize="512" />
      <SrcRect xOff="57900.3640000001" yOff="10193.33" xSize="49353.6359999999" ySize="67176" />
      <DstRect xOff="0" yOff="0" xSize="49353.6359999999" ySize="67176" />
      <NODATA>-32767</NODATA>
    </ComplexSource>
  </VRTRasterBand>
  <OverviewList resampling="nearest">2 4 8 16 32 64 128</OverviewList>
</VRTDataset>
