<VRTDataset rasterXSize="35362" rasterYSize="48986">
  <SRS dataAxisToSRSAxisMapping="1,2">PROJCS["NAD83(CSRS) / Canada Atlas Lambert",GEOGCS["NAD83(CSRS)",DATUM["NAD83_Canadian_Spatial_Reference_System",SPHEROID["GRS 1980",6378137,298.257222101,AUTHORITY["EPSG","7019"]],AUTHORITY["EPSG","6140"]],PRIMEM["Greenwich",0,AUTHORITY["EPSG","8901"]],UNIT["degree",0.0174532925199433,AUTHORITY["EPSG","9122"]],AUTHORITY["EPSG","4617"]],PROJECTION["Lambert_Conformal_Conic_2SP"],PARAMETER["latitude_of_origin",49],PARAMETER["central_meridian",-95],PARAMETER["standard_parallel_1",49],PARAMETER["standard_parallel_2",77],PARAMETER["false_easting",0],PARAMETER["false_northing",0],UNIT["metre",1,AUTHORITY["EPSG","9001"]],AXIS["Easting",EAST],AXIS["Northing",NORTH],AUTHORITY["EPSG","3979"]]</SRS>
  <GeoTransform>  1.9889079990000001e+06,  1.0000000000000000e+00,  0.0000000000000000e+00,  4.7049665100000001e+05,  0.0000000000000000e+00, -1.0000000000000000e+00</GeoTransform>
  <VRTRasterBand dataType="Float32" band="1">
    <NoDataValue>-32767</NoDataValue>
    <ColorInterp>Gray</ColorInterp>
    <ComplexSource>
      <SourceFilename relativeToVRT="0">/vsicurl/https://canelevation-dem.s3.ca-central-1.amazonaws.com/hrdem-lidar/QC-600018_27_RisquesNaturels_Gaspesie_A_MTM6_2019-1m-dtm.tif</SourceFilename>
      <SourceBand>1</SourceBand>
      <SourceProperties RasterXSize="71190" RasterYSize="68068" DataType="Float32" BlockXSize="512" BlockYSize="512" />
      <SrcRect xOff="6496" yOff="34191.349" xSize="35362" ySize="33876.651" />
      <DstRect xOff="0" yOff="0" xSize="35362" ySize="33876.651" />
      <NODATA>-32767</NODATA>
    </ComplexSource>
    <ComplexSource>
      <SourceFilename relativeToVRT="0">/vsicurl/https://canelevation-dem.s3.ca-central-1.amazonaws.com/hrdem-lidar/QC-600018_28_Gaspesie_MTM6_2018_20-1m-dtm.tif</SourceFilename>
      <SourceBand>1</SourceBand>
      <SourceProperties RasterXSize="104567" RasterYSize="108367" DataType="Float32" BlockXSize="512" BlockYSize="512" />
      <SrcRect xOff="0" yOff="25403.349" xSize="32706" ySize="48986" />
      <DstRect xOff="2656" yOff="0" xSize="32706" ySize="48986" />
      <NODATA>-32767</NODATA>
    </ComplexSource>
    <ComplexSource>
      <SourceFilename relativeToVRT="0">/vsicurl/https://canelevation-dem.s3.ca-central-1.amazonaws.com/hrdem-lidar/QC-600020_08_Gaspesie_BasStLaurent_MTM6_2020-1m-dtm.tif</SourceFilename>
      <SourceBand>1</SourceBand>
      <SourceProperties RasterXSize="161889" RasterYSize="166537" DataType="Float32" BlockXSize="512" BlockYSize="512" />
      <SrcRect xOff="68952" yOff="0" xSize="35362" ySize="48461.349" />
      <DstRect xOff="0" yOff="524.651000000013" xSize="35362" ySize="48461.349" />
      <NODATA>-32767</NODATA>
    </ComplexSource>
    <ComplexSource>
      <SourceFilename relativeToVRT="0">/vsicurl/https://canelevation-dem.s3.ca-central-1.amazonaws.com/hrdem-lidar/QC-600019-54_Prevention_risques_sinistres_2019-1m-dtm.tif</SourceFilename>
      <SourceBand>1</SourceBand>
      <SourceProperties RasterXSize="107254" RasterYSize="125533" DataType="Float32" BlockXSize="512" BlockYSize="512" />
      <SrcRect xOff="92516" yOff="0" xSize="14738" ySize="37445.349" />
      <DstRect xOff="0" yOff="11540.651" xSize="14738" ySize="37445.349" />
      <NODATA>-32767</NODATA>
    </ComplexSource>
  </VRTRasterBand>
  <OverviewList resampling="nearest">2 4 8 16 32 64 128</OverviewList>
</VRTDataset>
