<VRTDataset rasterXSize="42148" rasterYSize="74865">
  <SRS dataAxisToSRSAxisMapping="1,2">PROJCS["NAD83(CSRS) / Canada Atlas Lambert",GEOGCS["NAD83(CSRS)",DATUM["NAD83_Canadian_Spatial_Reference_System",SPHEROID["GRS 1980",6378137,298.257222101,AUTHORITY["EPSG","7019"]],AUTHORITY["EPSG","6140"]],PRIMEM["Greenwich",0,AUTHORITY["EPSG","8901"]],UNIT["degree",0.0174532925199433,AUTHORITY["EPSG","9122"]],AUTHORITY["EPSG","4617"]],PROJECTION["Lambert_Conformal_Conic_2SP"],PARAMETER["latitude_of_origin",49],PARAMETER["central_meridian",-95],PARAMETER["standard_parallel_1",49],PARAMETER["standard_parallel_2",77],PARAMETER["false_easting",0],PARAMETER["false_northing",0],UNIT["metre",1,AUTHORITY["EPSG","9001"]],AXIS["Easting",EAST],AXIS["Northing",NORTH],AUTHORITY["EPSG","3979"]]</SRS>
  <GeoTransform>  1.8640181429999999e+06,  1.0000000000000000e+00,  0.0000000000000000e+00,  3.0278118199999997e+05,  0.0000000000000000e+00, -1.0000000000000000e+00</GeoTransform>
  <VRTRasterBand dataType="Float32" band="1">
    <NoDataValue>-32767</NoDataValue>
    <ColorInterp>Gray</ColorInterp>
    <ComplexSource>
      <SourceFilename relativeToVRT="0">/vsicurl/https://canelevation-dem.s3.ca-central-1.amazonaws.com/hrdem-lidar/QC-600013-31_BasStLaurent_Charlevoix_MTM7_2013-1m-dtm.tif</SourceFilename>
      <SourceBand>1</SourceBand>
      <SourceProperties RasterXSize="77724" RasterYSize="77936" DataType="Float32" BlockXSize="512" BlockYSize="512" />
      <SrcRect xOff="39790.1429999999" yOff="13455.818" xSize="37933.8570000001" ySize="64480.182" />
      <DstRect xOff="0" yOff="0" xSize="37933.8570000001" ySize="64480.182" />
      <NODATA>-32767</NODATA>
    </ComplexSource>
    <ComplexSource>
      <SourceFilename relativeToVRT="0">/vsicurl/https://canelevation-dem.s3.ca-central-1.amazonaws.com/hrdem-lidar/QC-600013-31_BasStLaurent_Charlevoix_MTM6_2013-1m-dtm.tif</SourceFilename>
      <SourceBand>1</SourceBand>
      <SourceProperties RasterXSize="69597" RasterYSize="96366" DataType="Float32" BlockXSize="512" BlockYSize="512" />
      <SrcRect xOff="0" yOff="74210.818" xSize="34604.1429999999" ySize="22155.182" />
      <DstRect xOff="7543.85700000008" yOff="0" xSize="34604.1429999999" ySize="22155.182" />
      <NODATA>-32767</NODATA>
    </ComplexSource>
    <ComplexSource>
      <SourceFilename relativeToVRT="0">/vsicurl/https://canelevation-dem.s3.ca-central-1.amazonaws.com/hrdem-lidar/QC-600020_07_BasStLaurent-Appalaches_MTM7_2020-1m-dtm.tif</SourceFilename>
      <SourceBand>1</SourceBand>
      <SourceProperties RasterXSize="139285" RasterYSize="339123" DataType="Float32" BlockXSize="512" BlockYSize="512" />
      <SrcRect xOff="65334.1429999999" yOff="4249.81800000003" xSize="42148" ySize="74865" />
      <DstRect xOff="0" yOff="0" xSize="42148" ySize="74865" />
      <NODATA>-32767</NODATA>
    </ComplexSource>
    <ComplexSource>
      <SourceFilename relativeToVRT="0">/vsicurl/https://canelevation-dem.s3.ca-central-1.amazonaws.com/hrdem-lidar/QC-600020_07_BasStLaurent-Appalaches_MTM6_2020-1m-dtm.tif</SourceFilename>
      <SourceBand>1</SourceBand>
      <SourceProperties RasterXSize="94883" RasterYSize="179456" DataType="Float32" BlockXSize="512" BlockYSize="512" />
      <SrcRect xOff="0" yOff="74210.818" xSize="30619.1429999999" ySize="74865" />
      <DstRect xOff="11528.8570000001" yOff="0" xSize="30619.1429999999" ySize="74865" />
      <NODATA>-32767</NODATA>
    </ComplexSource>
    <ComplexSource>
      <SourceFilename relativeToVRT="0">/vsicurl/https://canelevation-dem.s3.ca-central-1.amazonaws.com/hrdem-lidar/QC-600019_55_ChAppalachesBasStLaurent_MTM7_2019_20-1m-dtm.tif</SourceFilename>
      <SourceBand>1</SourceBand>
      <SourceProperties RasterXSize="97646" RasterYSize="186416" DataType="Float32" BlockXSize="512" BlockYSize="512" />
      <SrcRect xOff="75399.1429999999" yOff="0" xSize="22246.8570000001" ySize="57940.818" />
      <DstRect xOff="0" yOff="16924.182" xSize="22246.8570000001" ySize="57940.818" />
      <NODATA>-32767</NODATA>
    </ComplexSource>
  </VRTRasterBand>
  <OverviewList resampling="nearest">2 4 8 16 32 64 128 256</OverviewList>
</VRTDataset>
