<VRTDataset rasterXSize="72205" rasterYSize="53659">
  <SRS dataAxisToSRSAxisMapping="1,2">PROJCS["NAD83(CSRS) / Canada Atlas Lambert",GEOGCS["NAD83(CSRS)",DATUM["NAD83_Canadian_Spatial_Reference_System",SPHEROID["GRS 1980",6378137,298.257222101,AUTHORITY["EPSG","7019"]],AUTHORITY["EPSG","6140"]],PRIMEM["Greenwich",0,AUTHORITY["EPSG","8901"]],UNIT["degree",0.0174532925199433,AUTHORITY["EPSG","9122"]],AUTHORITY["EPSG","4617"]],PROJECTION["Lambert_Conformal_Conic_2SP"],PARAMETER["latitude_of_origin",49],PARAMETER["central_meridian",-95],PARAMETER["standard_parallel_1",49],PARAMETER["standard_parallel_2",77],PARAMETER["false_easting",0],PARAMETER["false_northing",0],UNIT["metre",1,AUTHORITY["EPSG","9001"]],AXIS["Easting",EAST],AXIS["Northing",NORTH],AUTHORITY["EPSG","3979"]]</SRS>
  <GeoTransform>  1.9067737020000000e+06,  1.0000000000000000e+00,  0.0000000000000000e+00,  3.7184846200000000e+05,  0.0000000000000000e+00, -1.0000000000000000e+00</GeoTransform>
  <VRTRasterBand dataType="Float32" band="1">
    <NoDataValue>-32767</NoDataValue>
    <ColorInterp>Gray</ColorInterp>
    <ComplexSource>
      <SourceFilename relativeToVRT="0">/vsicurl/https://canelevation-dem.s3.ca-central-1.amazonaws.com/hrdem-lidar/QC-600013-31_BasStLaurent_Charlevoix_MTM6_2013-1m-dtm.tif</SourceFilename>
      <SourceBand>1</SourceBand>
      <SourceProperties RasterXSize="69597" RasterYSize="96366" DataType="Float32" BlockXSize="512" BlockYSize="512" />
      <SrcRect xOff="35211.702" yOff="5143.538" xSize="34385.298" ySize="53659" />
      <DstRect xOff="0" yOff="0" xSize="34385.298" ySize="53659" />
      <NODATA>-32767</NODATA>
    </ComplexSource>
    <ComplexSource>
      <SourceFilename relativeToVRT="0">/vsicurl/https://canelevation-dem.s3.ca-central-1.amazonaws.com/hrdem-lidar/QC-600020_08_Gaspesie_BasStLaurent_MTM6_2020-1m-dtm.tif</SourceFilename>
      <SourceBand>1</SourceBand>
      <SourceProperties RasterXSize="161889" RasterYSize="166537" DataType="Float32" BlockXSize="512" BlockYSize="512" />
      <SrcRect xOff="0" yOff="98123.538" xSize="59022.702" ySize="53659" />
      <DstRect xOff="13182.298" yOff="0" xSize="59022.702" ySize="53659" />
      <NODATA>-32767</NODATA>
    </ComplexSource>
    <ComplexSource>
      <SourceFilename relativeToVRT="0">/vsicurl/https://canelevation-dem.s3.ca-central-1.amazonaws.com/hrdem-lidar/QC-600020_07_BasStLaurent-Appalaches_MTM6_2020-1m-dtm.tif</SourceFilename>
      <SourceBand>1</SourceBand>
      <SourceProperties RasterXSize="94883" RasterYSize="179456" DataType="Float32" BlockXSize="512" BlockYSize="512" />
      <SrcRect xOff="31226.702" yOff="5143.538" xSize="63656.298" ySize="53659" />
      <DstRect xOff="0" yOff="0" xSize="63656.298" ySize="53659" />
      <NODATA>-32767</NODATA>
    </ComplexSource>
    <ComplexSource>
      <SourceFilename relativeToVRT="0">/vsicurl/https://canelevation-dem.s3.ca-central-1.amazonaws.com/hrdem-lidar/QC-600019-54_Prevention_risques_sinistres_2019-1m-dtm.tif</SourceFilename>
      <SourceBand>1</SourceBand>
      <SourceProperties RasterXSize="107254" RasterYSize="125533" DataType="Float32" BlockXSize="512" BlockYSize="512" />
      <SrcRect xOff="10381.702" yOff="87107.538" xSize="72205" ySize="38425.462" />
      <DstRect xOff="0" yOff="0" xSize="72205" ySize="38425.462" />
      <NODATA>-32767</NODATA>
    </ComplexSource>
  </VRTRasterBand>
  <OverviewList resampling="nearest">2 4 8 16 32 64 128 256</OverviewList>
</VRTDataset>
