<VRTDataset rasterXSize="74060" rasterYSize="58972">
  <SRS dataAxisToSRSAxisMapping="1,2">PROJCS["NAD83(CSRS) / Canada Atlas Lambert",GEOGCS["NAD83(CSRS)",DATUM["NAD83_Canadian_Spatial_Reference_System",SPHEROID["GRS 1980",6378137,298.257222101,AUTHORITY["EPSG","7019"]],AUTHORITY["EPSG","6140"]],PRIMEM["Greenwich",0,AUTHORITY["EPSG","8901"]],UNIT["degree",0.0174532925199433,AUTHORITY["EPSG","9122"]],AUTHORITY["EPSG","4617"]],PROJECTION["Lambert_Conformal_Conic_2SP"],PARAMETER["latitude_of_origin",49],PARAMETER["central_meridian",-95],PARAMETER["standard_parallel_1",49],PARAMETER["standard_parallel_2",77],PARAMETER["false_easting",0],PARAMETER["false_northing",0],UNIT["metre",1,AUTHORITY["EPSG","9001"]],AXIS["Easting",EAST],AXIS["Northing",NORTH],AUTHORITY["EPSG","3979"]]</SRS>
  <GeoTransform>  1.7898313529999999e+06,  1.0000000000000000e+00,  0.0000000000000000e+00,  1.1616423500000000e+05,  0.0000000000000000e+00, -1.0000000000000000e+00</GeoTransform>
  <VRTRasterBand dataType="Float32" band="1">
    <NoDataValue>-32767</NoDataValue>
    <ColorInterp>Gray</ColorInterp>
    <ComplexSource>
      <SourceFilename relativeToVRT="0">/vsicurl/https://canelevation-dem.s3.ca-central-1.amazonaws.com/hrdem-lidar/QC-600011-06_Chaudiere_Appalaches_2011-1m-dtm.tif</SourceFilename>
      <SourceBand>1</SourceBand>
      <SourceProperties RasterXSize="83593" RasterYSize="79478" DataType="Float32" BlockXSize="512" BlockYSize="512" />
      <SrcRect xOff="35937.3529999999" yOff="5799.765" xSize="47655.6470000001" ySize="58972" />
      <DstRect xOff="0" yOff="0" xSize="47655.6470000001" ySize="58972" />
      <NODATA>-32767</NODATA>
    </ComplexSource>
    <ComplexSource>
      <SourceFilename relativeToVRT="0">/vsicurl/https://canelevation-dem.s3.ca-central-1.amazonaws.com/hrdem-lidar/QC-Quebec_Levis_2017-1m-dtm.tif</SourceFilename>
      <SourceBand>1</SourceBand>
      <SourceProperties RasterXSize="61004" RasterYSize="97985" DataType="Float32" BlockXSize="512" BlockYSize="512" />
      <SrcRect xOff="34519.3529999999" yOff="33611.765" xSize="26484.6470000001" ySize="58972" />
      <DstRect xOff="0" yOff="0" xSize="26484.6470000001" ySize="58972" />
      <NODATA>-32767</NODATA>
    </ComplexSource>
    <ComplexSource>
      <SourceFilename relativeToVRT="0">/vsicurl/https://canelevation-dem.s3.ca-central-1.amazonaws.com/hrdem-lidar/QC-600019_10_Chaudiere_Appalaches_2019-1m-dtm.tif</SourceFilename>
      <SourceBand>1</SourceBand>
      <SourceProperties RasterXSize="68927" RasterYSize="92712" DataType="Float32" BlockXSize="512" BlockYSize="512" />
      <SrcRect xOff="0" yOff="53448.765" xSize="58214.3529999999" ySize="39263.235" />
      <DstRect xOff="15845.6470000001" yOff="0" xSize="58214.3529999999" ySize="39263.235" />
      <NODATA>-32767</NODATA>
    </ComplexSource>
    <ComplexSource>
      <SourceFilename relativeToVRT="0">/vsicurl/https://canelevation-dem.s3.ca-central-1.amazonaws.com/hrdem-lidar/QC-Chaudiere_Etchemin_2019-1m-dtm.tif</SourceFilename>
      <SourceBand>1</SourceBand>
      <SourceProperties RasterXSize="138073" RasterYSize="114270" DataType="Float32" BlockXSize="512" BlockYSize="512" />
      <SrcRect xOff="22705.3529999999" yOff="0" xSize="74060" ySize="50179.765" />
      <DstRect xOff="0" yOff="8792.235" xSize="74060" ySize="50179.765" />
      <NODATA>-32767</NODATA>
    </ComplexSource>
    <ComplexSource>
      <SourceFilename relativeToVRT="0">/vsicurl/https://canelevation-dem.s3.ca-central-1.amazonaws.com/hrdem-lidar/QC-600019_55_ChAppalachesBasStLaurent_MTM7_2019_20-1m-dtm.tif</SourceFilename>
      <SourceBand>1</SourceBand>
      <SourceProperties RasterXSize="97646" RasterYSize="186416" DataType="Float32" BlockXSize="512" BlockYSize="512" />
      <SrcRect xOff="1212.35299999989" yOff="169692.765" xSize="74060" ySize="16723.235" />
      <DstRect xOff="0" yOff="0" xSize="74060" ySize="16723.235" />
      <NODATA>-32767</NODATA>
    </ComplexSource>
  </VRTRasterBand>
  <OverviewList resampling="nearest">2 4 8 16 32 64 128</OverviewList>
</VRTDataset>
