<VRTDataset rasterXSize="50922" rasterYSize="69777">
  <SRS dataAxisToSRSAxisMapping="1,2">PROJCS["NAD83(CSRS) / Canada Atlas Lambert",GEOGCS["NAD83(CSRS)",DATUM["NAD83_Canadian_Spatial_Reference_System",SPHEROID["GRS 1980",6378137,298.257222101,AUTHORITY["EPSG","7019"]],AUTHORITY["EPSG","6140"]],PRIMEM["Greenwich",0,AUTHORITY["EPSG","8901"]],UNIT["degree",0.0174532925199433,AUTHORITY["EPSG","9122"]],AUTHORITY["EPSG","4617"]],PROJECTION["Lambert_Conformal_Conic_2SP"],PARAMETER["latitude_of_origin",49],PARAMETER["central_meridian",-95],PARAMETER["standard_parallel_1",49],PARAMETER["standard_parallel_2",77],PARAMETER["false_easting",0],PARAMETER["false_northing",0],UNIT["metre",1,AUTHORITY["EPSG","9001"]],AXIS["Easting",EAST],AXIS["Northing",NORTH],AUTHORITY["EPSG","3979"]]</SRS>
  <GeoTransform>  1.8131270170000000e+06,  1.0000000000000000e+00,  0.0000000000000000e+00,  1.5760115700000001e+05,  0.0000000000000000e+00, -1.0000000000000000e+00</GeoTransform>
  <VRTRasterBand dataType="Float32" band="1">
    <NoDataValue>-32767</NoDataValue>
    <ColorInterp>Gray</ColorInterp>
    <ComplexSource>
      <SourceFilename relativeToVRT="0">/vsicurl/https://canelevation-dem.s3.ca-central-1.amazonaws.com/hrdem-lidar/QC-600011-06_Chaudiere_Appalaches_2011-1m-dtm.tif</SourceFilename>
      <SourceBand>1</SourceBand>
      <SourceProperties RasterXSize="83593" RasterYSize="79478" DataType="Float32" BlockXSize="512" BlockYSize="512" />
      <SrcRect xOff="59233.017" yOff="0" xSize="24359.983" ySize="34139.843" />
      <DstRect xOff="0" yOff="35637.157" xSize="24359.983" ySize="34139.843" />
      <NODATA>-32767</NODATA>
    </ComplexSource>
    <ComplexSource>
      <SourceFilename relativeToVRT="0">/vsicurl/https://canelevation-dem.s3.ca-central-1.amazonaws.com/hrdem-lidar/QC-600019_10_Chaudiere_Appalaches_2019-1m-dtm.tif</SourceFilename>
      <SourceBand>1</SourceBand>
      <SourceProperties RasterXSize="68927" RasterYSize="92712" DataType="Float32" BlockXSize="512" BlockYSize="512" />
      <SrcRect xOff="7450.01699999999" yOff="12011.843" xSize="50922" ySize="69777" />
      <DstRect xOff="0" yOff="0" xSize="50922" ySize="69777" />
      <NODATA>-32767</NODATA>
    </ComplexSource>
    <ComplexSource>
      <SourceFilename relativeToVRT="0">/vsicurl/https://canelevation-dem.s3.ca-central-1.amazonaws.com/hrdem-lidar/QC-Chaudiere_Etchemin_2019-1m-dtm.tif</SourceFilename>
      <SourceBand>1</SourceBand>
      <SourceProperties RasterXSize="138073" RasterYSize="114270" DataType="Float32" BlockXSize="512" BlockYSize="512" />
      <SrcRect xOff="46001.017" yOff="0" xSize="50922" ySize="19547.843" />
      <DstRect xOff="0" yOff="50229.157" xSize="50922" ySize="19547.843" />
      <NODATA>-32767</NODATA>
    </ComplexSource>
    <ComplexSource>
      <SourceFilename relativeToVRT="0">/vsicurl/https://canelevation-dem.s3.ca-central-1.amazonaws.com/hrdem-lidar/QC-600019_55_ChAppalachesBasStLaurent_MTM7_2019_20-1m-dtm.tif</SourceFilename>
      <SourceBand>1</SourceBand>
      <SourceProperties RasterXSize="97646" RasterYSize="186416" DataType="Float32" BlockXSize="512" BlockYSize="512" />
      <SrcRect xOff="24508.017" yOff="128255.843" xSize="50922" ySize="58160.157" />
      <DstRect xOff="0" yOff="0" xSize="50922" ySize="58160.157" />
      <NODATA>-32767</NODATA>
    </ComplexSource>
  </VRTRasterBand>
  <OverviewList resampling="nearest">2 4 8 16 32 64 128</OverviewList>
</VRTDataset>
