<VRTDataset rasterXSize="44854" rasterYSize="60291">
  <SRS dataAxisToSRSAxisMapping="1,2">PROJCS["NAD83(CSRS) / Canada Atlas Lambert",GEOGCS["NAD83(CSRS)",DATUM["NAD83_Canadian_Spatial_Reference_System",SPHEROID["GRS 1980",6378137,298.257222101,AUTHORITY["EPSG","7019"]],AUTHORITY["EPSG","6140"]],PRIMEM["Greenwich",0,AUTHORITY["EPSG","8901"]],UNIT["degree",0.0174532925199433,AUTHORITY["EPSG","9122"]],AUTHORITY["EPSG","4617"]],PROJECTION["Lambert_Conformal_Conic_2SP"],PARAMETER["latitude_of_origin",49],PARAMETER["central_meridian",-95],PARAMETER["standard_parallel_1",49],PARAMETER["standard_parallel_2",77],PARAMETER["false_easting",0],PARAMETER["false_northing",0],UNIT["metre",1,AUTHORITY["EPSG","9001"]],AXIS["Easting",EAST],AXIS["Northing",NORTH],AUTHORITY["EPSG","3979"]]</SRS>
  <GeoTransform>  1.8369531980000001e+06,  1.0000000000000000e+00,  0.0000000000000000e+00,  2.0486085600000000e+05,  0.0000000000000000e+00, -1.0000000000000000e+00</GeoTransform>
  <VRTRasterBand dataType="Float32" band="1">
    <NoDataValue>-32767</NoDataValue>
    <ColorInterp>Gray</ColorInterp>
    <ComplexSource>
      <SourceFilename relativeToVRT="0">/vsicurl/https://canelevation-dem.s3.ca-central-1.amazonaws.com/hrdem-lidar/QC-600019_10_Chaudiere_Appalaches_2019-1m-dtm.tif</SourceFilename>
      <SourceBand>1</SourceBand>
      <SourceProperties RasterXSize="68927" RasterYSize="92712" DataType="Float32" BlockXSize="512" BlockYSize="512" />
      <SrcRect xOff="31276.1980000001" yOff="0" xSize="37650.8019999999" ySize="25043.144" />
      <DstRect xOff="0" yOff="35247.856" xSize="37650.8019999999" ySize="25043.144" />
      <NODATA>-32767</NODATA>
    </ComplexSource>
    <ComplexSource>
      <SourceFilename relativeToVRT="0">/vsicurl/https://canelevation-dem.s3.ca-central-1.amazonaws.com/hrdem-lidar/QC-600019_47_Riviere_St_Jean_2019-1m-dtm.tif</SourceFilename>
      <SourceBand>1</SourceBand>
      <SourceProperties RasterXSize="56938" RasterYSize="121987" DataType="Float32" BlockXSize="512" BlockYSize="512" />
      <SrcRect xOff="0" yOff="0" xSize="35040.1980000001" ySize="36989.144" />
      <DstRect xOff="9813.80199999991" yOff="23301.856" xSize="35040.1980000001" ySize="36989.144" />
      <NODATA>-32767</NODATA>
    </ComplexSource>
    <ComplexSource>
      <SourceFilename relativeToVRT="0">/vsicurl/https://canelevation-dem.s3.ca-central-1.amazonaws.com/hrdem-lidar/QC-600020_07_BasStLaurent-Appalaches_MTM7_2020-1m-dtm.tif</SourceFilename>
      <SourceBand>1</SourceBand>
      <SourceProperties RasterXSize="139285" RasterYSize="339123" DataType="Float32" BlockXSize="512" BlockYSize="512" />
      <SrcRect xOff="38269.1980000001" yOff="102170.144" xSize="44854" ySize="60291" />
      <DstRect xOff="0" yOff="0" xSize="44854" ySize="60291" />
      <NODATA>-32767</NODATA>
    </ComplexSource>
    <ComplexSource>
      <SourceFilename relativeToVRT="0">/vsicurl/https://canelevation-dem.s3.ca-central-1.amazonaws.com/hrdem-lidar/QC-600019_55_ChAppalachesBasStLaurent_MTM7_2019_20-1m-dtm.tif</SourceFilename>
      <SourceBand>1</SourceBand>
      <SourceProperties RasterXSize="97646" RasterYSize="186416" DataType="Float32" BlockXSize="512" BlockYSize="512" />
      <SrcRect xOff="48334.1980000001" yOff="80996.144" xSize="44854" ySize="60291" />
      <DstRect xOff="0" yOff="0" xSize="44854" ySize="60291" />
      <NODATA>-32767</NODATA>
    </ComplexSource>
  </VRTRasterBand>
  <OverviewList resampling="nearest">2 4 8 16 32 64 128</OverviewList>
</VRTDataset>
