<VRTDataset rasterXSize="36062" rasterYSize="74713">
  <SRS dataAxisToSRSAxisMapping="1,2">PROJCS["NAD83(CSRS) / Canada Atlas Lambert",GEOGCS["NAD83(CSRS)",DATUM["NAD83_Canadian_Spatial_Reference_System",SPHEROID["GRS 1980",6378137,298.257222101,AUTHORITY["EPSG","7019"]],AUTHORITY["EPSG","6140"]],PRIMEM["Greenwich",0,AUTHORITY["EPSG","8901"]],UNIT["degree",0.0174532925199433,AUTHORITY["EPSG","9122"]],AUTHORITY["EPSG","4617"]],PROJECTION["Lambert_Conformal_Conic_2SP"],PARAMETER["latitude_of_origin",49],PARAMETER["central_meridian",-95],PARAMETER["standard_parallel_1",49],PARAMETER["standard_parallel_2",77],PARAMETER["false_easting",0],PARAMETER["false_northing",0],UNIT["metre",1,AUTHORITY["EPSG","9001"]],AXIS["Easting",EAST],AXIS["Northing",NORTH],AUTHORITY["EPSG","3979"]]</SRS>
  <GeoTransform>  1.7593029490000000e+06,  1.0000000000000000e+00,  0.0000000000000000e+00,  1.7842332900000000e+05,  0.0000000000000000e+00, -1.0000000000000000e+00</GeoTransform>
  <VRTRasterBand dataType="Float32" band="1">
    <NoDataValue>-32767</NoDataValue>
    <ColorInterp>Gray</ColorInterp>
    <ComplexSource>
      <SourceFilename relativeToVRT="0">/vsicurl/https://canelevation-dem.s3.ca-central-1.amazonaws.com/hrdem-lidar/QC-600013-29_Quebec_CotedeBeaupre-1m-dtm.tif</SourceFilename>
      <SourceBand>1</SourceBand>
      <SourceProperties RasterXSize="88811" RasterYSize="109747" DataType="Float32" BlockXSize="512" BlockYSize="512" />
      <SrcRect xOff="26490.949" yOff="0" xSize="36062" ySize="68545.671" />
      <DstRect xOff="0" yOff="6167.329" xSize="36062" ySize="68545.671" />
      <NODATA>-32767</NODATA>
    </ComplexSource>
    <ComplexSource>
      <SourceFilename relativeToVRT="0">/vsicurl/https://canelevation-dem.s3.ca-central-1.amazonaws.com/hrdem-lidar/QC-600015-34-1m-dtm.tif</SourceFilename>
      <SourceBand>1</SourceBand>
      <SourceProperties RasterXSize="91091" RasterYSize="123020" DataType="Float32" BlockXSize="512" BlockYSize="512" />
      <SrcRect xOff="30117.949" yOff="32170.671" xSize="36062" ySize="74713" />
      <DstRect xOff="0" yOff="0" xSize="36062" ySize="74713" />
      <NODATA>-32767</NODATA>
    </ComplexSource>
    <ComplexSource>
      <SourceFilename relativeToVRT="0">/vsicurl/https://canelevation-dem.s3.ca-central-1.amazonaws.com/hrdem-lidar/QC-Quebec_Levis_2017-1m-dtm.tif</SourceFilename>
      <SourceBand>1</SourceBand>
      <SourceProperties RasterXSize="61004" RasterYSize="97985" DataType="Float32" BlockXSize="512" BlockYSize="512" />
      <SrcRect xOff="3990.94900000002" yOff="0" xSize="36062" ySize="46065.671" />
      <DstRect xOff="0" yOff="28647.329" xSize="36062" ySize="46065.671" />
      <NODATA>-32767</NODATA>
    </ComplexSource>
    <ComplexSource>
      <SourceFilename relativeToVRT="0">/vsicurl/https://canelevation-dem.s3.ca-central-1.amazonaws.com/hrdem-lidar/NRCAN-FHIMP_PICAI_JacquesCartier_duGouffre_2022-1m-dtm.tif</SourceFilename>
      <SourceBand>1</SourceBand>
      <SourceProperties RasterXSize="105703" RasterYSize="169174" DataType="Float32" BlockXSize="512" BlockYSize="512" />
      <SrcRect xOff="35441.949" yOff="53259.671" xSize="36062" ySize="74713" />
      <DstRect xOff="0" yOff="0" xSize="36062" ySize="74713" />
      <NODATA>-32767</NODATA>
    </ComplexSource>
    <ComplexSource>
      <SourceFilename relativeToVRT="0">/vsicurl/https://canelevation-dem.s3.ca-central-1.amazonaws.com/hrdem-lidar/NRCAN-FHIMP_PICAI_JCartier_PetitSaguenay_StJean_UTM19_2023-1m-dtm.tif</SourceFilename>
      <SourceBand>1</SourceBand>
      <SourceProperties RasterXSize="94039" RasterYSize="203323" DataType="Float32" BlockXSize="512" BlockYSize="512" />
      <SrcRect xOff="17207.949" yOff="105995.671" xSize="36062" ySize="74713" />
      <DstRect xOff="0" yOff="0" xSize="36062" ySize="74713" />
      <NODATA>-32767</NODATA>
    </ComplexSource>
  </VRTRasterBand>
  <OverviewList resampling="nearest">2 4 8 16 32 64 128</OverviewList>
</VRTDataset>
