<VRTDataset rasterXSize="26154" rasterYSize="44121">
  <SRS dataAxisToSRSAxisMapping="1,2">PROJCS["NAD83(CSRS) / Canada Atlas Lambert",GEOGCS["NAD83(CSRS)",DATUM["NAD83_Canadian_Spatial_Reference_System",SPHEROID["GRS 1980",6378137,298.257222101,AUTHORITY["EPSG","7019"]],AUTHORITY["EPSG","6140"]],PRIMEM["Greenwich",0,AUTHORITY["EPSG","8901"]],UNIT["degree",0.0174532925199433,AUTHORITY["EPSG","9122"]],AUTHORITY["EPSG","4617"]],PROJECTION["Lambert_Conformal_Conic_2SP"],PARAMETER["latitude_of_origin",49],PARAMETER["central_meridian",-95],PARAMETER["standard_parallel_1",49],PARAMETER["standard_parallel_2",77],PARAMETER["false_easting",0],PARAMETER["false_northing",0],UNIT["metre",1,AUTHORITY["EPSG","9001"]],AXIS["Easting",EAST],AXIS["Northing",NORTH],AUTHORITY["EPSG","3979"]]</SRS>
  <GeoTransform>  1.7640489709999999e+06,  1.0000000000000000e+00,  0.0000000000000000e+00,  1.2344588400000001e+05,  0.0000000000000000e+00, -1.0000000000000000e+00</GeoTransform>
  <VRTRasterBand dataType="Float32" band="1">
    <NoDataValue>-32767</NoDataValue>
    <ColorInterp>Gray</ColorInterp>
    <ComplexSource>
      <SourceFilename relativeToVRT="0">/vsicurl/https://canelevation-dem.s3.ca-central-1.amazonaws.com/hrdem-lidar/QC-600011-06_Chaudiere_Appalaches_2011-1m-dtm.tif</SourceFilename>
      <SourceBand>1</SourceBand>
      <SourceProperties RasterXSize="83593" RasterYSize="79478" DataType="Float32" BlockXSize="512" BlockYSize="512" />
      <SrcRect xOff="10154.9709999999" yOff="0" xSize="26154" ySize="42639.116" />
      <DstRect xOff="0" yOff="1481.88400000001" xSize="26154" ySize="42639.116" />
      <NODATA>-32767</NODATA>
    </ComplexSource>
    <ComplexSource>
      <SourceFilename relativeToVRT="0">/vsicurl/https://canelevation-dem.s3.ca-central-1.amazonaws.com/hrdem-lidar/QC-600013-29_Quebec_CotedeBeaupre-1m-dtm.tif</SourceFilename>
      <SourceBand>1</SourceBand>
      <SourceProperties RasterXSize="88811" RasterYSize="109747" DataType="Float32" BlockXSize="512" BlockYSize="512" />
      <SrcRect xOff="31236.9709999999" yOff="48810.116" xSize="26154" ySize="44121" />
      <DstRect xOff="0" yOff="0" xSize="26154" ySize="44121" />
      <NODATA>-32767</NODATA>
    </ComplexSource>
    <ComplexSource>
      <SourceFilename relativeToVRT="0">/vsicurl/https://canelevation-dem.s3.ca-central-1.amazonaws.com/hrdem-lidar/QC-600015-34-1m-dtm.tif</SourceFilename>
      <SourceBand>1</SourceBand>
      <SourceProperties RasterXSize="91091" RasterYSize="123020" DataType="Float32" BlockXSize="512" BlockYSize="512" />
      <SrcRect xOff="34863.9709999999" yOff="87148.116" xSize="26154" ySize="35871.884" />
      <DstRect xOff="0" yOff="0" xSize="26154" ySize="35871.884" />
      <NODATA>-32767</NODATA>
    </ComplexSource>
    <ComplexSource>
      <SourceFilename relativeToVRT="0">/vsicurl/https://canelevation-dem.s3.ca-central-1.amazonaws.com/hrdem-lidar/QC-Quebec_Levis_2017-1m-dtm.tif</SourceFilename>
      <SourceBand>1</SourceBand>
      <SourceProperties RasterXSize="61004" RasterYSize="97985" DataType="Float32" BlockXSize="512" BlockYSize="512" />
      <SrcRect xOff="8736.9709999999" yOff="26330.116" xSize="26154" ySize="44121" />
      <DstRect xOff="0" yOff="0" xSize="26154" ySize="44121" />
      <NODATA>-32767</NODATA>
    </ComplexSource>
    <ComplexSource>
      <SourceFilename relativeToVRT="0">/vsicurl/https://canelevation-dem.s3.ca-central-1.amazonaws.com/hrdem-lidar/NRCAN-FHIMP_PICAI_JacquesCartier_duGouffre_2022-1m-dtm.tif</SourceFilename>
      <SourceBand>1</SourceBand>
      <SourceProperties RasterXSize="105703" RasterYSize="169174" DataType="Float32" BlockXSize="512" BlockYSize="512" />
      <SrcRect xOff="40187.9709999999" yOff="108237.116" xSize="26154" ySize="44121" />
      <DstRect xOff="0" yOff="0" xSize="26154" ySize="44121" />
      <NODATA>-32767</NODATA>
    </ComplexSource>
    <ComplexSource>
      <SourceFilename relativeToVRT="0">/vsicurl/https://canelevation-dem.s3.ca-central-1.amazonaws.com/hrdem-lidar/NRCAN-FHIMP_PICAI_JCartierValcartier_UTM19_2023-1m-dtm.tif</SourceFilename>
      <SourceBand>1</SourceBand>
      <SourceProperties RasterXSize="39661" RasterYSize="35725" DataType="Float32" BlockXSize="512" BlockYSize="512" />
      <SrcRect xOff="25884.9709999999" yOff="0" xSize="13776.0290000001" ySize="35725" />
      <DstRect xOff="0" yOff="2688.88400000001" xSize="13776.0290000001" ySize="35725" />
      <NODATA>-32767</NODATA>
    </ComplexSource>
    <ComplexSource>
      <SourceFilename relativeToVRT="0">/vsicurl/https://canelevation-dem.s3.ca-central-1.amazonaws.com/hrdem-lidar/NRCAN-FHIMP_PICAI_JCartier_PetitSaguenay_StJean_UTM19_2023-1m-dtm.tif</SourceFilename>
      <SourceBand>1</SourceBand>
      <SourceProperties RasterXSize="94039" RasterYSize="203323" DataType="Float32" BlockXSize="512" BlockYSize="512" />
      <SrcRect xOff="21953.9709999999" yOff="160973.116" xSize="26154" ySize="42349.884" />
      <DstRect xOff="0" yOff="0" xSize="26154" ySize="42349.884" />
      <NODATA>-32767</NODATA>
    </ComplexSource>
  </VRTRasterBand>
  <OverviewList resampling="nearest">2 4 8 16 32 64 128</OverviewList>
</VRTDataset>
