<VRTDataset rasterXSize="51227" rasterYSize="145794">
  <SRS dataAxisToSRSAxisMapping="1,2">PROJCS["NAD83(CSRS) / Canada Atlas Lambert",GEOGCS["NAD83(CSRS)",DATUM["NAD83_Canadian_Spatial_Reference_System",SPHEROID["GRS 1980",6378137,298.257222101,AUTHORITY["EPSG","7019"]],AUTHORITY["EPSG","6140"]],PRIMEM["Greenwich",0,AUTHORITY["EPSG","8901"]],UNIT["degree",0.0174532925199433,AUTHORITY["EPSG","9122"]],AUTHORITY["EPSG","4617"]],PROJECTION["Lambert_Conformal_Conic_2SP"],PARAMETER["latitude_of_origin",49],PARAMETER["central_meridian",-95],PARAMETER["standard_parallel_1",49],PARAMETER["standard_parallel_2",77],PARAMETER["false_easting",0],PARAMETER["false_northing",0],UNIT["metre",1,AUTHORITY["EPSG","9001"]],AXIS["Easting",EAST],AXIS["Northing",NORTH],AUTHORITY["EPSG","3979"]]</SRS>
  <GeoTransform>  1.7264651640000001e+06,  1.0000000000000000e+00,  0.0000000000000000e+00,  1.8651195499999999e+05,  0.0000000000000000e+00, -1.0000000000000000e+00</GeoTransform>
  <VRTRasterBand dataType="Float32" band="1">
    <NoDataValue>-32767</NoDataValue>
    <ColorInterp>Gray</ColorInterp>
    <ComplexSource>
      <SourceFilename relativeToVRT="0">/vsicurl/https://canelevation-dem.s3.ca-central-1.amazonaws.com/hrdem-lidar/QC-600011-06_Chaudiere_Appalaches_2011-1m-dtm.tif</SourceFilename>
      <SourceBand>1</SourceBand>
      <SourceProperties RasterXSize="83593" RasterYSize="79478" DataType="Float32" BlockXSize="512" BlockYSize="512" />
      <SrcRect xOff="0" yOff="0" xSize="23798.1640000001" ySize="79478" />
      <DstRect xOff="27428.8359999999" yOff="64547.955" xSize="23798.1640000001" ySize="79478" />
      <NODATA>-32767</NODATA>
    </ComplexSource>
    <ComplexSource>
      <SourceFilename relativeToVRT="0">/vsicurl/https://canelevation-dem.s3.ca-central-1.amazonaws.com/hrdem-lidar/QC-600013-29_Quebec_CotedeBeaupre-1m-dtm.tif</SourceFilename>
      <SourceBand>1</SourceBand>
      <SourceProperties RasterXSize="88811" RasterYSize="109747" DataType="Float32" BlockXSize="512" BlockYSize="512" />
      <SrcRect xOff="0" yOff="0" xSize="44880.1640000001" ySize="109747" />
      <DstRect xOff="6346.83599999989" yOff="14255.955" xSize="44880.1640000001" ySize="109747" />
      <NODATA>-32767</NODATA>
    </ComplexSource>
    <ComplexSource>
      <SourceFilename relativeToVRT="0">/vsicurl/https://canelevation-dem.s3.ca-central-1.amazonaws.com/hrdem-lidar/QC-600015-34-1m-dtm.tif</SourceFilename>
      <SourceBand>1</SourceBand>
      <SourceProperties RasterXSize="91091" RasterYSize="123020" DataType="Float32" BlockXSize="512" BlockYSize="512" />
      <SrcRect xOff="0" yOff="24082.045" xSize="48507.1640000001" ySize="98937.955" />
      <DstRect xOff="2719.83599999989" yOff="0" xSize="48507.1640000001" ySize="98937.955" />
      <NODATA>-32767</NODATA>
    </ComplexSource>
    <ComplexSource>
      <SourceFilename relativeToVRT="0">/vsicurl/https://canelevation-dem.s3.ca-central-1.amazonaws.com/hrdem-lidar/QC-R02_2015_F07_2301-1m-dtm.tif</SourceFilename>
      <SourceBand>1</SourceBand>
      <SourceProperties RasterXSize="89666" RasterYSize="77861" DataType="Float32" BlockXSize="512" BlockYSize="512" />
      <SrcRect xOff="31462.1640000001" yOff="62371.045" xSize="51227" ySize="15489.955" />
      <DstRect xOff="0" yOff="0" xSize="51227" ySize="15489.955" />
      <NODATA>-32767</NODATA>
    </ComplexSource>
    <ComplexSource>
      <SourceFilename relativeToVRT="0">/vsicurl/https://canelevation-dem.s3.ca-central-1.amazonaws.com/hrdem-lidar/QC-600015-32_RiviereSainteAnne_2015-1m-dtm.tif</SourceFilename>
      <SourceBand>1</SourceBand>
      <SourceProperties RasterXSize="27861" RasterYSize="39646" DataType="Float32" BlockXSize="512" BlockYSize="512" />
      <SrcRect xOff="0" yOff="0" xSize="27861" ySize="39646" />
      <DstRect xOff="986.835999999894" yOff="73629.955" xSize="27861" ySize="39646" />
      <NODATA>-32767</NODATA>
    </ComplexSource>
    <ComplexSource>
      <SourceFilename relativeToVRT="0">/vsicurl/https://canelevation-dem.s3.ca-central-1.amazonaws.com/hrdem-lidar/QC-600015-33_MTM7-1m-dtm.tif</SourceFilename>
      <SourceBand>1</SourceBand>
      <SourceProperties RasterXSize="77839" RasterYSize="105464" DataType="Float32" BlockXSize="512" BlockYSize="512" />
      <SrcRect xOff="34367.1640000001" yOff="0" xSize="43471.8359999999" ySize="105464" />
      <DstRect xOff="0" yOff="10171.955" xSize="43471.8359999999" ySize="105464" />
      <NODATA>-32767</NODATA>
    </ComplexSource>
    <ComplexSource>
      <SourceFilename relativeToVRT="0">/vsicurl/https://canelevation-dem.s3.ca-central-1.amazonaws.com/hrdem-lidar/QC-Quebec_Levis_2017-1m-dtm.tif</SourceFilename>
      <SourceBand>1</SourceBand>
      <SourceProperties RasterXSize="61004" RasterYSize="97985" DataType="Float32" BlockXSize="512" BlockYSize="512" />
      <SrcRect xOff="0" yOff="0" xSize="22380.1640000001" ySize="97985" />
      <DstRect xOff="28846.8359999999" yOff="36735.955" xSize="22380.1640000001" ySize="97985" />
      <NODATA>-32767</NODATA>
    </ComplexSource>
    <ComplexSource>
      <SourceFilename relativeToVRT="0">/vsicurl/https://canelevation-dem.s3.ca-central-1.amazonaws.com/hrdem-lidar/QC-600017-17_SOR_2017-1m-dtm.tif</SourceFilename>
      <SourceBand>1</SourceBand>
      <SourceProperties RasterXSize="89845" RasterYSize="137094" DataType="Float32" BlockXSize="512" BlockYSize="512" />
      <SrcRect xOff="38205.1640000001" yOff="87350.045" xSize="51227" ySize="49743.955" />
      <DstRect xOff="0" yOff="0" xSize="51227" ySize="49743.955" />
      <NODATA>-32767</NODATA>
    </ComplexSource>
    <ComplexSource>
      <SourceFilename relativeToVRT="0">/vsicurl/https://canelevation-dem.s3.ca-central-1.amazonaws.com/hrdem-lidar/QC-600019_22_SaguenayLacStJean_MTM7_2019-1m-dtm.tif</SourceFilename>
      <SourceBand>1</SourceBand>
      <SourceProperties RasterXSize="182392" RasterYSize="232863" DataType="Float32" BlockXSize="512" BlockYSize="512" />
      <SrcRect xOff="110990.164" yOff="210904.045" xSize="51227" ySize="21958.955" />
      <DstRect xOff="0" yOff="0" xSize="51227" ySize="21958.955" />
      <NODATA>-32767</NODATA>
    </ComplexSource>
    <ComplexSource>
      <SourceFilename relativeToVRT="0">/vsicurl/https://canelevation-dem.s3.ca-central-1.amazonaws.com/hrdem-lidar/QC-600021_40_MauriciePortneuf_MTM8_2021-1m-dtm.tif</SourceFilename>
      <SourceBand>1</SourceBand>
      <SourceProperties RasterXSize="89027" RasterYSize="107940" DataType="Float32" BlockXSize="512" BlockYSize="512" />
      <SrcRect xOff="63027.1640000001" yOff="0" xSize="25999.8359999999" ySize="55022.045" />
      <DstRect xOff="0" yOff="90771.955" xSize="25999.8359999999" ySize="55022.045" />
      <NODATA>-32767</NODATA>
    </ComplexSource>
    <ComplexSource>
      <SourceFilename relativeToVRT="0">/vsicurl/https://canelevation-dem.s3.ca-central-1.amazonaws.com/hrdem-lidar/QC-600021_40_MauriciePortneuf_MTM7_2021-1m-dtm.tif</SourceFilename>
      <SourceBand>1</SourceBand>
      <SourceProperties RasterXSize="49486" RasterYSize="61440" DataType="Float32" BlockXSize="512" BlockYSize="512" />
      <SrcRect xOff="8824.16400000011" yOff="0" xSize="40661.8359999999" ySize="61440" />
      <DstRect xOff="0" yOff="82909.955" xSize="40661.8359999999" ySize="61440" />
      <NODATA>-32767</NODATA>
    </ComplexSource>
    <ComplexSource>
      <SourceFilename relativeToVRT="0">/vsicurl/https://canelevation-dem.s3.ca-central-1.amazonaws.com/hrdem-lidar/NRCAN-FHIMP_PICAI_Batiscan_SteAnne_UTM19_2022-1m-dtm.tif</SourceFilename>
      <SourceBand>1</SourceBand>
      <SourceProperties RasterXSize="73897" RasterYSize="89449" DataType="Float32" BlockXSize="512" BlockYSize="512" />
      <SrcRect xOff="34367.1640000001" yOff="0" xSize="39529.8359999999" ySize="89449" />
      <DstRect xOff="0" yOff="16622.955" xSize="39529.8359999999" ySize="89449" />
      <NODATA>-32767</NODATA>
    </ComplexSource>
    <ComplexSource>
      <SourceFilename relativeToVRT="0">/vsicurl/https://canelevation-dem.s3.ca-central-1.amazonaws.com/hrdem-lidar/NRCAN-FHIMP_PICAI_JacquesCartier_duGouffre_2022-1m-dtm.tif</SourceFilename>
      <SourceBand>1</SourceBand>
      <SourceProperties RasterXSize="105703" RasterYSize="169174" DataType="Float32" BlockXSize="512" BlockYSize="512" />
      <SrcRect xOff="2604.16400000011" yOff="45171.045" xSize="51227" ySize="124002.955" />
      <DstRect xOff="0" yOff="0" xSize="51227" ySize="124002.955" />
      <NODATA>-32767</NODATA>
    </ComplexSource>
    <ComplexSource>
      <SourceFilename relativeToVRT="0">/vsicurl/https://canelevation-dem.s3.ca-central-1.amazonaws.com/hrdem-lidar/NRCAN-FHIMP_PICAI_JCartierValcartier_UTM19_2023-1m-dtm.tif</SourceFilename>
      <SourceBand>1</SourceBand>
      <SourceProperties RasterXSize="39661" RasterYSize="35725" DataType="Float32" BlockXSize="512" BlockYSize="512" />
      <SrcRect xOff="0" yOff="0" xSize="39528.1640000001" ySize="35725" />
      <DstRect xOff="11698.8359999999" yOff="65754.955" xSize="39528.1640000001" ySize="35725" />
      <NODATA>-32767</NODATA>
    </ComplexSource>
    <ComplexSource>
      <SourceFilename relativeToVRT="0">/vsicurl/https://canelevation-dem.s3.ca-central-1.amazonaws.com/hrdem-lidar/NRCAN-FHIMP_PICAI_JCartier_PetitSaguenay_StJean_UTM19_2023-1m-dtm.tif</SourceFilename>
      <SourceBand>1</SourceBand>
      <SourceProperties RasterXSize="94039" RasterYSize="203323" DataType="Float32" BlockXSize="512" BlockYSize="512" />
      <SrcRect xOff="0" yOff="97907.045" xSize="35597.1640000001" ySize="105415.955" />
      <DstRect xOff="15629.8359999999" yOff="0" xSize="35597.1640000001" ySize="105415.955" />
      <NODATA>-32767</NODATA>
    </ComplexSource>
  </VRTRasterBand>
  <OverviewList resampling="nearest">2 4 8 16 32 64</OverviewList>
</VRTDataset>
