<VRTDataset rasterXSize="51631" rasterYSize="110346">
  <SRS dataAxisToSRSAxisMapping="1,2">PROJCS["NAD83(CSRS) / Canada Atlas Lambert",GEOGCS["NAD83(CSRS)",DATUM["NAD83_Canadian_Spatial_Reference_System",SPHEROID["GRS 1980",6378137,298.257222101,AUTHORITY["EPSG","7019"]],AUTHORITY["EPSG","6140"]],PRIMEM["Greenwich",0,AUTHORITY["EPSG","8901"]],UNIT["degree",0.0174532925199433,AUTHORITY["EPSG","9122"]],AUTHORITY["EPSG","4617"]],PROJECTION["Lambert_Conformal_Conic_2SP"],PARAMETER["latitude_of_origin",49],PARAMETER["central_meridian",-95],PARAMETER["standard_parallel_1",49],PARAMETER["standard_parallel_2",77],PARAMETER["false_easting",0],PARAMETER["false_northing",0],UNIT["metre",1,AUTHORITY["EPSG","9001"]],AXIS["Easting",EAST],AXIS["Northing",NORTH],AUTHORITY["EPSG","3979"]]</SRS>
  <GeoTransform>  1.7032283340000000e+06,  1.0000000000000000e+00,  0.0000000000000000e+00,  1.4947927499999999e+05,  0.0000000000000000e+00, -1.0000000000000000e+00</GeoTransform>
  <VRTRasterBand dataType="Float32" band="1">
    <NoDataValue>-32767</NoDataValue>
    <ColorInterp>Gray</ColorInterp>
    <ComplexSource>
      <SourceFilename relativeToVRT="0">/vsicurl/https://canelevation-dem.s3.ca-central-1.amazonaws.com/hrdem-lidar/QC-600013-29_Quebec_CotedeBeaupre-1m-dtm.tif</SourceFilename>
      <SourceBand>1</SourceBand>
      <SourceProperties RasterXSize="88811" RasterYSize="109747" DataType="Float32" BlockXSize="512" BlockYSize="512" />
      <SrcRect xOff="0" yOff="22776.725" xSize="22047.334" ySize="86970.275" />
      <DstRect xOff="29583.666" yOff="0" xSize="22047.334" ySize="86970.275" />
      <NODATA>-32767</NODATA>
    </ComplexSource>
    <ComplexSource>
      <SourceFilename relativeToVRT="0">/vsicurl/https://canelevation-dem.s3.ca-central-1.amazonaws.com/hrdem-lidar/QC-600015-34-1m-dtm.tif</SourceFilename>
      <SourceBand>1</SourceBand>
      <SourceProperties RasterXSize="91091" RasterYSize="123020" DataType="Float32" BlockXSize="512" BlockYSize="512" />
      <SrcRect xOff="0" yOff="61114.725" xSize="25674.334" ySize="61905.275" />
      <DstRect xOff="25956.666" yOff="0" xSize="25674.334" ySize="61905.275" />
      <NODATA>-32767</NODATA>
    </ComplexSource>
    <ComplexSource>
      <SourceFilename relativeToVRT="0">/vsicurl/https://canelevation-dem.s3.ca-central-1.amazonaws.com/hrdem-lidar/QC-600015-32_RiviereSainteAnne_2015-1m-dtm.tif</SourceFilename>
      <SourceBand>1</SourceBand>
      <SourceProperties RasterXSize="27861" RasterYSize="39646" DataType="Float32" BlockXSize="512" BlockYSize="512" />
      <SrcRect xOff="0" yOff="0" xSize="27407.334" ySize="39646" />
      <DstRect xOff="24223.666" yOff="36597.275" xSize="27407.334" ySize="39646" />
      <NODATA>-32767</NODATA>
    </ComplexSource>
    <ComplexSource>
      <SourceFilename relativeToVRT="0">/vsicurl/https://canelevation-dem.s3.ca-central-1.amazonaws.com/hrdem-lidar/QC-600015-33_MTM8-1m-dtm.tif</SourceFilename>
      <SourceBand>1</SourceBand>
      <SourceProperties RasterXSize="64457" RasterYSize="124234" DataType="Float32" BlockXSize="512" BlockYSize="512" />
      <SrcRect xOff="27014.334" yOff="29661.725" xSize="37442.666" ySize="94572.275" />
      <DstRect xOff="0" yOff="0" xSize="37442.666" ySize="94572.275" />
      <NODATA>-32767</NODATA>
    </ComplexSource>
    <ComplexSource>
      <SourceFilename relativeToVRT="0">/vsicurl/https://canelevation-dem.s3.ca-central-1.amazonaws.com/hrdem-lidar/QC-600015-33_MTM7-1m-dtm.tif</SourceFilename>
      <SourceBand>1</SourceBand>
      <SourceProperties RasterXSize="77839" RasterYSize="105464" DataType="Float32" BlockXSize="512" BlockYSize="512" />
      <SrcRect xOff="11130.334" yOff="26860.725" xSize="51631" ySize="78603.275" />
      <DstRect xOff="0" yOff="0" xSize="51631" ySize="78603.275" />
      <NODATA>-32767</NODATA>
    </ComplexSource>
    <ComplexSource>
      <SourceFilename relativeToVRT="0">/vsicurl/https://canelevation-dem.s3.ca-central-1.amazonaws.com/hrdem-lidar/QC-600021_40_MauriciePortneuf_MTM8_2021-1m-dtm.tif</SourceFilename>
      <SourceBand>1</SourceBand>
      <SourceProperties RasterXSize="89027" RasterYSize="107940" DataType="Float32" BlockXSize="512" BlockYSize="512" />
      <SrcRect xOff="39790.334" yOff="0" xSize="49236.666" ySize="56606.725" />
      <DstRect xOff="0" yOff="53739.275" xSize="49236.666" ySize="56606.725" />
      <NODATA>-32767</NODATA>
    </ComplexSource>
    <ComplexSource>
      <SourceFilename relativeToVRT="0">/vsicurl/https://canelevation-dem.s3.ca-central-1.amazonaws.com/hrdem-lidar/QC-600021_40_MauriciePortneuf_MTM7_2021-1m-dtm.tif</SourceFilename>
      <SourceBand>1</SourceBand>
      <SourceProperties RasterXSize="49486" RasterYSize="61440" DataType="Float32" BlockXSize="512" BlockYSize="512" />
      <SrcRect xOff="0" yOff="0" xSize="37218.334" ySize="61440" />
      <DstRect xOff="14412.666" yOff="45877.275" xSize="37218.334" ySize="61440" />
      <NODATA>-32767</NODATA>
    </ComplexSource>
    <ComplexSource>
      <SourceFilename relativeToVRT="0">/vsicurl/https://canelevation-dem.s3.ca-central-1.amazonaws.com/hrdem-lidar/NRCAN-FHIMP_PICAI_Batiscan_SteAnne_UTM19_2022-1m-dtm.tif</SourceFilename>
      <SourceBand>1</SourceBand>
      <SourceProperties RasterXSize="73897" RasterYSize="89449" DataType="Float32" BlockXSize="512" BlockYSize="512" />
      <SrcRect xOff="11130.334" yOff="20409.725" xSize="51631" ySize="69039.275" />
      <DstRect xOff="0" yOff="0" xSize="51631" ySize="69039.275" />
      <NODATA>-32767</NODATA>
    </ComplexSource>
    <ComplexSource>
      <SourceFilename relativeToVRT="0">/vsicurl/https://canelevation-dem.s3.ca-central-1.amazonaws.com/hrdem-lidar/NRCAN-FHIMP_PICAI_Batiscan_SteAnne_UTM18_2022-1m-dtm.tif</SourceFilename>
      <SourceBand>1</SourceBand>
      <SourceProperties RasterXSize="73254" RasterYSize="149780" DataType="Float32" BlockXSize="512" BlockYSize="512" />
      <SrcRect xOff="39741.334" yOff="29661.725" xSize="33512.666" ySize="110346" />
      <DstRect xOff="0" yOff="0" xSize="33512.666" ySize="110346" />
      <NODATA>-32767</NODATA>
    </ComplexSource>
    <ComplexSource>
      <SourceFilename relativeToVRT="0">/vsicurl/https://canelevation-dem.s3.ca-central-1.amazonaws.com/hrdem-lidar/NRCAN-FHIMP_PICAI_JacquesCartier_duGouffre_2022-1m-dtm.tif</SourceFilename>
      <SourceBand>1</SourceBand>
      <SourceProperties RasterXSize="105703" RasterYSize="169174" DataType="Float32" BlockXSize="512" BlockYSize="512" />
      <SrcRect xOff="0" yOff="82203.725" xSize="30998.334" ySize="86970.275" />
      <DstRect xOff="20632.666" yOff="0" xSize="30998.334" ySize="86970.275" />
      <NODATA>-32767</NODATA>
    </ComplexSource>
    <ComplexSource>
      <SourceFilename relativeToVRT="0">/vsicurl/https://canelevation-dem.s3.ca-central-1.amazonaws.com/hrdem-lidar/NRCAN-FHIMP_PICAI_JCartierValcartier_UTM19_2023-1m-dtm.tif</SourceFilename>
      <SourceBand>1</SourceBand>
      <SourceProperties RasterXSize="39661" RasterYSize="35725" DataType="Float32" BlockXSize="512" BlockYSize="512" />
      <SrcRect xOff="0" yOff="0" xSize="16695.334" ySize="35725" />
      <DstRect xOff="34935.666" yOff="28722.275" xSize="16695.334" ySize="35725" />
      <NODATA>-32767</NODATA>
    </ComplexSource>
    <ComplexSource>
      <SourceFilename relativeToVRT="0">/vsicurl/https://canelevation-dem.s3.ca-central-1.amazonaws.com/hrdem-lidar/NRCAN-FHIMP_PICAI_JCartier_PetitSaguenay_StJean_UTM19_2023-1m-dtm.tif</SourceFilename>
      <SourceBand>1</SourceBand>
      <SourceProperties RasterXSize="94039" RasterYSize="203323" DataType="Float32" BlockXSize="512" BlockYSize="512" />
      <SrcRect xOff="0" yOff="134939.725" xSize="12764.334" ySize="68383.275" />
      <DstRect xOff="38866.666" yOff="0" xSize="12764.334" ySize="68383.275" />
      <NODATA>-32767</NODATA>
    </ComplexSource>
  </VRTRasterBand>
  <OverviewList resampling="nearest">2 4 8 16 32 64</OverviewList>
</VRTDataset>
