<VRTDataset rasterXSize="89153" rasterYSize="104799">
  <SRS dataAxisToSRSAxisMapping="1,2">PROJCS["NAD83(CSRS) / Canada Atlas Lambert",GEOGCS["NAD83(CSRS)",DATUM["NAD83_Canadian_Spatial_Reference_System",SPHEROID["GRS 1980",6378137,298.257222101,AUTHORITY["EPSG","7019"]],AUTHORITY["EPSG","6140"]],PRIMEM["Greenwich",0,AUTHORITY["EPSG","8901"]],UNIT["degree",0.0174532925199433,AUTHORITY["EPSG","9122"]],AUTHORITY["EPSG","4617"]],PROJECTION["Lambert_Conformal_Conic_2SP"],PARAMETER["latitude_of_origin",49],PARAMETER["central_meridian",-95],PARAMETER["standard_parallel_1",49],PARAMETER["standard_parallel_2",77],PARAMETER["false_easting",0],PARAMETER["false_northing",0],UNIT["metre",1,AUTHORITY["EPSG","9001"]],AXIS["Easting",EAST],AXIS["Northing",NORTH],AUTHORITY["EPSG","3979"]]</SRS>
  <GeoTransform>  1.6824367439999999e+06,  1.0000000000000000e+00,  0.0000000000000000e+00, -2.6382963000000000e+04,  0.0000000000000000e+00, -1.0000000000000000e+00</GeoTransform>
  <VRTRasterBand dataType="Float32" band="1">
    <NoDataValue>-32767</NoDataValue>
    <ColorInterp>Gray</ColorInterp>
    <ComplexSource>
      <SourceFilename relativeToVRT="0">/vsicurl/https://canelevation-dem.s3.ca-central-1.amazonaws.com/hrdem-lidar/QC-10-261_Yamaska_2011-1m-dtm.tif</SourceFilename>
      <SourceBand>1</SourceBand>
      <SourceProperties RasterXSize="73687" RasterYSize="96208" DataType="Float32" BlockXSize="512" BlockYSize="512" />
      <SrcRect xOff="9538.74399999995" yOff="4581.963" xSize="64148.2560000001" ySize="91626.037" />
      <DstRect xOff="0" yOff="0" xSize="64148.2560000001" ySize="91626.037" />
      <NODATA>-32767</NODATA>
    </ComplexSource>
    <ComplexSource>
      <SourceFilename relativeToVRT="0">/vsicurl/https://canelevation-dem.s3.ca-central-1.amazonaws.com/hrdem-lidar/QC-10-261_St_Francois_2011-1m-dtm.tif</SourceFilename>
      <SourceBand>1</SourceBand>
      <SourceProperties RasterXSize="83276" RasterYSize="48041" DataType="Float32" BlockXSize="512" BlockYSize="512" />
      <SrcRect xOff="3118.74399999995" yOff="17380.963" xSize="80157.2560000001" ySize="30660.037" />
      <DstRect xOff="0" yOff="0" xSize="80157.2560000001" ySize="30660.037" />
      <NODATA>-32767</NODATA>
    </ComplexSource>
    <ComplexSource>
      <SourceFilename relativeToVRT="0">/vsicurl/https://canelevation-dem.s3.ca-central-1.amazonaws.com/hrdem-lidar/QC-MRC_Memphremagog_2017-1m-dtm.tif</SourceFilename>
      <SourceBand>1</SourceBand>
      <SourceProperties RasterXSize="68947" RasterYSize="70733" DataType="Float32" BlockXSize="512" BlockYSize="512" />
      <SrcRect xOff="0" yOff="0" xSize="24979.7439999999" ySize="61378.963" />
      <DstRect xOff="64173.2560000001" yOff="43420.037" xSize="24979.7439999999" ySize="61378.963" />
      <NODATA>-32767</NODATA>
    </ComplexSource>
    <ComplexSource>
      <SourceFilename relativeToVRT="0">/vsicurl/https://canelevation-dem.s3.ca-central-1.amazonaws.com/hrdem-lidar/QC-RisquesNaturels_MTQ_2016-1m-dtm.tif</SourceFilename>
      <SourceBand>1</SourceBand>
      <SourceProperties RasterXSize="51975" RasterYSize="51335" DataType="Float32" BlockXSize="512" BlockYSize="512" />
      <SrcRect xOff="0" yOff="7860.963" xSize="41047.7439999999" ySize="43474.037" />
      <DstRect xOff="48105.2560000001" yOff="0" xSize="41047.7439999999" ySize="43474.037" />
      <NODATA>-32767</NODATA>
    </ComplexSource>
    <ComplexSource>
      <SourceFilename relativeToVRT="0">/vsicurl/https://canelevation-dem.s3.ca-central-1.amazonaws.com/hrdem-lidar/QC-RisquesNaturels_MTQ_2017-1m-dtm.tif</SourceFilename>
      <SourceBand>1</SourceBand>
      <SourceProperties RasterXSize="35310" RasterYSize="48135" DataType="Float32" BlockXSize="512" BlockYSize="512" />
      <SrcRect xOff="0" yOff="0" xSize="15388.7439999999" ySize="48135" />
      <DstRect xOff="73764.2560000001" yOff="1741.037" xSize="15388.7439999999" ySize="48135" />
      <NODATA>-32767</NODATA>
    </ComplexSource>
    <ComplexSource>
      <SourceFilename relativeToVRT="0">/vsicurl/https://canelevation-dem.s3.ca-central-1.amazonaws.com/hrdem-lidar/QC-LLLME_2017-1m-dtm.tif</SourceFilename>
      <SourceBand>1</SourceBand>
      <SourceProperties RasterXSize="67506" RasterYSize="77044" DataType="Float32" BlockXSize="512" BlockYSize="512" />
      <SrcRect xOff="0" yOff="0" xSize="25005.7439999999" ySize="77044" />
      <DstRect xOff="64147.2560000001" yOff="27412.037" xSize="25005.7439999999" ySize="77044" />
      <NODATA>-32767</NODATA>
    </ComplexSource>
    <ComplexSource>
      <SourceFilename relativeToVRT="0">/vsicurl/https://canelevation-dem.s3.ca-central-1.amazonaws.com/hrdem-lidar/QC-DIF_GrandMtl_2018-1m-dtm.tif</SourceFilename>
      <SourceBand>1</SourceBand>
      <SourceProperties RasterXSize="68488" RasterYSize="67389" DataType="Float32" BlockXSize="512" BlockYSize="512" />
      <SrcRect xOff="0" yOff="0" xSize="37836.7439999999" ySize="67389" />
      <DstRect xOff="51316.2560000001" yOff="8190.037" xSize="37836.7439999999" ySize="67389" />
      <NODATA>-32767</NODATA>
    </ComplexSource>
    <ComplexSource>
      <SourceFilename relativeToVRT="0">/vsicurl/https://canelevation-dem.s3.ca-central-1.amazonaws.com/hrdem-lidar/QC-600018-22_LidarDIF_GrandMtl_MTM8_2018-1m-dtm.tif</SourceFilename>
      <SourceBand>1</SourceBand>
      <SourceProperties RasterXSize="113299" RasterYSize="128135" DataType="Float32" BlockXSize="512" BlockYSize="512" />
      <SrcRect xOff="0" yOff="52555.963" xSize="82647.7439999999" ySize="75579.037" />
      <DstRect xOff="6505.25600000005" yOff="0" xSize="82647.7439999999" ySize="75579.037" />
      <NODATA>-32767</NODATA>
    </ComplexSource>
    <ComplexSource>
      <SourceFilename relativeToVRT="0">/vsicurl/https://canelevation-dem.s3.ca-central-1.amazonaws.com/hrdem-lidar/QC-Fleuve_St_Laurent_2018-1m-dtm.tif</SourceFilename>
      <SourceBand>1</SourceBand>
      <SourceProperties RasterXSize="132059" RasterYSize="211380" DataType="Float32" BlockXSize="512" BlockYSize="512" />
      <SrcRect xOff="87180.7439999999" yOff="42969.963" xSize="44878.2560000001" ySize="104799" />
      <DstRect xOff="0" yOff="0" xSize="44878.2560000001" ySize="104799" />
      <NODATA>-32767</NODATA>
    </ComplexSource>
    <ComplexSource>
      <SourceFilename relativeToVRT="0">/vsicurl/https://canelevation-dem.s3.ca-central-1.amazonaws.com/hrdem-lidar/QC-Prevention_risques_sinistres_2019-1m-dtm.tif</SourceFilename>
      <SourceBand>1</SourceBand>
      <SourceProperties RasterXSize="83657" RasterYSize="141103" DataType="Float32" BlockXSize="512" BlockYSize="512" />
      <SrcRect xOff="45177.7439999999" yOff="0" xSize="38479.2560000001" ySize="102994.963" />
      <DstRect xOff="0" yOff="1804.037" xSize="38479.2560000001" ySize="102994.963" />
      <NODATA>-32767</NODATA>
    </ComplexSource>
    <ComplexSource>
      <SourceFilename relativeToVRT="0">/vsicurl/https://canelevation-dem.s3.ca-central-1.amazonaws.com/hrdem-lidar/NRCAN-Monteregie_2020-1m-dtm.tif</SourceFilename>
      <SourceBand>1</SourceBand>
      <SourceProperties RasterXSize="138257" RasterYSize="102607" DataType="Float32" BlockXSize="512" BlockYSize="512" />
      <SrcRect xOff="58004.7439999999" yOff="0" xSize="80252.2560000001" ySize="61325.963" />
      <DstRect xOff="0" yOff="43473.037" xSize="80252.2560000001" ySize="61325.963" />
      <NODATA>-32767</NODATA>
    </ComplexSource>
    <ComplexSource>
      <SourceFilename relativeToVRT="0">/vsicurl/https://canelevation-dem.s3.ca-central-1.amazonaws.com/hrdem-lidar/QC-600021_39_RiviereYamaskaStFrancois_MTM8_2021-1m-dtm.tif</SourceFilename>
      <SourceBand>1</SourceBand>
      <SourceProperties RasterXSize="76941" RasterYSize="99427" DataType="Float32" BlockXSize="512" BlockYSize="512" />
      <SrcRect xOff="0" yOff="7800.963" xSize="76941" ySize="91626.037" />
      <DstRect xOff="3216.25600000005" yOff="0" xSize="76941" ySize="91626.037" />
      <NODATA>-32767</NODATA>
    </ComplexSource>
    <ComplexSource>
      <SourceFilename relativeToVRT="0">/vsicurl/https://canelevation-dem.s3.ca-central-1.amazonaws.com/hrdem-lidar/QC-600021_48_RiviereYamaskaChateauguay_2021-1m-dtm.tif</SourceFilename>
      <SourceBand>1</SourceBand>
      <SourceProperties RasterXSize="138297" RasterYSize="121887" DataType="Float32" BlockXSize="512" BlockYSize="512" />
      <SrcRect xOff="45177.7439999999" yOff="0" xSize="89153" ySize="83778.963" />
      <DstRect xOff="0" yOff="21020.037" xSize="89153" ySize="83778.963" />
      <NODATA>-32767</NODATA>
    </ComplexSource>
    <ComplexSource>
      <SourceFilename relativeToVRT="0">/vsicurl/https://canelevation-dem.s3.ca-central-1.amazonaws.com/hrdem-lidar/NRCAN-FHIMP_PICAI_Richelieu_2022-1m-dtm.tif</SourceFilename>
      <SourceBand>1</SourceBand>
      <SourceProperties RasterXSize="67541" RasterYSize="48225" DataType="Float32" BlockXSize="512" BlockYSize="512" />
      <SrcRect xOff="0" yOff="0" xSize="66758.7439999999" ySize="22789.963" />
      <DstRect xOff="22394.2560000001" yOff="82009.037" xSize="66758.7439999999" ySize="22789.963" />
      <NODATA>-32767</NODATA>
    </ComplexSource>
    <ComplexSource>
      <SourceFilename relativeToVRT="0">/vsicurl/https://canelevation-dem.s3.ca-central-1.amazonaws.com/hrdem-lidar/QC-600022_43_Becancour_MTM8_2022-1m-dtm.tif</SourceFilename>
      <SourceBand>1</SourceBand>
      <SourceProperties RasterXSize="83257" RasterYSize="147699" DataType="Float32" BlockXSize="512" BlockYSize="512" />
      <SrcRect xOff="0" yOff="84958.963" xSize="76263.7439999999" ySize="62740.037" />
      <DstRect xOff="12889.2560000001" yOff="0" xSize="76263.7439999999" ySize="62740.037" />
      <NODATA>-32767</NODATA>
    </ComplexSource>
  </VRTRasterBand>
  <OverviewList resampling="nearest">2 4 8 16 32 64 128</OverviewList>
</VRTDataset>
