<VRTDataset rasterXSize="108492" rasterYSize="63758">
  <SRS dataAxisToSRSAxisMapping="1,2">PROJCS["NAD83(CSRS) / Canada Atlas Lambert",GEOGCS["NAD83(CSRS)",DATUM["NAD83_Canadian_Spatial_Reference_System",SPHEROID["GRS 1980",6378137,298.257222101,AUTHORITY["EPSG","7019"]],AUTHORITY["EPSG","6140"]],PRIMEM["Greenwich",0,AUTHORITY["EPSG","8901"]],UNIT["degree",0.0174532925199433,AUTHORITY["EPSG","9122"]],AUTHORITY["EPSG","4617"]],PROJECTION["Lambert_Conformal_Conic_2SP"],PARAMETER["latitude_of_origin",49],PARAMETER["central_meridian",-95],PARAMETER["standard_parallel_1",49],PARAMETER["standard_parallel_2",77],PARAMETER["false_easting",0],PARAMETER["false_northing",0],UNIT["metre",1,AUTHORITY["EPSG","9001"]],AXIS["Easting",EAST],AXIS["Northing",NORTH],AUTHORITY["EPSG","3979"]]</SRS>
  <GeoTransform>  1.7019537309999999e+06,  1.0000000000000000e+00,  0.0000000000000000e+00,  1.3963263000000001e+04,  0.0000000000000000e+00, -1.0000000000000000e+00</GeoTransform>
  <VRTRasterBand dataType="Float32" band="1">
    <NoDataValue>-32767</NoDataValue>
    <ColorInterp>Gray</ColorInterp>
    <ComplexSource>
      <SourceFilename relativeToVRT="0">/vsicurl/https://canelevation-dem.s3.ca-central-1.amazonaws.com/hrdem-lidar/QC-10-261_St_Francois_2011-1m-dtm.tif</SourceFilename>
      <SourceBand>1</SourceBand>
      <SourceProperties RasterXSize="83276" RasterYSize="48041" DataType="Float32" BlockXSize="512" BlockYSize="512" />
      <SrcRect xOff="22635.7309999999" yOff="0" xSize="60640.2690000001" ySize="40792.737" />
      <DstRect xOff="0" yOff="22965.263" xSize="60640.2690000001" ySize="40792.737" />
      <NODATA>-32767</NODATA>
    </ComplexSource>
    <ComplexSource>
      <SourceFilename relativeToVRT="0">/vsicurl/https://canelevation-dem.s3.ca-central-1.amazonaws.com/hrdem-lidar/QC-600011-25_Nicolet-Arthabaska_MTM8_2012_2013-1m-dtm.tif</SourceFilename>
      <SourceBand>1</SourceBand>
      <SourceProperties RasterXSize="89663" RasterYSize="83442" DataType="Float32" BlockXSize="512" BlockYSize="512" />
      <SrcRect xOff="13033.7309999999" yOff="22074.737" xSize="76629.2690000001" ySize="61367.263" />
      <DstRect xOff="0" yOff="0" xSize="76629.2690000001" ySize="61367.263" />
      <NODATA>-32767</NODATA>
    </ComplexSource>
    <ComplexSource>
      <SourceFilename relativeToVRT="0">/vsicurl/https://canelevation-dem.s3.ca-central-1.amazonaws.com/hrdem-lidar/QC-600011-25_Nicolet-Arthabaska_MTM7_2012_2013-1m-dtm.tif</SourceFilename>
      <SourceBand>1</SourceBand>
      <SourceProperties RasterXSize="43702" RasterYSize="62579" DataType="Float32" BlockXSize="512" BlockYSize="512" />
      <SrcRect xOff="0" yOff="15466.737" xSize="43702" ySize="47112.263" />
      <DstRect xOff="39756.2690000001" yOff="0" xSize="43702" ySize="47112.263" />
      <NODATA>-32767</NODATA>
    </ComplexSource>
    <ComplexSource>
      <SourceFilename relativeToVRT="0">/vsicurl/https://canelevation-dem.s3.ca-central-1.amazonaws.com/hrdem-lidar/QC-RisquesNaturels_MTQ_MTM7_2016-1m-dtm.tif</SourceFilename>
      <SourceBand>1</SourceBand>
      <SourceProperties RasterXSize="35872" RasterYSize="45201" DataType="Float32" BlockXSize="512" BlockYSize="512" />
      <SrcRect xOff="0" yOff="0" xSize="35872" ySize="45201" />
      <DstRect xOff="55477.2690000001" yOff="11249.263" xSize="35872" ySize="45201" />
      <NODATA>-32767</NODATA>
    </ComplexSource>
    <ComplexSource>
      <SourceFilename relativeToVRT="0">/vsicurl/https://canelevation-dem.s3.ca-central-1.amazonaws.com/hrdem-lidar/QC-RisquesNaturels_MTQ_2016-1m-dtm.tif</SourceFilename>
      <SourceBand>1</SourceBand>
      <SourceProperties RasterXSize="51975" RasterYSize="51335" DataType="Float32" BlockXSize="512" BlockYSize="512" />
      <SrcRect xOff="0" yOff="0" xSize="51975" ySize="31272.737" />
      <DstRect xOff="28588.2690000001" yOff="32485.263" xSize="51975" ySize="31272.737" />
      <NODATA>-32767</NODATA>
    </ComplexSource>
    <ComplexSource>
      <SourceFilename relativeToVRT="0">/vsicurl/https://canelevation-dem.s3.ca-central-1.amazonaws.com/hrdem-lidar/QC-RisquesNaturels_MTQ_MTM7_2017-1m-dtm.tif</SourceFilename>
      <SourceBand>1</SourceBand>
      <SourceProperties RasterXSize="64139" RasterYSize="138133" DataType="Float32" BlockXSize="512" BlockYSize="512" />
      <SrcRect xOff="0" yOff="53643.737" xSize="45146.7309999999" ySize="63758" />
      <DstRect xOff="63345.2690000001" yOff="0" xSize="45146.7309999999" ySize="63758" />
      <NODATA>-32767</NODATA>
    </ComplexSource>
    <ComplexSource>
      <SourceFilename relativeToVRT="0">/vsicurl/https://canelevation-dem.s3.ca-central-1.amazonaws.com/hrdem-lidar/QC-RisquesNaturels_MTQ_2017-1m-dtm.tif</SourceFilename>
      <SourceBand>1</SourceBand>
      <SourceProperties RasterXSize="35310" RasterYSize="48135" DataType="Float32" BlockXSize="512" BlockYSize="512" />
      <SrcRect xOff="0" yOff="0" xSize="35310" ySize="21670.737" />
      <DstRect xOff="54247.2690000001" yOff="42087.263" xSize="35310" ySize="21670.737" />
      <NODATA>-32767</NODATA>
    </ComplexSource>
    <ComplexSource>
      <SourceFilename relativeToVRT="0">/vsicurl/https://canelevation-dem.s3.ca-central-1.amazonaws.com/hrdem-lidar/QC-RisquesNaturels_MTQ_MTM7_2018-1m-dtm.tif</SourceFilename>
      <SourceBand>1</SourceBand>
      <SourceProperties RasterXSize="83400" RasterYSize="92877" DataType="Float32" BlockXSize="512" BlockYSize="512" />
      <SrcRect xOff="0" yOff="53643.737" xSize="51134.7309999999" ySize="39233.263" />
      <DstRect xOff="57357.2690000001" yOff="0" xSize="51134.7309999999" ySize="39233.263" />
      <NODATA>-32767</NODATA>
    </ComplexSource>
    <ComplexSource>
      <SourceFilename relativeToVRT="0">/vsicurl/https://canelevation-dem.s3.ca-central-1.amazonaws.com/hrdem-lidar/QC-DIF_GrandMtl_MTM7_2018-1m-dtm.tif</SourceFilename>
      <SourceBand>1</SourceBand>
      <SourceProperties RasterXSize="130693" RasterYSize="145100" DataType="Float32" BlockXSize="512" BlockYSize="512" />
      <SrcRect xOff="0" yOff="8370.737" xSize="37273.7309999999" ySize="63758" />
      <DstRect xOff="71218.2690000001" yOff="0" xSize="37273.7309999999" ySize="63758" />
      <NODATA>-32767</NODATA>
    </ComplexSource>
    <ComplexSource>
      <SourceFilename relativeToVRT="0">/vsicurl/https://canelevation-dem.s3.ca-central-1.amazonaws.com/hrdem-lidar/QC-Fleuve_St_Laurent_2018-1m-dtm.tif</SourceFilename>
      <SourceBand>1</SourceBand>
      <SourceProperties RasterXSize="132059" RasterYSize="211380" DataType="Float32" BlockXSize="512" BlockYSize="512" />
      <SrcRect xOff="106697.731" yOff="2623.737" xSize="25361.2690000001" ySize="63758" />
      <DstRect xOff="0" yOff="0" xSize="25361.2690000001" ySize="63758" />
      <NODATA>-32767</NODATA>
    </ComplexSource>
    <ComplexSource>
      <SourceFilename relativeToVRT="0">/vsicurl/https://canelevation-dem.s3.ca-central-1.amazonaws.com/hrdem-lidar/QC-600021_39_RiviereYamaskaStFrancois_MTM8_2021-1m-dtm.tif</SourceFilename>
      <SourceBand>1</SourceBand>
      <SourceProperties RasterXSize="76941" RasterYSize="99427" DataType="Float32" BlockXSize="512" BlockYSize="512" />
      <SrcRect xOff="16300.7309999999" yOff="0" xSize="60640.2690000001" ySize="31212.737" />
      <DstRect xOff="0" yOff="32545.263" xSize="60640.2690000001" ySize="31212.737" />
      <NODATA>-32767</NODATA>
    </ComplexSource>
    <ComplexSource>
      <SourceFilename relativeToVRT="0">/vsicurl/https://canelevation-dem.s3.ca-central-1.amazonaws.com/hrdem-lidar/QC-600022_44_Erable_MTM7_2022-1m-dtm.tif</SourceFilename>
      <SourceBand>1</SourceBand>
      <SourceProperties RasterXSize="60337" RasterYSize="104954" DataType="Float32" BlockXSize="512" BlockYSize="512" />
      <SrcRect xOff="0" yOff="57841.737" xSize="60337" ySize="47112.263" />
      <DstRect xOff="28497.2690000001" yOff="0" xSize="60337" ySize="47112.263" />
      <NODATA>-32767</NODATA>
    </ComplexSource>
    <ComplexSource>
      <SourceFilename relativeToVRT="0">/vsicurl/https://canelevation-dem.s3.ca-central-1.amazonaws.com/hrdem-lidar/QC-600022_43_Becancour_MTM8_2022-1m-dtm.tif</SourceFilename>
      <SourceBand>1</SourceBand>
      <SourceProperties RasterXSize="83257" RasterYSize="147699" DataType="Float32" BlockXSize="512" BlockYSize="512" />
      <SrcRect xOff="6627.73099999991" yOff="44612.737" xSize="76629.2690000001" ySize="63758" />
      <DstRect xOff="0" yOff="0" xSize="76629.2690000001" ySize="63758" />
      <NODATA>-32767</NODATA>
    </ComplexSource>
    <ComplexSource>
      <SourceFilename relativeToVRT="0">/vsicurl/https://canelevation-dem.s3.ca-central-1.amazonaws.com/hrdem-lidar/QC-600022_43_Becancour_MTM7_2022-1m-dtm.tif</SourceFilename>
      <SourceBand>1</SourceBand>
      <SourceProperties RasterXSize="22615" RasterYSize="17218" DataType="Float32" BlockXSize="512" BlockYSize="512" />
      <SrcRect xOff="0" yOff="0" xSize="22615" ySize="17218" />
      <DstRect xOff="63345.2690000001" yOff="39232.263" xSize="22615" ySize="17218" />
      <NODATA>-32767</NODATA>
    </ComplexSource>
  </VRTRasterBand>
  <OverviewList resampling="nearest">2 4 8 16 32 64</OverviewList>
</VRTDataset>
