<VRTDataset rasterXSize="98508" rasterYSize="64634">
  <SRS dataAxisToSRSAxisMapping="1,2">PROJCS["NAD83(CSRS) / Canada Atlas Lambert",GEOGCS["NAD83(CSRS)",DATUM["NAD83_Canadian_Spatial_Reference_System",SPHEROID["GRS 1980",6378137,298.257222101,AUTHORITY["EPSG","7019"]],AUTHORITY["EPSG","6140"]],PRIMEM["Greenwich",0,AUTHORITY["EPSG","8901"]],UNIT["degree",0.0174532925199433,AUTHORITY["EPSG","9122"]],AUTHORITY["EPSG","4617"]],PROJECTION["Lambert_Conformal_Conic_2SP"],PARAMETER["latitude_of_origin",49],PARAMETER["central_meridian",-95],PARAMETER["standard_parallel_1",49],PARAMETER["standard_parallel_2",77],PARAMETER["false_easting",0],PARAMETER["false_northing",0],UNIT["metre",1,AUTHORITY["EPSG","9001"]],AXIS["Easting",EAST],AXIS["Northing",NORTH],AUTHORITY["EPSG","3979"]]</SRS>
  <GeoTransform>  1.6131323340000000e+06,  1.0000000000000000e+00,  0.0000000000000000e+00,  3.9775555000000000e+04,  0.0000000000000000e+00, -1.0000000000000000e+00</GeoTransform>
  <VRTRasterBand dataType="Float32" band="1">
    <NoDataValue>-32767</NoDataValue>
    <ColorInterp>Gray</ColorInterp>
    <ComplexSource>
      <SourceFilename relativeToVRT="0">/vsicurl/https://canelevation-dem.s3.ca-central-1.amazonaws.com/hrdem-lidar/QC-600011-25_Nicolet-Arthabaska_MTM8_2012_2013-1m-dtm.tif</SourceFilename>
      <SourceBand>1</SourceBand>
      <SourceProperties RasterXSize="89663" RasterYSize="83442" DataType="Float32" BlockXSize="512" BlockYSize="512" />
      <SrcRect xOff="0" yOff="0" xSize="22720.334" ySize="60896.445" />
      <DstRect xOff="75787.666" yOff="3737.555" xSize="22720.334" ySize="60896.445" />
      <NODATA>-32767</NODATA>
    </ComplexSource>
    <ComplexSource>
      <SourceFilename relativeToVRT="0">/vsicurl/https://canelevation-dem.s3.ca-central-1.amazonaws.com/hrdem-lidar/QC-Mauricie_Sud-1m-dtm.tif</SourceFilename>
      <SourceBand>1</SourceBand>
      <SourceProperties RasterXSize="121232" RasterYSize="102151" DataType="Float32" BlockXSize="512" BlockYSize="512" />
      <SrcRect xOff="19887.334" yOff="47028.445" xSize="98508" ySize="55122.555" />
      <DstRect xOff="0" yOff="0" xSize="98508" ySize="55122.555" />
      <NODATA>-32767</NODATA>
    </ComplexSource>
    <ComplexSource>
      <SourceFilename relativeToVRT="0">/vsicurl/https://canelevation-dem.s3.ca-central-1.amazonaws.com/hrdem-lidar/QC-600018-22_LidarDIF_GrandMtl_MTM8_2018-1m-dtm.tif</SourceFilename>
      <SourceBand>1</SourceBand>
      <SourceProperties RasterXSize="113299" RasterYSize="128135" DataType="Float32" BlockXSize="512" BlockYSize="512" />
      <SrcRect xOff="0" yOff="0" xSize="22698.334" ySize="51031.445" />
      <DstRect xOff="75809.666" yOff="13602.555" xSize="22698.334" ySize="51031.445" />
      <NODATA>-32767</NODATA>
    </ComplexSource>
    <ComplexSource>
      <SourceFilename relativeToVRT="0">/vsicurl/https://canelevation-dem.s3.ca-central-1.amazonaws.com/hrdem-lidar/QC-600017-31_Partie_NO-1m-dtm.tif</SourceFilename>
      <SourceBand>1</SourceBand>
      <SourceProperties RasterXSize="67427" RasterYSize="102551" DataType="Float32" BlockXSize="512" BlockYSize="512" />
      <SrcRect xOff="0" yOff="0" xSize="67427" ySize="9465.445" />
      <DstRect xOff="14748.666" yOff="55168.555" xSize="67427" ySize="9465.445" />
      <NODATA>-32767</NODATA>
    </ComplexSource>
    <ComplexSource>
      <SourceFilename relativeToVRT="0">/vsicurl/https://canelevation-dem.s3.ca-central-1.amazonaws.com/hrdem-lidar/QC-Fleuve_St_Laurent_2018-1m-dtm.tif</SourceFilename>
      <SourceBand>1</SourceBand>
      <SourceProperties RasterXSize="132059" RasterYSize="211380" DataType="Float32" BlockXSize="512" BlockYSize="512" />
      <SrcRect xOff="17876.334" yOff="0" xSize="98508" ySize="41445.445" />
      <DstRect xOff="0" yOff="23188.555" xSize="98508" ySize="41445.445" />
      <NODATA>-32767</NODATA>
    </ComplexSource>
    <ComplexSource>
      <SourceFilename relativeToVRT="0">/vsicurl/https://canelevation-dem.s3.ca-central-1.amazonaws.com/hrdem-lidar/QC-DIF_Grand_Montreal_2018-1m-dtm.tif</SourceFilename>
      <SourceBand>1</SourceBand>
      <SourceProperties RasterXSize="153355" RasterYSize="192394" DataType="Float32" BlockXSize="512" BlockYSize="512" />
      <SrcRect xOff="55250.334" yOff="0" xSize="98104.666" ySize="63892.445" />
      <DstRect xOff="0" yOff="741.555" xSize="98104.666" ySize="63892.445" />
      <NODATA>-32767</NODATA>
    </ComplexSource>
    <ComplexSource>
      <SourceFilename relativeToVRT="0">/vsicurl/https://canelevation-dem.s3.ca-central-1.amazonaws.com/hrdem-lidar/QC-600018-29_Risques_Naturels_MTQ_2018-2019-1m-dtm.tif</SourceFilename>
      <SourceBand>1</SourceBand>
      <SourceProperties RasterXSize="80006" RasterYSize="115200" DataType="Float32" BlockXSize="512" BlockYSize="512" />
      <SrcRect xOff="0" yOff="0" xSize="80006" ySize="51029.445" />
      <DstRect xOff="14982.666" yOff="13604.555" xSize="80006" ySize="51029.445" />
      <NODATA>-32767</NODATA>
    </ComplexSource>
    <ComplexSource>
      <SourceFilename relativeToVRT="0">/vsicurl/https://canelevation-dem.s3.ca-central-1.amazonaws.com/hrdem-lidar/QC-600021_40_MauriciePortneuf_MTM8_2021-1m-dtm.tif</SourceFilename>
      <SourceBand>1</SourceBand>
      <SourceProperties RasterXSize="89027" RasterYSize="107940" DataType="Float32" BlockXSize="512" BlockYSize="512" />
      <SrcRect xOff="0" yOff="55964.445" xSize="48202.334" ySize="51975.555" />
      <DstRect xOff="50305.666" yOff="0" xSize="48202.334" ySize="51975.555" />
      <NODATA>-32767</NODATA>
    </ComplexSource>
    <ComplexSource>
      <SourceFilename relativeToVRT="0">/vsicurl/https://canelevation-dem.s3.ca-central-1.amazonaws.com/hrdem-lidar/QC-600021_47_RiviereSaintMaurice_2021-1m-dtm.tif</SourceFilename>
      <SourceBand>1</SourceBand>
      <SourceProperties RasterXSize="117919" RasterYSize="156069" DataType="Float32" BlockXSize="512" BlockYSize="512" />
      <SrcRect xOff="29337.334" yOff="120231.445" xSize="88581.666" ySize="35837.555" />
      <DstRect xOff="0" yOff="0" xSize="88581.666" ySize="35837.555" />
      <NODATA>-32767</NODATA>
    </ComplexSource>
  </VRTRasterBand>
  <OverviewList resampling="nearest">2 4 8 16 32 64 128</OverviewList>
</VRTDataset>
