<VRTDataset rasterXSize="107950" rasterYSize="89077">
  <SRS dataAxisToSRSAxisMapping="1,2">PROJCS["NAD83(CSRS) / Canada Atlas Lambert",GEOGCS["NAD83(CSRS)",DATUM["NAD83_Canadian_Spatial_Reference_System",SPHEROID["GRS 1980",6378137,298.257222101,AUTHORITY["EPSG","7019"]],AUTHORITY["EPSG","6140"]],PRIMEM["Greenwich",0,AUTHORITY["EPSG","8901"]],UNIT["degree",0.0174532925199433,AUTHORITY["EPSG","9122"]],AUTHORITY["EPSG","4617"]],PROJECTION["Lambert_Conformal_Conic_2SP"],PARAMETER["latitude_of_origin",49],PARAMETER["central_meridian",-95],PARAMETER["standard_parallel_1",49],PARAMETER["standard_parallel_2",77],PARAMETER["false_easting",0],PARAMETER["false_northing",0],UNIT["metre",1,AUTHORITY["EPSG","9001"]],AXIS["Easting",EAST],AXIS["Northing",NORTH],AUTHORITY["EPSG","3979"]]</SRS>
  <GeoTransform>  1.5740869809999999e+06,  1.0000000000000000e+00,  0.0000000000000000e+00, -1.1066160000000000e+03,  0.0000000000000000e+00, -1.0000000000000000e+00</GeoTransform>
  <VRTRasterBand dataType="Float32" band="1">
    <NoDataValue>-32767</NoDataValue>
    <ColorInterp>Gray</ColorInterp>
    <ComplexSource>
      <SourceFilename relativeToVRT="0">/vsicurl/https://canelevation-dem.s3.ca-central-1.amazonaws.com/hrdem-lidar/QC-600014_36_Matawinie_MTM8_2014_15-1m-dtm.tif</SourceFilename>
      <SourceBand>1</SourceBand>
      <SourceProperties RasterXSize="83453" RasterYSize="86226" DataType="Float32" BlockXSize="512" BlockYSize="512" />
      <SrcRect xOff="682.980999999912" yOff="0" xSize="82770.0190000001" ySize="62055.616" />
      <DstRect xOff="0" yOff="27021.384" xSize="82770.0190000001" ySize="62055.616" />
      <NODATA>-32767</NODATA>
    </ComplexSource>
    <ComplexSource>
      <SourceFilename relativeToVRT="0">/vsicurl/https://canelevation-dem.s3.ca-central-1.amazonaws.com/hrdem-lidar/QC-600017-31_Partie_NO-1m-dtm.tif</SourceFilename>
      <SourceBand>1</SourceBand>
      <SourceProperties RasterXSize="67427" RasterYSize="102551" DataType="Float32" BlockXSize="512" BlockYSize="512" />
      <SrcRect xOff="0" yOff="0" xSize="54155.9809999999" ySize="74790.616" />
      <DstRect xOff="53794.0190000001" yOff="14286.384" xSize="54155.9809999999" ySize="74790.616" />
      <NODATA>-32767</NODATA>
    </ComplexSource>
    <ComplexSource>
      <SourceFilename relativeToVRT="0">/vsicurl/https://canelevation-dem.s3.ca-central-1.amazonaws.com/hrdem-lidar/QC-600018-23_DIF_Grand_Mtl_2018-1m-dtm.tif</SourceFilename>
      <SourceBand>1</SourceBand>
      <SourceProperties RasterXSize="104985" RasterYSize="138082" DataType="Float32" BlockXSize="512" BlockYSize="512" />
      <SrcRect xOff="70458.9809999999" yOff="5538.616" xSize="34526.0190000001" ySize="89077" />
      <DstRect xOff="0" yOff="0" xSize="34526.0190000001" ySize="89077" />
      <NODATA>-32767</NODATA>
    </ComplexSource>
    <ComplexSource>
      <SourceFilename relativeToVRT="0">/vsicurl/https://canelevation-dem.s3.ca-central-1.amazonaws.com/hrdem-lidar/QC-Fleuve_St_Laurent_2018-1m-dtm.tif</SourceFilename>
      <SourceBand>1</SourceBand>
      <SourceProperties RasterXSize="132059" RasterYSize="211380" DataType="Float32" BlockXSize="512" BlockYSize="512" />
      <SrcRect xOff="0" yOff="17693.616" xSize="86780.9809999999" ySize="89077" />
      <DstRect xOff="21169.0190000001" yOff="0" xSize="86780.9809999999" ySize="89077" />
      <NODATA>-32767</NODATA>
    </ComplexSource>
    <ComplexSource>
      <SourceFilename relativeToVRT="0">/vsicurl/https://canelevation-dem.s3.ca-central-1.amazonaws.com/hrdem-lidar/QC-DIF_Grand_Montreal_2018-1m-dtm.tif</SourceFilename>
      <SourceBand>1</SourceBand>
      <SourceProperties RasterXSize="153355" RasterYSize="192394" DataType="Float32" BlockXSize="512" BlockYSize="512" />
      <SrcRect xOff="16204.9809999999" yOff="40140.616" xSize="107950" ySize="89077" />
      <DstRect xOff="0" yOff="0" xSize="107950" ySize="89077" />
      <NODATA>-32767</NODATA>
    </ComplexSource>
    <ComplexSource>
      <SourceFilename relativeToVRT="0">/vsicurl/https://canelevation-dem.s3.ca-central-1.amazonaws.com/hrdem-lidar/QC-600018-29_Risques_Naturels_MTQ_2018-2019-1m-dtm.tif</SourceFilename>
      <SourceBand>1</SourceBand>
      <SourceProperties RasterXSize="80006" RasterYSize="115200" DataType="Float32" BlockXSize="512" BlockYSize="512" />
      <SrcRect xOff="0" yOff="27277.616" xSize="53921.9809999999" ySize="87922.384" />
      <DstRect xOff="54028.0190000001" yOff="0" xSize="53921.9809999999" ySize="87922.384" />
      <NODATA>-32767</NODATA>
    </ComplexSource>
    <ComplexSource>
      <SourceFilename relativeToVRT="0">/vsicurl/https://canelevation-dem.s3.ca-central-1.amazonaws.com/hrdem-lidar/QC-600020_36_Vaudreuil-Soulanges_MTM8_2020-21-1m-dtm.tif</SourceFilename>
      <SourceBand>1</SourceBand>
      <SourceProperties RasterXSize="121851" RasterYSize="137827" DataType="Float32" BlockXSize="512" BlockYSize="512" />
      <SrcRect xOff="32717.9809999999" yOff="0" xSize="89133.0190000001" ySize="58880.616" />
      <DstRect xOff="0" yOff="30196.384" xSize="89133.0190000001" ySize="58880.616" />
      <NODATA>-32767</NODATA>
    </ComplexSource>
    <ComplexSource>
      <SourceFilename relativeToVRT="0">/vsicurl/https://canelevation-dem.s3.ca-central-1.amazonaws.com/hrdem-lidar/NRCAN-FHIMP_PICAI_PetiteNation_LAssomption_2022-1m-dtm.tif</SourceFilename>
      <SourceBand>1</SourceBand>
      <SourceProperties RasterXSize="121986" RasterYSize="108361" DataType="Float32" BlockXSize="512" BlockYSize="512" />
      <SrcRect xOff="61619.9809999999" yOff="0" xSize="60366.0190000001" ySize="55710.616" />
      <DstRect xOff="0" yOff="33366.384" xSize="60366.0190000001" ySize="55710.616" />
      <NODATA>-32767</NODATA>
    </ComplexSource>
  </VRTRasterBand>
  <OverviewList resampling="nearest">2 4 8 16 32 64 128</OverviewList>
</VRTDataset>
