<VRTDataset rasterXSize="65732" rasterYSize="107611">
  <SRS dataAxisToSRSAxisMapping="1,2">PROJCS["NAD83(CSRS) / Canada Atlas Lambert",GEOGCS["NAD83(CSRS)",DATUM["NAD83_Canadian_Spatial_Reference_System",SPHEROID["GRS 1980",6378137,298.257222101,AUTHORITY["EPSG","7019"]],AUTHORITY["EPSG","6140"]],PRIMEM["Greenwich",0,AUTHORITY["EPSG","8901"]],UNIT["degree",0.0174532925199433,AUTHORITY["EPSG","9122"]],AUTHORITY["EPSG","4617"]],PROJECTION["Lambert_Conformal_Conic_2SP"],PARAMETER["latitude_of_origin",49],PARAMETER["central_meridian",-95],PARAMETER["standard_parallel_1",49],PARAMETER["standard_parallel_2",77],PARAMETER["false_easting",0],PARAMETER["false_northing",0],UNIT["metre",1,AUTHORITY["EPSG","9001"]],AXIS["Easting",EAST],AXIS["Northing",NORTH],AUTHORITY["EPSG","3979"]]</SRS>
  <GeoTransform>  1.6482569939999999e+06,  1.0000000000000000e+00,  0.0000000000000000e+00,  1.1527388000000000e+05,  0.0000000000000000e+00, -1.0000000000000000e+00</GeoTransform>
  <VRTRasterBand dataType="Float32" band="1">
    <NoDataValue>-32767</NoDataValue>
    <ColorInterp>Gray</ColorInterp>
    <ComplexSource>
      <SourceFilename relativeToVRT="0">/vsicurl/https://canelevation-dem.s3.ca-central-1.amazonaws.com/hrdem-lidar/QC-600011-25_Nicolet-Arthabaska_MTM8_2012_2013-1m-dtm.tif</SourceFilename>
      <SourceBand>1</SourceBand>
      <SourceProperties RasterXSize="89663" RasterYSize="83442" DataType="Float32" BlockXSize="512" BlockYSize="512" />
      <SrcRect xOff="0" yOff="0" xSize="25068.9939999999" ySize="28375.12" />
      <DstRect xOff="40663.0060000001" yOff="79235.88" xSize="25068.9939999999" ySize="28375.12" />
      <NODATA>-32767</NODATA>
    </ComplexSource>
    <ComplexSource>
      <SourceFilename relativeToVRT="0">/vsicurl/https://canelevation-dem.s3.ca-central-1.amazonaws.com/hrdem-lidar/QC-Mauricie_Sud-1m-dtm.tif</SourceFilename>
      <SourceBand>1</SourceBand>
      <SourceProperties RasterXSize="121232" RasterYSize="102151" DataType="Float32" BlockXSize="512" BlockYSize="512" />
      <SrcRect xOff="55011.9939999999" yOff="0" xSize="65732" ySize="79141.12" />
      <DstRect xOff="0" yOff="28469.88" xSize="65732" ySize="79141.12" />
      <NODATA>-32767</NODATA>
    </ComplexSource>
    <ComplexSource>
      <SourceFilename relativeToVRT="0">/vsicurl/https://canelevation-dem.s3.ca-central-1.amazonaws.com/hrdem-lidar/QC-Mauricie_Nord-1m-dtm.tif</SourceFilename>
      <SourceBand>1</SourceBand>
      <SourceProperties RasterXSize="130760" RasterYSize="120872" DataType="Float32" BlockXSize="512" BlockYSize="512" />
      <SrcRect xOff="67738.9939999999" yOff="44733.12" xSize="63021.0060000001" ySize="76138.88" />
      <DstRect xOff="0" yOff="0" xSize="63021.0060000001" ySize="76138.88" />
      <NODATA>-32767</NODATA>
    </ComplexSource>
    <ComplexSource>
      <SourceFilename relativeToVRT="0">/vsicurl/https://canelevation-dem.s3.ca-central-1.amazonaws.com/hrdem-lidar/QC-600015-33_MTM8-1m-dtm.tif</SourceFilename>
      <SourceBand>1</SourceBand>
      <SourceProperties RasterXSize="64457" RasterYSize="124234" DataType="Float32" BlockXSize="512" BlockYSize="512" />
      <SrcRect xOff="0" yOff="63867.12" xSize="37774.9939999999" ySize="60366.88" />
      <DstRect xOff="27957.0060000001" yOff="0" xSize="37774.9939999999" ySize="60366.88" />
      <NODATA>-32767</NODATA>
    </ComplexSource>
    <ComplexSource>
      <SourceFilename relativeToVRT="0">/vsicurl/https://canelevation-dem.s3.ca-central-1.amazonaws.com/hrdem-lidar/QC-600016-07_SOR_2016-1m-dtm.tif</SourceFilename>
      <SourceBand>1</SourceBand>
      <SourceProperties RasterXSize="124030" RasterYSize="152496" DataType="Float32" BlockXSize="512" BlockYSize="512" />
      <SrcRect xOff="64235.9939999999" yOff="108238.12" xSize="59794.0060000001" ySize="44257.88" />
      <DstRect xOff="0" yOff="0" xSize="59794.0060000001" ySize="44257.88" />
      <NODATA>-32767</NODATA>
    </ComplexSource>
    <ComplexSource>
      <SourceFilename relativeToVRT="0">/vsicurl/https://canelevation-dem.s3.ca-central-1.amazonaws.com/hrdem-lidar/QC-600018-22_LidarDIF_GrandMtl_MTM8_2018-1m-dtm.tif</SourceFilename>
      <SourceBand>1</SourceBand>
      <SourceProperties RasterXSize="113299" RasterYSize="128135" DataType="Float32" BlockXSize="512" BlockYSize="512" />
      <SrcRect xOff="0" yOff="0" xSize="25046.9939999999" ySize="18510.12" />
      <DstRect xOff="40685.0060000001" yOff="89100.88" xSize="25046.9939999999" ySize="18510.12" />
      <NODATA>-32767</NODATA>
    </ComplexSource>
    <ComplexSource>
      <SourceFilename relativeToVRT="0">/vsicurl/https://canelevation-dem.s3.ca-central-1.amazonaws.com/hrdem-lidar/QC-600018-18_LidarDIF_Mauricie_MTM8_2018-1m-dtm.tif</SourceFilename>
      <SourceBand>1</SourceBand>
      <SourceProperties RasterXSize="244387" RasterYSize="190588" DataType="Float32" BlockXSize="512" BlockYSize="512" />
      <SrcRect xOff="184592.994" yOff="111450.12" xSize="59794.0060000001" ySize="79137.88" />
      <DstRect xOff="0" yOff="0" xSize="59794.0060000001" ySize="79137.88" />
      <NODATA>-32767</NODATA>
    </ComplexSource>
    <ComplexSource>
      <SourceFilename relativeToVRT="0">/vsicurl/https://canelevation-dem.s3.ca-central-1.amazonaws.com/hrdem-lidar/QC-Fleuve_St_Laurent_2018-1m-dtm.tif</SourceFilename>
      <SourceBand>1</SourceBand>
      <SourceProperties RasterXSize="132059" RasterYSize="211380" DataType="Float32" BlockXSize="512" BlockYSize="512" />
      <SrcRect xOff="53000.9939999999" yOff="0" xSize="65732" ySize="8924.12" />
      <DstRect xOff="0" yOff="98686.88" xSize="65732" ySize="8924.12" />
      <NODATA>-32767</NODATA>
    </ComplexSource>
    <ComplexSource>
      <SourceFilename relativeToVRT="0">/vsicurl/https://canelevation-dem.s3.ca-central-1.amazonaws.com/hrdem-lidar/QC-600018-29_Risques_Naturels_MTQ_2018-2019-1m-dtm.tif</SourceFilename>
      <SourceBand>1</SourceBand>
      <SourceProperties RasterXSize="80006" RasterYSize="115200" DataType="Float32" BlockXSize="512" BlockYSize="512" />
      <SrcRect xOff="20141.9939999999" yOff="0" xSize="59864.0060000001" ySize="18508.12" />
      <DstRect xOff="0" yOff="89102.88" xSize="59864.0060000001" ySize="18508.12" />
      <NODATA>-32767</NODATA>
    </ComplexSource>
    <ComplexSource>
      <SourceFilename relativeToVRT="0">/vsicurl/https://canelevation-dem.s3.ca-central-1.amazonaws.com/hrdem-lidar/QC-600021_40_MauriciePortneuf_MTM8_2021-1m-dtm.tif</SourceFilename>
      <SourceBand>1</SourceBand>
      <SourceProperties RasterXSize="89027" RasterYSize="107940" DataType="Float32" BlockXSize="512" BlockYSize="512" />
      <SrcRect xOff="0" yOff="0" xSize="50550.9939999999" ySize="88077.12" />
      <DstRect xOff="15181.0060000001" yOff="19533.88" xSize="50550.9939999999" ySize="88077.12" />
      <NODATA>-32767</NODATA>
    </ComplexSource>
    <ComplexSource>
      <SourceFilename relativeToVRT="0">/vsicurl/https://canelevation-dem.s3.ca-central-1.amazonaws.com/hrdem-lidar/QC-600021_47_RiviereSaintMaurice_2021-1m-dtm.tif</SourceFilename>
      <SourceBand>1</SourceBand>
      <SourceProperties RasterXSize="117919" RasterYSize="156069" DataType="Float32" BlockXSize="512" BlockYSize="512" />
      <SrcRect xOff="64461.9939999999" yOff="44733.12" xSize="53457.0060000001" ySize="107611" />
      <DstRect xOff="0" yOff="0" xSize="53457.0060000001" ySize="107611" />
      <NODATA>-32767</NODATA>
    </ComplexSource>
    <ComplexSource>
      <SourceFilename relativeToVRT="0">/vsicurl/https://canelevation-dem.s3.ca-central-1.amazonaws.com/hrdem-lidar/NRCAN-FHIMP_PICAI_Batiscan_SteAnne_UTM18_2022-1m-dtm.tif</SourceFilename>
      <SourceBand>1</SourceBand>
      <SourceProperties RasterXSize="73254" RasterYSize="149780" DataType="Float32" BlockXSize="512" BlockYSize="512" />
      <SrcRect xOff="0" yOff="63867.12" xSize="50501.9939999999" ySize="85912.88" />
      <DstRect xOff="15230.0060000001" yOff="0" xSize="50501.9939999999" ySize="85912.88" />
      <NODATA>-32767</NODATA>
    </ComplexSource>
  </VRTRasterBand>
  <OverviewList resampling="nearest">2 4 8 16 32 64 128</OverviewList>
</VRTDataset>
