<VRTDataset rasterXSize="117348" rasterYSize="95447">
  <SRS dataAxisToSRSAxisMapping="1,2">PROJCS["NAD83(CSRS) / Canada Atlas Lambert",GEOGCS["NAD83(CSRS)",DATUM["NAD83_Canadian_Spatial_Reference_System",SPHEROID["GRS 1980",6378137,298.257222101,AUTHORITY["EPSG","7019"]],AUTHORITY["EPSG","6140"]],PRIMEM["Greenwich",0,AUTHORITY["EPSG","8901"]],UNIT["degree",0.0174532925199433,AUTHORITY["EPSG","9122"]],AUTHORITY["EPSG","4617"]],PROJECTION["Lambert_Conformal_Conic_2SP"],PARAMETER["latitude_of_origin",49],PARAMETER["central_meridian",-95],PARAMETER["standard_parallel_1",49],PARAMETER["standard_parallel_2",77],PARAMETER["false_easting",0],PARAMETER["false_northing",0],UNIT["metre",1,AUTHORITY["EPSG","9001"]],AXIS["Easting",EAST],AXIS["Northing",NORTH],AUTHORITY["EPSG","3979"]]</SRS>
  <GeoTransform>  1.5473879350000001e+06,  1.0000000000000000e+00,  0.0000000000000000e+00,  6.9607691999999995e+04,  0.0000000000000000e+00, -1.0000000000000000e+00</GeoTransform>
  <VRTRasterBand dataType="Float32" band="1">
    <NoDataValue>-32767</NoDataValue>
    <ColorInterp>Gray</ColorInterp>
    <ComplexSource>
      <SourceFilename relativeToVRT="0">/vsicurl/https://canelevation-dem.s3.ca-central-1.amazonaws.com/hrdem-lidar/QC-Mauricie_Sud-1m-dtm.tif</SourceFilename>
      <SourceBand>1</SourceBand>
      <SourceProperties RasterXSize="121232" RasterYSize="102151" DataType="Float32" BlockXSize="512" BlockYSize="512" />
      <SrcRect xOff="0" yOff="17196.308" xSize="71490.9350000001" ySize="84954.692" />
      <DstRect xOff="45857.0649999999" yOff="0" xSize="71490.9350000001" ySize="84954.692" />
      <NODATA>-32767</NODATA>
    </ComplexSource>
    <ComplexSource>
      <SourceFilename relativeToVRT="0">/vsicurl/https://canelevation-dem.s3.ca-central-1.amazonaws.com/hrdem-lidar/QC-Mauricie_Nord-1m-dtm.tif</SourceFilename>
      <SourceBand>1</SourceBand>
      <SourceProperties RasterXSize="130760" RasterYSize="120872" DataType="Float32" BlockXSize="512" BlockYSize="512" />
      <SrcRect xOff="0" yOff="90399.308" xSize="84217.9350000001" ySize="30472.692" />
      <DstRect xOff="33130.0649999999" yOff="0" xSize="84217.9350000001" ySize="30472.692" />
      <NODATA>-32767</NODATA>
    </ComplexSource>
    <ComplexSource>
      <SourceFilename relativeToVRT="0">/vsicurl/https://canelevation-dem.s3.ca-central-1.amazonaws.com/hrdem-lidar/QC-600017_23_LaurentidesLanaudiere_MTM8_2017-1m-dtm.tif</SourceFilename>
      <SourceBand>1</SourceBand>
      <SourceProperties RasterXSize="152479" RasterYSize="149744" DataType="Float32" BlockXSize="512" BlockYSize="512" />
      <SrcRect xOff="77981.9350000001" yOff="49511.308" xSize="74497.0649999999" ySize="95447" />
      <DstRect xOff="0" yOff="0" xSize="74497.0649999999" ySize="95447" />
      <NODATA>-32767</NODATA>
    </ComplexSource>
    <ComplexSource>
      <SourceFilename relativeToVRT="0">/vsicurl/https://canelevation-dem.s3.ca-central-1.amazonaws.com/hrdem-lidar/QC-600018-18_LidarDIF_Mauricie_MTM8_2018-1m-dtm.tif</SourceFilename>
      <SourceBand>1</SourceBand>
      <SourceProperties RasterXSize="244387" RasterYSize="190588" DataType="Float32" BlockXSize="512" BlockYSize="512" />
      <SrcRect xOff="83723.9350000001" yOff="157116.308" xSize="117348" ySize="33471.692" />
      <DstRect xOff="0" yOff="0" xSize="117348" ySize="33471.692" />
      <NODATA>-32767</NODATA>
    </ComplexSource>
    <ComplexSource>
      <SourceFilename relativeToVRT="0">/vsicurl/https://canelevation-dem.s3.ca-central-1.amazonaws.com/hrdem-lidar/QC-600018-23_DIF_Grand_Mtl_2018-1m-dtm.tif</SourceFilename>
      <SourceBand>1</SourceBand>
      <SourceProperties RasterXSize="104985" RasterYSize="138082" DataType="Float32" BlockXSize="512" BlockYSize="512" />
      <SrcRect xOff="43759.9350000001" yOff="0" xSize="61225.0649999999" ySize="30271.308" />
      <DstRect xOff="0" yOff="65175.692" xSize="61225.0649999999" ySize="30271.308" />
      <NODATA>-32767</NODATA>
    </ComplexSource>
    <ComplexSource>
      <SourceFilename relativeToVRT="0">/vsicurl/https://canelevation-dem.s3.ca-central-1.amazonaws.com/hrdem-lidar/QC-DIF_Grand_Montreal_2018-1m-dtm.tif</SourceFilename>
      <SourceBand>1</SourceBand>
      <SourceProperties RasterXSize="153355" RasterYSize="192394" DataType="Float32" BlockXSize="512" BlockYSize="512" />
      <SrcRect xOff="0" yOff="0" xSize="106853.935" ySize="64873.308" />
      <DstRect xOff="10494.0649999999" yOff="30573.692" xSize="106853.935" ySize="64873.308" />
      <NODATA>-32767</NODATA>
    </ComplexSource>
    <ComplexSource>
      <SourceFilename relativeToVRT="0">/vsicurl/https://canelevation-dem.s3.ca-central-1.amazonaws.com/hrdem-lidar/QC-600021_47_RiviereSaintMaurice_2021-1m-dtm.tif</SourceFilename>
      <SourceBand>1</SourceBand>
      <SourceProperties RasterXSize="117919" RasterYSize="156069" DataType="Float32" BlockXSize="512" BlockYSize="512" />
      <SrcRect xOff="0" yOff="90399.308" xSize="80940.9350000001" ySize="65669.692" />
      <DstRect xOff="36407.0649999999" yOff="0" xSize="80940.9350000001" ySize="65669.692" />
      <NODATA>-32767</NODATA>
    </ComplexSource>
  </VRTRasterBand>
  <OverviewList resampling="nearest">2 4 8 16 32 64 128</OverviewList>
</VRTDataset>
