<VRTDataset rasterXSize="88401" rasterYSize="173232">
  <SRS dataAxisToSRSAxisMapping="1,2">PROJCS["NAD83(CSRS) / Canada Atlas Lambert",GEOGCS["NAD83(CSRS)",DATUM["NAD83_Canadian_Spatial_Reference_System",SPHEROID["GRS 1980",6378137,298.257222101,AUTHORITY["EPSG","7019"]],AUTHORITY["EPSG","6140"]],PRIMEM["Greenwich",0,AUTHORITY["EPSG","8901"]],UNIT["degree",0.0174532925199433,AUTHORITY["EPSG","9122"]],AUTHORITY["EPSG","4617"]],PROJECTION["Lambert_Conformal_Conic_2SP"],PARAMETER["latitude_of_origin",49],PARAMETER["central_meridian",-95],PARAMETER["standard_parallel_1",49],PARAMETER["standard_parallel_2",77],PARAMETER["false_easting",0],PARAMETER["false_northing",0],UNIT["metre",1,AUTHORITY["EPSG","9001"]],AXIS["Easting",EAST],AXIS["Northing",NORTH],AUTHORITY["EPSG","3979"]]</SRS>
  <GeoTransform>  1.6122376640000001e+06,  1.0000000000000000e+00,  0.0000000000000000e+00,  2.2963477400000000e+05,  0.0000000000000000e+00, -1.0000000000000000e+00</GeoTransform>
  <VRTRasterBand dataType="Float32" band="1">
    <NoDataValue>-32767</NoDataValue>
    <ColorInterp>Gray</ColorInterp>
    <ComplexSource>
      <SourceFilename relativeToVRT="0">/vsicurl/https://canelevation-dem.s3.ca-central-1.amazonaws.com/hrdem-lidar/QC-Mauricie_Sud-1m-dtm.tif</SourceFilename>
      <SourceBand>1</SourceBand>
      <SourceProperties RasterXSize="121232" RasterYSize="102151" DataType="Float32" BlockXSize="512" BlockYSize="512" />
      <SrcRect xOff="18992.6640000001" yOff="0" xSize="88401" ySize="30401.226" />
      <DstRect xOff="0" yOff="142830.774" xSize="88401" ySize="30401.226" />
      <NODATA>-32767</NODATA>
    </ComplexSource>
    <ComplexSource>
      <SourceFilename relativeToVRT="0">/vsicurl/https://canelevation-dem.s3.ca-central-1.amazonaws.com/hrdem-lidar/QC-Mauricie_Nord-1m-dtm.tif</SourceFilename>
      <SourceBand>1</SourceBand>
      <SourceProperties RasterXSize="130760" RasterYSize="120872" DataType="Float32" BlockXSize="512" BlockYSize="512" />
      <SrcRect xOff="31719.6640000001" yOff="0" xSize="88401" ySize="103604.226" />
      <DstRect xOff="0" yOff="69627.774" xSize="88401" ySize="103604.226" />
      <NODATA>-32767</NODATA>
    </ComplexSource>
    <ComplexSource>
      <SourceFilename relativeToVRT="0">/vsicurl/https://canelevation-dem.s3.ca-central-1.amazonaws.com/hrdem-lidar/QC-600015-33_MTM8-1m-dtm.tif</SourceFilename>
      <SourceBand>1</SourceBand>
      <SourceProperties RasterXSize="64457" RasterYSize="124234" DataType="Float32" BlockXSize="512" BlockYSize="512" />
      <SrcRect xOff="0" yOff="0" xSize="24424.6640000001" ySize="122738.226" />
      <DstRect xOff="63976.3359999999" yOff="50493.774" xSize="24424.6640000001" ySize="122738.226" />
      <NODATA>-32767</NODATA>
    </ComplexSource>
    <ComplexSource>
      <SourceFilename relativeToVRT="0">/vsicurl/https://canelevation-dem.s3.ca-central-1.amazonaws.com/hrdem-lidar/QC-600016-07_SOR_2016-1m-dtm.tif</SourceFilename>
      <SourceBand>1</SourceBand>
      <SourceProperties RasterXSize="124030" RasterYSize="152496" DataType="Float32" BlockXSize="512" BlockYSize="512" />
      <SrcRect xOff="28216.6640000001" yOff="0" xSize="88401" ySize="152496" />
      <DstRect xOff="0" yOff="6122.774" xSize="88401" ySize="152496" />
      <NODATA>-32767</NODATA>
    </ComplexSource>
    <ComplexSource>
      <SourceFilename relativeToVRT="0">/vsicurl/https://canelevation-dem.s3.ca-central-1.amazonaws.com/hrdem-lidar/QC-600017-17_SOR_2017-1m-dtm.tif</SourceFilename>
      <SourceBand>1</SourceBand>
      <SourceProperties RasterXSize="89845" RasterYSize="137094" DataType="Float32" BlockXSize="512" BlockYSize="512" />
      <SrcRect xOff="0" yOff="44227.226" xSize="12378.6640000001" ySize="92866.774" />
      <DstRect xOff="76022.3359999999" yOff="0" xSize="12378.6640000001" ySize="92866.774" />
      <NODATA>-32767</NODATA>
    </ComplexSource>
    <ComplexSource>
      <SourceFilename relativeToVRT="0">/vsicurl/https://canelevation-dem.s3.ca-central-1.amazonaws.com/hrdem-lidar/QC-600017-41_SOR_2017-1m-dtm.tif</SourceFilename>
      <SourceBand>1</SourceBand>
      <SourceProperties RasterXSize="47635" RasterYSize="41268" DataType="Float32" BlockXSize="512" BlockYSize="512" />
      <SrcRect xOff="0" yOff="0" xSize="47635" ySize="41268" />
      <DstRect xOff="3626.33599999989" yOff="44228.774" xSize="47635" ySize="41268" />
      <NODATA>-32767</NODATA>
    </ComplexSource>
    <ComplexSource>
      <SourceFilename relativeToVRT="0">/vsicurl/https://canelevation-dem.s3.ca-central-1.amazonaws.com/hrdem-lidar/QC-600017-18_SOR_2017-1m-dtm.tif</SourceFilename>
      <SourceBand>1</SourceBand>
      <SourceProperties RasterXSize="118136" RasterYSize="95176" DataType="Float32" BlockXSize="512" BlockYSize="512" />
      <SrcRect xOff="40694.6640000001" yOff="28754.226" xSize="77441.3359999999" ySize="66421.774" />
      <DstRect xOff="0" yOff="0" xSize="77441.3359999999" ySize="66421.774" />
      <NODATA>-32767</NODATA>
    </ComplexSource>
    <ComplexSource>
      <SourceFilename relativeToVRT="0">/vsicurl/https://canelevation-dem.s3.ca-central-1.amazonaws.com/hrdem-lidar/QC-600018-18_LidarDIF_Mauricie_MTM8_2018-1m-dtm.tif</SourceFilename>
      <SourceBand>1</SourceBand>
      <SourceProperties RasterXSize="244387" RasterYSize="190588" DataType="Float32" BlockXSize="512" BlockYSize="512" />
      <SrcRect xOff="148573.664" yOff="0" xSize="88401" ySize="170321.226" />
      <DstRect xOff="0" yOff="2910.774" xSize="88401" ySize="170321.226" />
      <NODATA>-32767</NODATA>
    </ComplexSource>
    <ComplexSource>
      <SourceFilename relativeToVRT="0">/vsicurl/https://canelevation-dem.s3.ca-central-1.amazonaws.com/hrdem-lidar/QC-600018-18_LidarDIF_Mauricie_MTM7_2018-1m-dtm.tif</SourceFilename>
      <SourceBand>1</SourceBand>
      <SourceProperties RasterXSize="21195" RasterYSize="32149" DataType="Float32" BlockXSize="512" BlockYSize="512" />
      <SrcRect xOff="0" yOff="0" xSize="20204.6640000001" ySize="32149" />
      <DstRect xOff="68196.3359999999" yOff="31514.774" xSize="20204.6640000001" ySize="32149" />
      <NODATA>-32767</NODATA>
    </ComplexSource>
    <ComplexSource>
      <SourceFilename relativeToVRT="0">/vsicurl/https://canelevation-dem.s3.ca-central-1.amazonaws.com/hrdem-lidar/QC-600019_22_SaguenayLacStJean_MTM8_2019-1m-dtm.tif</SourceFilename>
      <SourceBand>1</SourceBand>
      <SourceProperties RasterXSize="117161" RasterYSize="192197" DataType="Float32" BlockXSize="512" BlockYSize="512" />
      <SrcRect xOff="27769.6640000001" yOff="128533.226" xSize="88401" ySize="63663.774" />
      <DstRect xOff="0" yOff="0" xSize="88401" ySize="63663.774" />
      <NODATA>-32767</NODATA>
    </ComplexSource>
    <ComplexSource>
      <SourceFilename relativeToVRT="0">/vsicurl/https://canelevation-dem.s3.ca-central-1.amazonaws.com/hrdem-lidar/QC-600019_22_SaguenayLacStJean_MTM7_2019-1m-dtm.tif</SourceFilename>
      <SourceBand>1</SourceBand>
      <SourceProperties RasterXSize="182392" RasterYSize="232863" DataType="Float32" BlockXSize="512" BlockYSize="512" />
      <SrcRect xOff="0" yOff="167781.226" xSize="85163.6640000001" ySize="65081.774" />
      <DstRect xOff="3237.33599999989" yOff="0" xSize="85163.6640000001" ySize="65081.774" />
      <NODATA>-32767</NODATA>
    </ComplexSource>
    <ComplexSource>
      <SourceFilename relativeToVRT="0">/vsicurl/https://canelevation-dem.s3.ca-central-1.amazonaws.com/hrdem-lidar/QC-600021_47_RiviereSaintMaurice_2021-1m-dtm.tif</SourceFilename>
      <SourceBand>1</SourceBand>
      <SourceProperties RasterXSize="117919" RasterYSize="156069" DataType="Float32" BlockXSize="512" BlockYSize="512" />
      <SrcRect xOff="28442.6640000001" yOff="0" xSize="88401" ySize="103604.226" />
      <DstRect xOff="0" yOff="69627.774" xSize="88401" ySize="103604.226" />
      <NODATA>-32767</NODATA>
    </ComplexSource>
    <ComplexSource>
      <SourceFilename relativeToVRT="0">/vsicurl/https://canelevation-dem.s3.ca-central-1.amazonaws.com/hrdem-lidar/NRCAN-FHIMP_PICAI_Batiscan_SteAnne_UTM18_2022-1m-dtm.tif</SourceFilename>
      <SourceBand>1</SourceBand>
      <SourceProperties RasterXSize="73254" RasterYSize="149780" DataType="Float32" BlockXSize="512" BlockYSize="512" />
      <SrcRect xOff="0" yOff="0" xSize="37151.6640000001" ySize="122738.226" />
      <DstRect xOff="51249.3359999999" yOff="50493.774" xSize="37151.6640000001" ySize="122738.226" />
      <NODATA>-32767</NODATA>
    </ComplexSource>
  </VRTRasterBand>
  <OverviewList resampling="nearest">2 4 8 16 32 64</OverviewList>
</VRTDataset>
