<VRTDataset rasterXSize="77839" rasterYSize="92797">
  <SRS dataAxisToSRSAxisMapping="1,2">PROJCS["NAD83(CSRS) / Canada Atlas Lambert",GEOGCS["NAD83(CSRS)",DATUM["NAD83_Canadian_Spatial_Reference_System",SPHEROID["GRS 1980",6378137,298.257222101,AUTHORITY["EPSG","7019"]],AUTHORITY["EPSG","6140"]],PRIMEM["Greenwich",0,AUTHORITY["EPSG","8901"]],UNIT["degree",0.0174532925199433,AUTHORITY["EPSG","9122"]],AUTHORITY["EPSG","4617"]],PROJECTION["Lambert_Conformal_Conic_2SP"],PARAMETER["latitude_of_origin",49],PARAMETER["central_meridian",-95],PARAMETER["standard_parallel_1",49],PARAMETER["standard_parallel_2",77],PARAMETER["false_easting",0],PARAMETER["false_northing",0],UNIT["metre",1,AUTHORITY["EPSG","9001"]],AXIS["Easting",EAST],AXIS["Northing",NORTH],AUTHORITY["EPSG","3979"]]</SRS>
  <GeoTransform>  1.5589341059999999e+06,  1.0000000000000000e+00,  0.0000000000000000e+00,  1.4325143500000000e+05,  0.0000000000000000e+00, -1.0000000000000000e+00</GeoTransform>
  <VRTRasterBand dataType="Float32" band="1">
    <NoDataValue>-32767</NoDataValue>
    <ColorInterp>Gray</ColorInterp>
    <ComplexSource>
      <SourceFilename relativeToVRT="0">/vsicurl/https://canelevation-dem.s3.ca-central-1.amazonaws.com/hrdem-lidar/QC-Mauricie_Nord-1m-dtm.tif</SourceFilename>
      <SourceBand>1</SourceBand>
      <SourceProperties RasterXSize="130760" RasterYSize="120872" DataType="Float32" BlockXSize="512" BlockYSize="512" />
      <SrcRect xOff="0" yOff="16755.565" xSize="56255.1059999999" ySize="92797" />
      <DstRect xOff="21583.8940000001" yOff="0" xSize="56255.1059999999" ySize="92797" />
      <NODATA>-32767</NODATA>
    </ComplexSource>
    <ComplexSource>
      <SourceFilename relativeToVRT="0">/vsicurl/https://canelevation-dem.s3.ca-central-1.amazonaws.com/hrdem-lidar/QC-600016-07_SOR_2016-1m-dtm.tif</SourceFilename>
      <SourceBand>1</SourceBand>
      <SourceProperties RasterXSize="124030" RasterYSize="152496" DataType="Float32" BlockXSize="512" BlockYSize="512" />
      <SrcRect xOff="0" yOff="80260.565" xSize="52752.1059999999" ySize="72235.435" />
      <DstRect xOff="25086.8940000001" yOff="0" xSize="52752.1059999999" ySize="72235.435" />
      <NODATA>-32767</NODATA>
    </ComplexSource>
    <ComplexSource>
      <SourceFilename relativeToVRT="0">/vsicurl/https://canelevation-dem.s3.ca-central-1.amazonaws.com/hrdem-lidar/QC-600017_23_LaurentidesLanaudiere_MTM8_2017-1m-dtm.tif</SourceFilename>
      <SourceBand>1</SourceBand>
      <SourceProperties RasterXSize="152479" RasterYSize="149744" DataType="Float32" BlockXSize="512" BlockYSize="512" />
      <SrcRect xOff="89528.1059999999" yOff="0" xSize="62950.8940000001" ySize="68664.565" />
      <DstRect xOff="0" yOff="24132.435" xSize="62950.8940000001" ySize="68664.565" />
      <NODATA>-32767</NODATA>
    </ComplexSource>
    <ComplexSource>
      <SourceFilename relativeToVRT="0">/vsicurl/https://canelevation-dem.s3.ca-central-1.amazonaws.com/hrdem-lidar/QC-600018-18_LidarDIF_Mauricie_MTM8_2018-1m-dtm.tif</SourceFilename>
      <SourceBand>1</SourceBand>
      <SourceProperties RasterXSize="244387" RasterYSize="190588" DataType="Float32" BlockXSize="512" BlockYSize="512" />
      <SrcRect xOff="95270.1059999999" yOff="83472.565" xSize="77839" ySize="92797" />
      <DstRect xOff="0" yOff="0" xSize="77839" ySize="92797" />
      <NODATA>-32767</NODATA>
    </ComplexSource>
    <ComplexSource>
      <SourceFilename relativeToVRT="0">/vsicurl/https://canelevation-dem.s3.ca-central-1.amazonaws.com/hrdem-lidar/QC-600021_47_RiviereSaintMaurice_2021-1m-dtm.tif</SourceFilename>
      <SourceBand>1</SourceBand>
      <SourceProperties RasterXSize="117919" RasterYSize="156069" DataType="Float32" BlockXSize="512" BlockYSize="512" />
      <SrcRect xOff="0" yOff="16755.565" xSize="52978.1059999999" ySize="92797" />
      <DstRect xOff="24860.8940000001" yOff="0" xSize="52978.1059999999" ySize="92797" />
      <NODATA>-32767</NODATA>
    </ComplexSource>
  </VRTRasterBand>
  <OverviewList resampling="nearest">2 4 8 16 32 64 128 256</OverviewList>
</VRTDataset>
