<VRTDataset rasterXSize="90246" rasterYSize="136227">
  <SRS dataAxisToSRSAxisMapping="1,2">PROJCS["NAD83(CSRS) / Canada Atlas Lambert",GEOGCS["NAD83(CSRS)",DATUM["NAD83_Canadian_Spatial_Reference_System",SPHEROID["GRS 1980",6378137,298.257222101,AUTHORITY["EPSG","7019"]],AUTHORITY["EPSG","6140"]],PRIMEM["Greenwich",0,AUTHORITY["EPSG","8901"]],UNIT["degree",0.0174532925199433,AUTHORITY["EPSG","9122"]],AUTHORITY["EPSG","4617"]],PROJECTION["Lambert_Conformal_Conic_2SP"],PARAMETER["latitude_of_origin",49],PARAMETER["central_meridian",-95],PARAMETER["standard_parallel_1",49],PARAMETER["standard_parallel_2",77],PARAMETER["false_easting",0],PARAMETER["false_northing",0],UNIT["metre",1,AUTHORITY["EPSG","9001"]],AXIS["Easting",EAST],AXIS["Northing",NORTH],AUTHORITY["EPSG","3979"]]</SRS>
  <GeoTransform>  1.4345464960000000e+06,  1.0000000000000000e+00,  0.0000000000000000e+00, -3.2544891000000000e+04,  0.0000000000000000e+00, -1.0000000000000000e+00</GeoTransform>
  <VRTRasterBand dataType="Float32" band="1">
    <NoDataValue>-32767</NoDataValue>
    <ColorInterp>Gray</ColorInterp>
    <ComplexSource>
      <SourceFilename relativeToVRT="0">/vsicurl/https://canelevation-dem.s3.ca-central-1.amazonaws.com/hrdem-lidar/QC-2009_LIEVRE_MTM09-1m-dtm.tif</SourceFilename>
      <SourceBand>1</SourceBand>
      <SourceProperties RasterXSize="70406" RasterYSize="51378" DataType="Float32" BlockXSize="512" BlockYSize="512" />
      <SrcRect xOff="0" yOff="0" xSize="44666.496" ySize="51378" />
      <DstRect xOff="45579.504" yOff="74817.109" xSize="44666.496" ySize="51378" />
      <NODATA>-32767</NODATA>
    </ComplexSource>
    <ComplexSource>
      <SourceFilename relativeToVRT="0">/vsicurl/https://canelevation-dem.s3.ca-central-1.amazonaws.com/hrdem-lidar/QC-2015_600014-47_MTM09-1m-dtm.tif</SourceFilename>
      <SourceBand>1</SourceBand>
      <SourceProperties RasterXSize="90250" RasterYSize="121455" DataType="Float32" BlockXSize="512" BlockYSize="512" />
      <SrcRect xOff="0" yOff="0" xSize="57765.496" ySize="102804.891" />
      <DstRect xOff="32480.504" yOff="33422.109" xSize="57765.496" ySize="102804.891" />
      <NODATA>-32767</NODATA>
    </ComplexSource>
    <ComplexSource>
      <SourceFilename relativeToVRT="0">/vsicurl/https://canelevation-dem.s3.ca-central-1.amazonaws.com/hrdem-lidar/QC-2015_600014-46_MTM09-1m-dtm.tif</SourceFilename>
      <SourceBand>1</SourceBand>
      <SourceProperties RasterXSize="163561" RasterYSize="92721" DataType="Float32" BlockXSize="512" BlockYSize="512" />
      <SrcRect xOff="101800.496" yOff="0" xSize="61760.504" ySize="87202.891" />
      <DstRect xOff="0" yOff="49024.109" xSize="61760.504" ySize="87202.891" />
      <NODATA>-32767</NODATA>
    </ComplexSource>
    <ComplexSource>
      <SourceFilename relativeToVRT="0">/vsicurl/https://canelevation-dem.s3.ca-central-1.amazonaws.com/hrdem-lidar/QC-2015_600014-44_MTM09-1m-dtm.tif</SourceFilename>
      <SourceBand>1</SourceBand>
      <SourceProperties RasterXSize="185371" RasterYSize="90983" DataType="Float32" BlockXSize="512" BlockYSize="512" />
      <SrcRect xOff="145380.496" yOff="28208.891" xSize="39990.504" ySize="62774.109" />
      <DstRect xOff="0" yOff="0" xSize="39990.504" ySize="62774.109" />
      <NODATA>-32767</NODATA>
    </ComplexSource>
    <ComplexSource>
      <SourceFilename relativeToVRT="0">/vsicurl/https://canelevation-dem.s3.ca-central-1.amazonaws.com/hrdem-lidar/QC-2015_600014-45_MTM09-1m-dtm.tif</SourceFilename>
      <SourceBand>1</SourceBand>
      <SourceProperties RasterXSize="179075" RasterYSize="110061" DataType="Float32" BlockXSize="512" BlockYSize="512" />
      <SrcRect xOff="126651.496" yOff="0" xSize="52423.504" ySize="110061" />
      <DstRect xOff="0" yOff="921.109" xSize="52423.504" ySize="110061" />
      <NODATA>-32767</NODATA>
    </ComplexSource>
    <ComplexSource>
      <SourceFilename relativeToVRT="0">/vsicurl/https://canelevation-dem.s3.ca-central-1.amazonaws.com/hrdem-lidar/QC-600018-23_DIF_Grand_Mtl_MTM9_2018-1m-dtm.tif</SourceFilename>
      <SourceBand>1</SourceBand>
      <SourceProperties RasterXSize="104987" RasterYSize="140611" DataType="Float32" BlockXSize="512" BlockYSize="512" />
      <SrcRect xOff="0" yOff="46810.891" xSize="78777.496" ySize="93800.109" />
      <DstRect xOff="11468.504" yOff="0" xSize="78777.496" ySize="93800.109" />
      <NODATA>-32767</NODATA>
    </ComplexSource>
    <ComplexSource>
      <SourceFilename relativeToVRT="0">/vsicurl/https://canelevation-dem.s3.ca-central-1.amazonaws.com/hrdem-lidar/NRCAN-Riviere_Outaouais_2019-1m-dtm.tif</SourceFilename>
      <SourceBand>1</SourceBand>
      <SourceProperties RasterXSize="260461" RasterYSize="121374" DataType="Float32" BlockXSize="512" BlockYSize="512" />
      <SrcRect xOff="86554.496" yOff="0" xSize="90246" ySize="57772.891" />
      <DstRect xOff="0" yOff="78454.109" xSize="90246" ySize="57772.891" />
      <NODATA>-32767</NODATA>
    </ComplexSource>
    <ComplexSource>
      <SourceFilename relativeToVRT="0">/vsicurl/https://canelevation-dem.s3.ca-central-1.amazonaws.com/hrdem-lidar/VILLE_OTTAWA-Ottawa_Gatineau_2019-1m-dtm.tif</SourceFilename>
      <SourceBand>1</SourceBand>
      <SourceProperties RasterXSize="102911" RasterYSize="99548" DataType="Float32" BlockXSize="512" BlockYSize="512" />
      <SrcRect xOff="0" yOff="0" xSize="70896.496" ySize="35592.891" />
      <DstRect xOff="19349.504" yOff="100634.109" xSize="70896.496" ySize="35592.891" />
      <NODATA>-32767</NODATA>
    </ComplexSource>
    <ComplexSource>
      <SourceFilename relativeToVRT="0">/vsicurl/https://canelevation-dem.s3.ca-central-1.amazonaws.com/hrdem-lidar/VILLE_OTTAWA-Ottawa_Gatineau_2020-1m-dtm.tif</SourceFilename>
      <SourceBand>1</SourceBand>
      <SourceProperties RasterXSize="102911" RasterYSize="83934" DataType="Float32" BlockXSize="512" BlockYSize="512" />
      <SrcRect xOff="0" yOff="0" xSize="70896.496" ySize="29670.891" />
      <DstRect xOff="19349.504" yOff="106556.109" xSize="70896.496" ySize="29670.891" />
      <NODATA>-32767</NODATA>
    </ComplexSource>
    <ComplexSource>
      <SourceFilename relativeToVRT="0">/vsicurl/https://canelevation-dem.s3.ca-central-1.amazonaws.com/hrdem-lidar/NRCAN-Riviere_Outaouais_2020-1m-dtm.tif</SourceFilename>
      <SourceBand>1</SourceBand>
      <SourceProperties RasterXSize="167317" RasterYSize="118783" DataType="Float32" BlockXSize="512" BlockYSize="512" />
      <SrcRect xOff="86554.496" yOff="0" xSize="80762.504" ySize="55181.891" />
      <DstRect xOff="0" yOff="81045.109" xSize="80762.504" ySize="55181.891" />
      <NODATA>-32767</NODATA>
    </ComplexSource>
    <ComplexSource>
      <SourceFilename relativeToVRT="0">/vsicurl/https://canelevation-dem.s3.ca-central-1.amazonaws.com/hrdem-lidar/QC-600020_35_Outaouais_Gatineau_MTM9_2020-1m-dtm.tif</SourceFilename>
      <SourceBand>1</SourceBand>
      <SourceProperties RasterXSize="115167" RasterYSize="112374" DataType="Float32" BlockXSize="512" BlockYSize="512" />
      <SrcRect xOff="0" yOff="0" xSize="73258.496" ySize="93723.891" />
      <DstRect xOff="16987.504" yOff="42503.109" xSize="73258.496" ySize="93723.891" />
      <NODATA>-32767</NODATA>
    </ComplexSource>
    <ComplexSource>
      <SourceFilename relativeToVRT="0">/vsicurl/https://canelevation-dem.s3.ca-central-1.amazonaws.com/hrdem-lidar/QC-600021_46_RiviereGatineauLievre_2021-1m-dtm.tif</SourceFilename>
      <SourceBand>1</SourceBand>
      <SourceProperties RasterXSize="146505" RasterYSize="178889" DataType="Float32" BlockXSize="512" BlockYSize="512" />
      <SrcRect xOff="46184.496" yOff="46810.891" xSize="90246" ySize="132078.109" />
      <DstRect xOff="0" yOff="0" xSize="90246" ySize="132078.109" />
      <NODATA>-32767</NODATA>
    </ComplexSource>
    <ComplexSource>
      <SourceFilename relativeToVRT="0">/vsicurl/https://canelevation-dem.s3.ca-central-1.amazonaws.com/hrdem-lidar/QC-600021_46_RiviereGatineauLievre_2022-1m-dtm.tif</SourceFilename>
      <SourceBand>1</SourceBand>
      <SourceProperties RasterXSize="107925" RasterYSize="121432" DataType="Float32" BlockXSize="512" BlockYSize="512" />
      <SrcRect xOff="62344.496" yOff="2488.891" xSize="45580.504" ySize="118943.109" />
      <DstRect xOff="0" yOff="0" xSize="45580.504" ySize="118943.109" />
      <NODATA>-32767</NODATA>
    </ComplexSource>
  </VRTRasterBand>
  <OverviewList resampling="nearest">2 4 8 16 32 64 128</OverviewList>
</VRTDataset>
