<VRTDataset rasterXSize="79157" rasterYSize="116956">
  <SRS dataAxisToSRSAxisMapping="1,2">PROJCS["NAD83(CSRS) / Canada Atlas Lambert",GEOGCS["NAD83(CSRS)",DATUM["NAD83_Canadian_Spatial_Reference_System",SPHEROID["GRS 1980",6378137,298.257222101,AUTHORITY["EPSG","7019"]],AUTHORITY["EPSG","6140"]],PRIMEM["Greenwich",0,AUTHORITY["EPSG","8901"]],UNIT["degree",0.0174532925199433,AUTHORITY["EPSG","9122"]],AUTHORITY["EPSG","4617"]],PROJECTION["Lambert_Conformal_Conic_2SP"],PARAMETER["latitude_of_origin",49],PARAMETER["central_meridian",-95],PARAMETER["standard_parallel_1",49],PARAMETER["standard_parallel_2",77],PARAMETER["false_easting",0],PARAMETER["false_northing",0],UNIT["metre",1,AUTHORITY["EPSG","9001"]],AXIS["Easting",EAST],AXIS["Northing",NORTH],AUTHORITY["EPSG","3979"]]</SRS>
  <GeoTransform>  1.3819872930000001e+06,  1.0000000000000000e+00,  0.0000000000000000e+00, -2.2631351999999999e+04,  0.0000000000000000e+00, -1.0000000000000000e+00</GeoTransform>
  <VRTRasterBand dataType="Float32" band="1">
    <NoDataValue>-32767</NoDataValue>
    <ColorInterp>Gray</ColorInterp>
    <ComplexSource>
      <SourceFilename relativeToVRT="0">/vsicurl/https://canelevation-dem.s3.ca-central-1.amazonaws.com/hrdem-lidar/QC-2015_600014-46_MTM09-1m-dtm.tif</SourceFilename>
      <SourceBand>1</SourceBand>
      <SourceProperties RasterXSize="163561" RasterYSize="92721" DataType="Float32" BlockXSize="512" BlockYSize="512" />
      <SrcRect xOff="49241.2930000001" yOff="0" xSize="79157" ySize="58018.352" />
      <DstRect xOff="0" yOff="58937.648" xSize="79157" ySize="58018.352" />
      <NODATA>-32767</NODATA>
    </ComplexSource>
    <ComplexSource>
      <SourceFilename relativeToVRT="0">/vsicurl/https://canelevation-dem.s3.ca-central-1.amazonaws.com/hrdem-lidar/QC-2015_600014-44_MTM09-1m-dtm.tif</SourceFilename>
      <SourceBand>1</SourceBand>
      <SourceProperties RasterXSize="185371" RasterYSize="90983" DataType="Float32" BlockXSize="512" BlockYSize="512" />
      <SrcRect xOff="92821.2930000001" yOff="18295.352" xSize="79157" ySize="72687.648" />
      <DstRect xOff="0" yOff="0" xSize="79157" ySize="72687.648" />
      <NODATA>-32767</NODATA>
    </ComplexSource>
    <ComplexSource>
      <SourceFilename relativeToVRT="0">/vsicurl/https://canelevation-dem.s3.ca-central-1.amazonaws.com/hrdem-lidar/QC-2015_600014-45_MTM09-1m-dtm.tif</SourceFilename>
      <SourceBand>1</SourceBand>
      <SourceProperties RasterXSize="179075" RasterYSize="110061" DataType="Float32" BlockXSize="512" BlockYSize="512" />
      <SrcRect xOff="74092.2930000001" yOff="0" xSize="79157" ySize="106121.352" />
      <DstRect xOff="0" yOff="10834.648" xSize="79157" ySize="106121.352" />
      <NODATA>-32767</NODATA>
    </ComplexSource>
    <ComplexSource>
      <SourceFilename relativeToVRT="0">/vsicurl/https://canelevation-dem.s3.ca-central-1.amazonaws.com/hrdem-lidar/QC-600021_46_RiviereGatineauLievre_2021-1m-dtm.tif</SourceFilename>
      <SourceBand>1</SourceBand>
      <SourceProperties RasterXSize="146505" RasterYSize="178889" DataType="Float32" BlockXSize="512" BlockYSize="512" />
      <SrcRect xOff="0" yOff="36897.352" xSize="72782.2930000001" ySize="116956" />
      <DstRect xOff="6374.70699999994" yOff="0" xSize="72782.2930000001" ySize="116956" />
      <NODATA>-32767</NODATA>
    </ComplexSource>
    <ComplexSource>
      <SourceFilename relativeToVRT="0">/vsicurl/https://canelevation-dem.s3.ca-central-1.amazonaws.com/hrdem-lidar/QC-600021_46_RiviereGatineauLievre_2022-1m-dtm.tif</SourceFilename>
      <SourceBand>1</SourceBand>
      <SourceProperties RasterXSize="107925" RasterYSize="121432" DataType="Float32" BlockXSize="512" BlockYSize="512" />
      <SrcRect xOff="9785.29300000006" yOff="0" xSize="79157" ySize="109531.352" />
      <DstRect xOff="0" yOff="7424.648" xSize="79157" ySize="109531.352" />
      <NODATA>-32767</NODATA>
    </ComplexSource>
  </VRTRasterBand>
  <OverviewList resampling="nearest">2 4 8 16 32 64 128 256</OverviewList>
</VRTDataset>
