<VRTDataset rasterXSize="61333" rasterYSize="98211">
  <SRS dataAxisToSRSAxisMapping="1,2">PROJCS["NAD83(CSRS) / Canada Atlas Lambert",GEOGCS["NAD83(CSRS)",DATUM["NAD83_Canadian_Spatial_Reference_System",SPHEROID["GRS 1980",6378137,298.257222101,AUTHORITY["EPSG","7019"]],AUTHORITY["EPSG","6140"]],PRIMEM["Greenwich",0,AUTHORITY["EPSG","8901"]],UNIT["degree",0.0174532925199433,AUTHORITY["EPSG","9122"]],AUTHORITY["EPSG","4617"]],PROJECTION["Lambert_Conformal_Conic_2SP"],PARAMETER["latitude_of_origin",49],PARAMETER["central_meridian",-95],PARAMETER["standard_parallel_1",49],PARAMETER["standard_parallel_2",77],PARAMETER["false_easting",0],PARAMETER["false_northing",0],UNIT["metre",1,AUTHORITY["EPSG","9001"]],AXIS["Easting",EAST],AXIS["Northing",NORTH],AUTHORITY["EPSG","3979"]]</SRS>
  <GeoTransform>  1.4773783999999999e+06,  1.0000000000000000e+00,  0.0000000000000000e+00, -5.4115396000000001e+04,  0.0000000000000000e+00, -1.0000000000000000e+00</GeoTransform>
  <VRTRasterBand dataType="Float32" band="1">
    <NoDataValue>-32767</NoDataValue>
    <ColorInterp>Gray</ColorInterp>
    <ComplexSource>
      <SourceFilename relativeToVRT="0">/vsicurl/https://canelevation-dem.s3.ca-central-1.amazonaws.com/hrdem-lidar/QC-2009_LIEVRE_MTM09-1m-dtm.tif</SourceFilename>
      <SourceBand>1</SourceBand>
      <SourceProperties RasterXSize="70406" RasterYSize="51378" DataType="Float32" BlockXSize="512" BlockYSize="512" />
      <SrcRect xOff="0" yOff="0" xSize="58585.3999999999" ySize="44964.396" />
      <DstRect xOff="2747.60000000009" yOff="53246.604" xSize="58585.3999999999" ySize="44964.396" />
      <NODATA>-32767</NODATA>
    </ComplexSource>
    <ComplexSource>
      <SourceFilename relativeToVRT="0">/vsicurl/https://canelevation-dem.s3.ca-central-1.amazonaws.com/hrdem-lidar/QC-2014_600014-35-PAPINEAU-NORD_MTM09-1m-dtm.tif</SourceFilename>
      <SourceBand>1</SourceBand>
      <SourceProperties RasterXSize="51372" RasterYSize="44582" DataType="Float32" BlockXSize="512" BlockYSize="512" />
      <SrcRect xOff="0" yOff="0" xSize="26525.3999999999" ySize="44582" />
      <DstRect xOff="34807.6000000001" yOff="37606.604" xSize="26525.3999999999" ySize="44582" />
      <NODATA>-32767</NODATA>
    </ComplexSource>
    <ComplexSource>
      <SourceFilename relativeToVRT="0">/vsicurl/https://canelevation-dem.s3.ca-central-1.amazonaws.com/hrdem-lidar/QC-2015_600014-47_MTM09-1m-dtm.tif</SourceFilename>
      <SourceBand>1</SourceBand>
      <SourceProperties RasterXSize="90250" RasterYSize="121455" DataType="Float32" BlockXSize="512" BlockYSize="512" />
      <SrcRect xOff="10351.3999999999" yOff="0" xSize="61333" ySize="86359.396" />
      <DstRect xOff="0" yOff="11851.604" xSize="61333" ySize="86359.396" />
      <NODATA>-32767</NODATA>
    </ComplexSource>
    <ComplexSource>
      <SourceFilename relativeToVRT="0">/vsicurl/https://canelevation-dem.s3.ca-central-1.amazonaws.com/hrdem-lidar/QC-2015_600014-46_MTM09-1m-dtm.tif</SourceFilename>
      <SourceBand>1</SourceBand>
      <SourceProperties RasterXSize="163561" RasterYSize="92721" DataType="Float32" BlockXSize="512" BlockYSize="512" />
      <SrcRect xOff="144632.4" yOff="0" xSize="18928.6000000001" ySize="70757.396" />
      <DstRect xOff="0" yOff="27453.604" xSize="18928.6000000001" ySize="70757.396" />
      <NODATA>-32767</NODATA>
    </ComplexSource>
    <ComplexSource>
      <SourceFilename relativeToVRT="0">/vsicurl/https://canelevation-dem.s3.ca-central-1.amazonaws.com/hrdem-lidar/QC-2015_600014-45_MTM09-1m-dtm.tif</SourceFilename>
      <SourceBand>1</SourceBand>
      <SourceProperties RasterXSize="179075" RasterYSize="110061" DataType="Float32" BlockXSize="512" BlockYSize="512" />
      <SrcRect xOff="169483.4" yOff="20649.396" xSize="9591.60000000009" ySize="89411.604" />
      <DstRect xOff="0" yOff="0" xSize="9591.60000000009" ySize="89411.604" />
      <NODATA>-32767</NODATA>
    </ComplexSource>
    <ComplexSource>
      <SourceFilename relativeToVRT="0">/vsicurl/https://canelevation-dem.s3.ca-central-1.amazonaws.com/hrdem-lidar/QC-600018-23_DIF_Grand_Mtl_MTM9_2018-1m-dtm.tif</SourceFilename>
      <SourceBand>1</SourceBand>
      <SourceProperties RasterXSize="104987" RasterYSize="140611" DataType="Float32" BlockXSize="512" BlockYSize="512" />
      <SrcRect xOff="31363.3999999999" yOff="68381.396" xSize="61333" ySize="72229.604" />
      <DstRect xOff="0" yOff="0" xSize="61333" ySize="72229.604" />
      <NODATA>-32767</NODATA>
    </ComplexSource>
    <ComplexSource>
      <SourceFilename relativeToVRT="0">/vsicurl/https://canelevation-dem.s3.ca-central-1.amazonaws.com/hrdem-lidar/NRCAN-Riviere_Outaouais_2019-1m-dtm.tif</SourceFilename>
      <SourceBand>1</SourceBand>
      <SourceProperties RasterXSize="260461" RasterYSize="121374" DataType="Float32" BlockXSize="512" BlockYSize="512" />
      <SrcRect xOff="129386.4" yOff="0" xSize="61333" ySize="41327.396" />
      <DstRect xOff="0" yOff="56883.604" xSize="61333" ySize="41327.396" />
      <NODATA>-32767</NODATA>
    </ComplexSource>
    <ComplexSource>
      <SourceFilename relativeToVRT="0">/vsicurl/https://canelevation-dem.s3.ca-central-1.amazonaws.com/hrdem-lidar/VILLE_OTTAWA-Ottawa_Gatineau_2019-1m-dtm.tif</SourceFilename>
      <SourceBand>1</SourceBand>
      <SourceProperties RasterXSize="102911" RasterYSize="99548" DataType="Float32" BlockXSize="512" BlockYSize="512" />
      <SrcRect xOff="23482.3999999999" yOff="0" xSize="61333" ySize="19147.396" />
      <DstRect xOff="0" yOff="79063.604" xSize="61333" ySize="19147.396" />
      <NODATA>-32767</NODATA>
    </ComplexSource>
    <ComplexSource>
      <SourceFilename relativeToVRT="0">/vsicurl/https://canelevation-dem.s3.ca-central-1.amazonaws.com/hrdem-lidar/NRCAN-Riviere_Outaouais_2020-1m-dtm.tif</SourceFilename>
      <SourceBand>1</SourceBand>
      <SourceProperties RasterXSize="167317" RasterYSize="118783" DataType="Float32" BlockXSize="512" BlockYSize="512" />
      <SrcRect xOff="129386.4" yOff="0" xSize="37930.6000000001" ySize="38736.396" />
      <DstRect xOff="0" yOff="59474.604" xSize="37930.6000000001" ySize="38736.396" />
      <NODATA>-32767</NODATA>
    </ComplexSource>
    <ComplexSource>
      <SourceFilename relativeToVRT="0">/vsicurl/https://canelevation-dem.s3.ca-central-1.amazonaws.com/hrdem-lidar/QC-600020_35_Outaouais_Gatineau_MTM9_2020-1m-dtm.tif</SourceFilename>
      <SourceBand>1</SourceBand>
      <SourceProperties RasterXSize="115167" RasterYSize="112374" DataType="Float32" BlockXSize="512" BlockYSize="512" />
      <SrcRect xOff="25844.3999999999" yOff="0" xSize="61333" ySize="77278.396" />
      <DstRect xOff="0" yOff="20932.604" xSize="61333" ySize="77278.396" />
      <NODATA>-32767</NODATA>
    </ComplexSource>
    <ComplexSource>
      <SourceFilename relativeToVRT="0">/vsicurl/https://canelevation-dem.s3.ca-central-1.amazonaws.com/hrdem-lidar/QC-600021_46_RiviereGatineauLievre_2021-1m-dtm.tif</SourceFilename>
      <SourceBand>1</SourceBand>
      <SourceProperties RasterXSize="146505" RasterYSize="178889" DataType="Float32" BlockXSize="512" BlockYSize="512" />
      <SrcRect xOff="89016.3999999999" yOff="68381.396" xSize="57488.6000000001" ySize="98211" />
      <DstRect xOff="0" yOff="0" xSize="57488.6000000001" ySize="98211" />
      <NODATA>-32767</NODATA>
    </ComplexSource>
    <ComplexSource>
      <SourceFilename relativeToVRT="0">/vsicurl/https://canelevation-dem.s3.ca-central-1.amazonaws.com/hrdem-lidar/NRCAN-FHIMP_PICAI_PetiteNation_LAssomption_2022-1m-dtm.tif</SourceFilename>
      <SourceBand>1</SourceBand>
      <SourceProperties RasterXSize="121986" RasterYSize="108361" DataType="Float32" BlockXSize="512" BlockYSize="512" />
      <SrcRect xOff="0" yOff="19642.396" xSize="26244.3999999999" ySize="88718.604" />
      <DstRect xOff="35088.6000000001" yOff="0" xSize="26244.3999999999" ySize="88718.604" />
      <NODATA>-32767</NODATA>
    </ComplexSource>
  </VRTRasterBand>
  <OverviewList resampling="nearest">2 4 8 16 32 64 128</OverviewList>
</VRTDataset>
