<VRTDataset rasterXSize="70842" rasterYSize="177908">
  <SRS dataAxisToSRSAxisMapping="1,2">PROJCS["NAD83(CSRS) / Canada Atlas Lambert",GEOGCS["NAD83(CSRS)",DATUM["NAD83_Canadian_Spatial_Reference_System",SPHEROID["GRS 1980",6378137,298.257222101,AUTHORITY["EPSG","7019"]],AUTHORITY["EPSG","6140"]],PRIMEM["Greenwich",0,AUTHORITY["EPSG","8901"]],UNIT["degree",0.0174532925199433,AUTHORITY["EPSG","9122"]],AUTHORITY["EPSG","4617"]],PROJECTION["Lambert_Conformal_Conic_2SP"],PARAMETER["latitude_of_origin",49],PARAMETER["central_meridian",-95],PARAMETER["standard_parallel_1",49],PARAMETER["standard_parallel_2",77],PARAMETER["false_easting",0],PARAMETER["false_northing",0],UNIT["metre",1,AUTHORITY["EPSG","9001"]],AXIS["Easting",EAST],AXIS["Northing",NORTH],AUTHORITY["EPSG","3979"]]</SRS>
  <GeoTransform>  1.4742577180000001e+06,  1.0000000000000000e+00,  0.0000000000000000e+00,  1.0879865900000000e+05,  0.0000000000000000e+00, -1.0000000000000000e+00</GeoTransform>
  <VRTRasterBand dataType="Float32" band="1">
    <NoDataValue>-32767</NoDataValue>
    <ColorInterp>Gray</ColorInterp>
    <ComplexSource>
      <SourceFilename relativeToVRT="0">/vsicurl/https://canelevation-dem.s3.ca-central-1.amazonaws.com/hrdem-lidar/QC-600013_22_SOR_SecteurParent_MTM8_2013-1m-dtm.tif</SourceFilename>
      <SourceBand>1</SourceBand>
      <SourceProperties RasterXSize="95359" RasterYSize="37836" DataType="Float32" BlockXSize="512" BlockYSize="512" />
      <SrcRect xOff="27067.7180000001" yOff="16572.341" xSize="68291.2819999999" ySize="21263.659" />
      <DstRect xOff="0" yOff="0" xSize="68291.2819999999" ySize="21263.659" />
      <NODATA>-32767</NODATA>
    </ComplexSource>
    <ComplexSource>
      <SourceFilename relativeToVRT="0">/vsicurl/https://canelevation-dem.s3.ca-central-1.amazonaws.com/hrdem-lidar/QC-600017_23_LaurentidesLanaudiere_MTM9_2017-1m-dtm.tif</SourceFilename>
      <SourceBand>1</SourceBand>
      <SourceProperties RasterXSize="117745" RasterYSize="142920" DataType="Float32" BlockXSize="512" BlockYSize="512" />
      <SrcRect xOff="59796.7180000001" yOff="969.341" xSize="57948.2819999999" ySize="141950.659" />
      <DstRect xOff="0" yOff="0" xSize="57948.2819999999" ySize="141950.659" />
      <NODATA>-32767</NODATA>
    </ComplexSource>
    <ComplexSource>
      <SourceFilename relativeToVRT="0">/vsicurl/https://canelevation-dem.s3.ca-central-1.amazonaws.com/hrdem-lidar/QC-600017_23_LaurentidesLanaudiere_MTM8_2017-1m-dtm.tif</SourceFilename>
      <SourceBand>1</SourceBand>
      <SourceProperties RasterXSize="152479" RasterYSize="149744" DataType="Float32" BlockXSize="512" BlockYSize="512" />
      <SrcRect xOff="4851.71800000011" yOff="10320.341" xSize="70842" ySize="139423.659" />
      <DstRect xOff="0" yOff="0" xSize="70842" ySize="139423.659" />
      <NODATA>-32767</NODATA>
    </ComplexSource>
    <ComplexSource>
      <SourceFilename relativeToVRT="0">/vsicurl/https://canelevation-dem.s3.ca-central-1.amazonaws.com/hrdem-lidar/QC-600018-18_LidarDIF_Mauricie_MTM8_2018-1m-dtm.tif</SourceFilename>
      <SourceBand>1</SourceBand>
      <SourceProperties RasterXSize="244387" RasterYSize="190588" DataType="Float32" BlockXSize="512" BlockYSize="512" />
      <SrcRect xOff="10593.7180000001" yOff="117925.341" xSize="70842" ySize="72662.659" />
      <DstRect xOff="0" yOff="0" xSize="70842" ySize="72662.659" />
      <NODATA>-32767</NODATA>
    </ComplexSource>
    <ComplexSource>
      <SourceFilename relativeToVRT="0">/vsicurl/https://canelevation-dem.s3.ca-central-1.amazonaws.com/hrdem-lidar/QC-600018-23_DIF_Grand_Mtl_MTM9_2018-1m-dtm.tif</SourceFilename>
      <SourceBand>1</SourceBand>
      <SourceProperties RasterXSize="104987" RasterYSize="140611" DataType="Float32" BlockXSize="512" BlockYSize="512" />
      <SrcRect xOff="28242.7180000001" yOff="0" xSize="70842" ySize="83375.341" />
      <DstRect xOff="0" yOff="94532.659" xSize="70842" ySize="83375.341" />
      <NODATA>-32767</NODATA>
    </ComplexSource>
    <ComplexSource>
      <SourceFilename relativeToVRT="0">/vsicurl/https://canelevation-dem.s3.ca-central-1.amazonaws.com/hrdem-lidar/QC-600018-23_DIF_Grand_Mtl_2018-1m-dtm.tif</SourceFilename>
      <SourceBand>1</SourceBand>
      <SourceProperties RasterXSize="104985" RasterYSize="138082" DataType="Float32" BlockXSize="512" BlockYSize="512" />
      <SrcRect xOff="0" yOff="0" xSize="41471.7180000001" ySize="73541.341" />
      <DstRect xOff="29370.2819999999" yOff="104366.659" xSize="41471.7180000001" ySize="73541.341" />
      <NODATA>-32767</NODATA>
    </ComplexSource>
    <ComplexSource>
      <SourceFilename relativeToVRT="0">/vsicurl/https://canelevation-dem.s3.ca-central-1.amazonaws.com/hrdem-lidar/QC-600021_46_RiviereGatineauLievre_2021-1m-dtm.tif</SourceFilename>
      <SourceBand>1</SourceBand>
      <SourceProperties RasterXSize="146505" RasterYSize="178889" DataType="Float32" BlockXSize="512" BlockYSize="512" />
      <SrcRect xOff="85895.7180000001" yOff="0" xSize="60609.2819999999" ySize="83375.341" />
      <DstRect xOff="0" yOff="94532.659" xSize="60609.2819999999" ySize="83375.341" />
      <NODATA>-32767</NODATA>
    </ComplexSource>
  </VRTRasterBand>
  <OverviewList resampling="nearest">2 4 8 16 32 64 128</OverviewList>
</VRTDataset>
