<VRTDataset rasterXSize="54765" rasterYSize="95182">
  <SRS dataAxisToSRSAxisMapping="1,2">PROJCS["NAD83(CSRS) / Canada Atlas Lambert",GEOGCS["NAD83(CSRS)",DATUM["NAD83_Canadian_Spatial_Reference_System",SPHEROID["GRS 1980",6378137,298.257222101,AUTHORITY["EPSG","7019"]],AUTHORITY["EPSG","6140"]],PRIMEM["Greenwich",0,AUTHORITY["EPSG","8901"]],UNIT["degree",0.0174532925199433,AUTHORITY["EPSG","9122"]],AUTHORITY["EPSG","4617"]],PROJECTION["Lambert_Conformal_Conic_2SP"],PARAMETER["latitude_of_origin",49],PARAMETER["central_meridian",-95],PARAMETER["standard_parallel_1",49],PARAMETER["standard_parallel_2",77],PARAMETER["false_easting",0],PARAMETER["false_northing",0],UNIT["metre",1,AUTHORITY["EPSG","9001"]],AXIS["Easting",EAST],AXIS["Northing",NORTH],AUTHORITY["EPSG","3979"]]</SRS>
  <GeoTransform>  1.5076495819999999e+06,  1.0000000000000000e+00,  0.0000000000000000e+00, -4.4856451000000001e+04,  0.0000000000000000e+00, -1.0000000000000000e+00</GeoTransform>
  <VRTRasterBand dataType="Float32" band="1">
    <NoDataValue>-32767</NoDataValue>
    <ColorInterp>Gray</ColorInterp>
    <ComplexSource>
      <SourceFilename relativeToVRT="0">/vsicurl/https://canelevation-dem.s3.ca-central-1.amazonaws.com/hrdem-lidar/QC-2009_LIEVRE_MTM09-1m-dtm.tif</SourceFilename>
      <SourceBand>1</SourceBand>
      <SourceProperties RasterXSize="70406" RasterYSize="51378" DataType="Float32" BlockXSize="512" BlockYSize="512" />
      <SrcRect xOff="27523.5819999999" yOff="0" xSize="42882.4180000001" ySize="32676.451" />
      <DstRect xOff="0" yOff="62505.549" xSize="42882.4180000001" ySize="32676.451" />
      <NODATA>-32767</NODATA>
    </ComplexSource>
    <ComplexSource>
      <SourceFilename relativeToVRT="0">/vsicurl/https://canelevation-dem.s3.ca-central-1.amazonaws.com/hrdem-lidar/QC-2014_600014-35-PAPINEAU-NORD_MTM09-1m-dtm.tif</SourceFilename>
      <SourceBand>1</SourceBand>
      <SourceProperties RasterXSize="51372" RasterYSize="44582" DataType="Float32" BlockXSize="512" BlockYSize="512" />
      <SrcRect xOff="0" yOff="0" xSize="50228.5819999999" ySize="44582" />
      <DstRect xOff="4536.41800000006" yOff="46865.549" xSize="50228.5819999999" ySize="44582" />
      <NODATA>-32767</NODATA>
    </ComplexSource>
    <ComplexSource>
      <SourceFilename relativeToVRT="0">/vsicurl/https://canelevation-dem.s3.ca-central-1.amazonaws.com/hrdem-lidar/QC-2014_600014-35-PAPINEAU-NORD_MTM08-1m-dtm.tif</SourceFilename>
      <SourceBand>1</SourceBand>
      <SourceProperties RasterXSize="28692" RasterYSize="44831" DataType="Float32" BlockXSize="512" BlockYSize="512" />
      <SrcRect xOff="0" yOff="0" xSize="27548.5819999999" ySize="44831" />
      <DstRect xOff="27216.4180000001" yOff="37232.549" xSize="27548.5819999999" ySize="44831" />
      <NODATA>-32767</NODATA>
    </ComplexSource>
    <ComplexSource>
      <SourceFilename relativeToVRT="0">/vsicurl/https://canelevation-dem.s3.ca-central-1.amazonaws.com/hrdem-lidar/QC-2014_600014-40-PAPINEAU-SUD_MTM08-1m-dtm.tif</SourceFilename>
      <SourceBand>1</SourceBand>
      <SourceProperties RasterXSize="44871" RasterYSize="35228" DataType="Float32" BlockXSize="512" BlockYSize="512" />
      <SrcRect xOff="0" yOff="0" xSize="21286.5819999999" ySize="29039.451" />
      <DstRect xOff="33478.4180000001" yOff="66142.549" xSize="21286.5819999999" ySize="29039.451" />
      <NODATA>-32767</NODATA>
    </ComplexSource>
    <ComplexSource>
      <SourceFilename relativeToVRT="0">/vsicurl/https://canelevation-dem.s3.ca-central-1.amazonaws.com/hrdem-lidar/QC-2015_600014-47_MTM09-1m-dtm.tif</SourceFilename>
      <SourceBand>1</SourceBand>
      <SourceProperties RasterXSize="90250" RasterYSize="121455" DataType="Float32" BlockXSize="512" BlockYSize="512" />
      <SrcRect xOff="40622.5819999999" yOff="0" xSize="49627.4180000001" ySize="74071.451" />
      <DstRect xOff="0" yOff="21110.549" xSize="49627.4180000001" ySize="74071.451" />
      <NODATA>-32767</NODATA>
    </ComplexSource>
    <ComplexSource>
      <SourceFilename relativeToVRT="0">/vsicurl/https://canelevation-dem.s3.ca-central-1.amazonaws.com/hrdem-lidar/QC-2015_600014-47_MTM08-1m-dtm.tif</SourceFilename>
      <SourceBand>1</SourceBand>
      <SourceProperties RasterXSize="54241" RasterYSize="64112" DataType="Float32" BlockXSize="512" BlockYSize="512" />
      <SrcRect xOff="0" yOff="0" xSize="33806.5819999999" ySize="64112" />
      <DstRect xOff="20958.4180000001" yOff="24466.549" xSize="33806.5819999999" ySize="64112" />
      <NODATA>-32767</NODATA>
    </ComplexSource>
    <ComplexSource>
      <SourceFilename relativeToVRT="0">/vsicurl/https://canelevation-dem.s3.ca-central-1.amazonaws.com/hrdem-lidar/QC-600018-23_DIF_Grand_Mtl_MTM9_2018-1m-dtm.tif</SourceFilename>
      <SourceBand>1</SourceBand>
      <SourceProperties RasterXSize="104987" RasterYSize="140611" DataType="Float32" BlockXSize="512" BlockYSize="512" />
      <SrcRect xOff="61634.5819999999" yOff="59122.451" xSize="43352.4180000001" ySize="81488.549" />
      <DstRect xOff="0" yOff="0" xSize="43352.4180000001" ySize="81488.549" />
      <NODATA>-32767</NODATA>
    </ComplexSource>
    <ComplexSource>
      <SourceFilename relativeToVRT="0">/vsicurl/https://canelevation-dem.s3.ca-central-1.amazonaws.com/hrdem-lidar/QC-600018-23_DIF_Grand_Mtl_2018-1m-dtm.tif</SourceFilename>
      <SourceBand>1</SourceBand>
      <SourceProperties RasterXSize="104985" RasterYSize="138082" DataType="Float32" BlockXSize="512" BlockYSize="512" />
      <SrcRect xOff="4021.58199999994" yOff="49288.451" xSize="54765" ySize="88793.549" />
      <DstRect xOff="0" yOff="0" xSize="54765" ySize="88793.549" />
      <NODATA>-32767</NODATA>
    </ComplexSource>
    <ComplexSource>
      <SourceFilename relativeToVRT="0">/vsicurl/https://canelevation-dem.s3.ca-central-1.amazonaws.com/hrdem-lidar/NRCAN-Riviere_Outaouais_2019-1m-dtm.tif</SourceFilename>
      <SourceBand>1</SourceBand>
      <SourceProperties RasterXSize="260461" RasterYSize="121374" DataType="Float32" BlockXSize="512" BlockYSize="512" />
      <SrcRect xOff="159657.582" yOff="0" xSize="54765" ySize="29039.451" />
      <DstRect xOff="0" yOff="66142.549" xSize="54765" ySize="29039.451" />
      <NODATA>-32767</NODATA>
    </ComplexSource>
    <ComplexSource>
      <SourceFilename relativeToVRT="0">/vsicurl/https://canelevation-dem.s3.ca-central-1.amazonaws.com/hrdem-lidar/QC-600020_35_Outaouais_Gatineau_MTM9_2020-1m-dtm.tif</SourceFilename>
      <SourceBand>1</SourceBand>
      <SourceProperties RasterXSize="115167" RasterYSize="112374" DataType="Float32" BlockXSize="512" BlockYSize="512" />
      <SrcRect xOff="56115.5819999999" yOff="0" xSize="54765" ySize="64990.451" />
      <DstRect xOff="0" yOff="30191.549" xSize="54765" ySize="64990.451" />
      <NODATA>-32767</NODATA>
    </ComplexSource>
    <ComplexSource>
      <SourceFilename relativeToVRT="0">/vsicurl/https://canelevation-dem.s3.ca-central-1.amazonaws.com/hrdem-lidar/QC-600020_36_Vaudreuil-Soulanges_MTM8_2020-21-1m-dtm.tif</SourceFilename>
      <SourceBand>1</SourceBand>
      <SourceProperties RasterXSize="121851" RasterYSize="137827" DataType="Float32" BlockXSize="512" BlockYSize="512" />
      <SrcRect xOff="0" yOff="13553.451" xSize="21045.5819999999" ySize="95182" />
      <DstRect xOff="33719.4180000001" yOff="0" xSize="21045.5819999999" ySize="95182" />
      <NODATA>-32767</NODATA>
    </ComplexSource>
    <ComplexSource>
      <SourceFilename relativeToVRT="0">/vsicurl/https://canelevation-dem.s3.ca-central-1.amazonaws.com/hrdem-lidar/QC-600021_46_RiviereGatineauLievre_2021-1m-dtm.tif</SourceFilename>
      <SourceBand>1</SourceBand>
      <SourceProperties RasterXSize="146505" RasterYSize="178889" DataType="Float32" BlockXSize="512" BlockYSize="512" />
      <SrcRect xOff="119287.582" yOff="59122.451" xSize="27217.4180000001" ySize="95182" />
      <DstRect xOff="0" yOff="0" xSize="27217.4180000001" ySize="95182" />
      <NODATA>-32767</NODATA>
    </ComplexSource>
    <ComplexSource>
      <SourceFilename relativeToVRT="0">/vsicurl/https://canelevation-dem.s3.ca-central-1.amazonaws.com/hrdem-lidar/NRCAN-FHIMP_PICAI_PetiteNation_LAssomption_2022-1m-dtm.tif</SourceFilename>
      <SourceBand>1</SourceBand>
      <SourceProperties RasterXSize="121986" RasterYSize="108361" DataType="Float32" BlockXSize="512" BlockYSize="512" />
      <SrcRect xOff="0" yOff="10383.451" xSize="49947.5819999999" ySize="95182" />
      <DstRect xOff="4817.41800000006" yOff="0" xSize="49947.5819999999" ySize="95182" />
      <NODATA>-32767</NODATA>
    </ComplexSource>
  </VRTRasterBand>
  <OverviewList resampling="nearest">2 4 8 16 32 64</OverviewList>
</VRTDataset>
