<VRTDataset rasterXSize="102031" rasterYSize="134250">
  <SRS dataAxisToSRSAxisMapping="1,2">PROJCS["NAD83(CSRS) / Canada Atlas Lambert",GEOGCS["NAD83(CSRS)",DATUM["NAD83_Canadian_Spatial_Reference_System",SPHEROID["GRS 1980",6378137,298.257222101,AUTHORITY["EPSG","7019"]],AUTHORITY["EPSG","6140"]],PRIMEM["Greenwich",0,AUTHORITY["EPSG","8901"]],UNIT["degree",0.0174532925199433,AUTHORITY["EPSG","9122"]],AUTHORITY["EPSG","4617"]],PROJECTION["Lambert_Conformal_Conic_2SP"],PARAMETER["latitude_of_origin",49],PARAMETER["central_meridian",-95],PARAMETER["standard_parallel_1",49],PARAMETER["standard_parallel_2",77],PARAMETER["false_easting",0],PARAMETER["false_northing",0],UNIT["metre",1,AUTHORITY["EPSG","9001"]],AXIS["Easting",EAST],AXIS["Northing",NORTH],AUTHORITY["EPSG","3979"]]</SRS>
  <GeoTransform>  1.5143755660000001e+06,  1.0000000000000000e+00,  0.0000000000000000e+00, -1.1903002300000000e+05,  0.0000000000000000e+00, -1.0000000000000000e+00</GeoTransform>
  <VRTRasterBand dataType="Float32" band="1">
    <NoDataValue>-32767</NoDataValue>
    <ColorInterp>Gray</ColorInterp>
    <ComplexSource>
      <SourceFilename relativeToVRT="0">/vsicurl/https://canelevation-dem.s3.ca-central-1.amazonaws.com/hrdem-lidar/QC-2009_LIEVRE_MTM09-1m-dtm.tif</SourceFilename>
      <SourceBand>1</SourceBand>
      <SourceProperties RasterXSize="70406" RasterYSize="51378" DataType="Float32" BlockXSize="512" BlockYSize="512" />
      <SrcRect xOff="34249.5660000001" yOff="11668.023" xSize="36156.4339999999" ySize="39709.977" />
      <DstRect xOff="0" yOff="0" xSize="36156.4339999999" ySize="39709.977" />
      <NODATA>-32767</NODATA>
    </ComplexSource>
    <ComplexSource>
      <SourceFilename relativeToVRT="0">/vsicurl/https://canelevation-dem.s3.ca-central-1.amazonaws.com/hrdem-lidar/QC-2014_600014-40-PAPINEAU-SUD_MTM08-1m-dtm.tif</SourceFilename>
      <SourceBand>1</SourceBand>
      <SourceProperties RasterXSize="44871" RasterYSize="35228" DataType="Float32" BlockXSize="512" BlockYSize="512" />
      <SrcRect xOff="0" yOff="8031.023" xSize="44871" ySize="27196.977" />
      <DstRect xOff="26752.4339999999" yOff="0" xSize="44871" ySize="27196.977" />
      <NODATA>-32767</NODATA>
    </ComplexSource>
    <ComplexSource>
      <SourceFilename relativeToVRT="0">/vsicurl/https://canelevation-dem.s3.ca-central-1.amazonaws.com/hrdem-lidar/QC-2015_600014-47_MTM09-1m-dtm.tif</SourceFilename>
      <SourceBand>1</SourceBand>
      <SourceProperties RasterXSize="90250" RasterYSize="121455" DataType="Float32" BlockXSize="512" BlockYSize="512" />
      <SrcRect xOff="47348.5660000001" yOff="53063.023" xSize="42901.4339999999" ySize="68391.977" />
      <DstRect xOff="0" yOff="0" xSize="42901.4339999999" ySize="68391.977" />
      <NODATA>-32767</NODATA>
    </ComplexSource>
    <ComplexSource>
      <SourceFilename relativeToVRT="0">/vsicurl/https://canelevation-dem.s3.ca-central-1.amazonaws.com/hrdem-lidar/QC-2015_600014-47_MTM08-1m-dtm.tif</SourceFilename>
      <SourceBand>1</SourceBand>
      <SourceProperties RasterXSize="54241" RasterYSize="64112" DataType="Float32" BlockXSize="512" BlockYSize="512" />
      <SrcRect xOff="0" yOff="49707.023" xSize="54241" ySize="14404.977" />
      <DstRect xOff="14232.4339999999" yOff="0" xSize="54241" ySize="14404.977" />
      <NODATA>-32767</NODATA>
    </ComplexSource>
    <ComplexSource>
      <SourceFilename relativeToVRT="0">/vsicurl/https://canelevation-dem.s3.ca-central-1.amazonaws.com/hrdem-lidar/QC-600018-23_DIF_Grand_Mtl_2018-1m-dtm.tif</SourceFilename>
      <SourceBand>1</SourceBand>
      <SourceProperties RasterXSize="104985" RasterYSize="138082" DataType="Float32" BlockXSize="512" BlockYSize="512" />
      <SrcRect xOff="10747.5660000001" yOff="123462.023" xSize="94237.4339999999" ySize="14619.977" />
      <DstRect xOff="0" yOff="0" xSize="94237.4339999999" ySize="14619.977" />
      <NODATA>-32767</NODATA>
    </ComplexSource>
    <ComplexSource>
      <SourceFilename relativeToVRT="0">/vsicurl/https://canelevation-dem.s3.ca-central-1.amazonaws.com/hrdem-lidar/ON-South_Nation_2019-1m-dtm.tif</SourceFilename>
      <SourceBand>1</SourceBand>
      <SourceProperties RasterXSize="71218" RasterYSize="83256" DataType="Float32" BlockXSize="512" BlockYSize="512" />
      <SrcRect xOff="0" yOff="0" xSize="71218" ySize="77835.023" />
      <DstRect xOff="12820.4339999999" yOff="56414.977" xSize="71218" ySize="77835.023" />
      <NODATA>-32767</NODATA>
    </ComplexSource>
    <ComplexSource>
      <SourceFilename relativeToVRT="0">/vsicurl/https://canelevation-dem.s3.ca-central-1.amazonaws.com/hrdem-lidar/QC-DIF_Grand_Montreal_2018-1m-dtm.tif</SourceFilename>
      <SourceBand>1</SourceBand>
      <SourceProperties RasterXSize="153355" RasterYSize="192394" DataType="Float32" BlockXSize="512" BlockYSize="512" />
      <SrcRect xOff="0" yOff="158064.023" xSize="58524.5660000001" ySize="34329.977" />
      <DstRect xOff="43506.4339999999" yOff="0" xSize="58524.5660000001" ySize="34329.977" />
      <NODATA>-32767</NODATA>
    </ComplexSource>
    <ComplexSource>
      <SourceFilename relativeToVRT="0">/vsicurl/https://canelevation-dem.s3.ca-central-1.amazonaws.com/hrdem-lidar/NRCAN-Riviere_Outaouais_2019-1m-dtm.tif</SourceFilename>
      <SourceBand>1</SourceBand>
      <SourceProperties RasterXSize="260461" RasterYSize="121374" DataType="Float32" BlockXSize="512" BlockYSize="512" />
      <SrcRect xOff="166383.566" yOff="8031.023" xSize="94077.4339999999" ySize="113342.977" />
      <DstRect xOff="0" yOff="0" xSize="94077.4339999999" ySize="113342.977" />
      <NODATA>-32767</NODATA>
    </ComplexSource>
    <ComplexSource>
      <SourceFilename relativeToVRT="0">/vsicurl/https://canelevation-dem.s3.ca-central-1.amazonaws.com/hrdem-lidar/VILLE_OTTAWA-Ottawa_Gatineau_2019-1m-dtm.tif</SourceFilename>
      <SourceBand>1</SourceBand>
      <SourceProperties RasterXSize="102911" RasterYSize="99548" DataType="Float32" BlockXSize="512" BlockYSize="512" />
      <SrcRect xOff="60479.5660000001" yOff="0" xSize="42431.4339999999" ySize="99548" />
      <DstRect xOff="0" yOff="14148.977" xSize="42431.4339999999" ySize="99548" />
      <NODATA>-32767</NODATA>
    </ComplexSource>
    <ComplexSource>
      <SourceFilename relativeToVRT="0">/vsicurl/https://canelevation-dem.s3.ca-central-1.amazonaws.com/hrdem-lidar/VILLE_OTTAWA-Ottawa_Gatineau_2020-1m-dtm.tif</SourceFilename>
      <SourceBand>1</SourceBand>
      <SourceProperties RasterXSize="102911" RasterYSize="83934" DataType="Float32" BlockXSize="512" BlockYSize="512" />
      <SrcRect xOff="60479.5660000001" yOff="0" xSize="42431.4339999999" ySize="83934" />
      <DstRect xOff="0" yOff="20070.977" xSize="42431.4339999999" ySize="83934" />
      <NODATA>-32767</NODATA>
    </ComplexSource>
    <ComplexSource>
      <SourceFilename relativeToVRT="0">/vsicurl/https://canelevation-dem.s3.ca-central-1.amazonaws.com/hrdem-lidar/QC-600020_35_Outaouais_Gatineau_MTM9_2020-1m-dtm.tif</SourceFilename>
      <SourceBand>1</SourceBand>
      <SourceProperties RasterXSize="115167" RasterYSize="112374" DataType="Float32" BlockXSize="512" BlockYSize="512" />
      <SrcRect xOff="62841.5660000001" yOff="43982.023" xSize="52325.4339999999" ySize="68391.977" />
      <DstRect xOff="0" yOff="0" xSize="52325.4339999999" ySize="68391.977" />
      <NODATA>-32767</NODATA>
    </ComplexSource>
    <ComplexSource>
      <SourceFilename relativeToVRT="0">/vsicurl/https://canelevation-dem.s3.ca-central-1.amazonaws.com/hrdem-lidar/QC-600020_36_Vaudreuil-Soulanges_MTM8_2020-21-1m-dtm.tif</SourceFilename>
      <SourceBand>1</SourceBand>
      <SourceProperties RasterXSize="121851" RasterYSize="137827" DataType="Float32" BlockXSize="512" BlockYSize="512" />
      <SrcRect xOff="0" yOff="87727.023" xSize="75037.5660000001" ySize="50099.977" />
      <DstRect xOff="26993.4339999999" yOff="0" xSize="75037.5660000001" ySize="50099.977" />
      <NODATA>-32767</NODATA>
    </ComplexSource>
    <ComplexSource>
      <SourceFilename relativeToVRT="0">/vsicurl/https://canelevation-dem.s3.ca-central-1.amazonaws.com/hrdem-lidar/SNCA-Eastern_Ontario_Part2_2021-1m-dtm.tif</SourceFilename>
      <SourceBand>1</SourceBand>
      <SourceProperties RasterXSize="102966" RasterYSize="92837" DataType="Float32" BlockXSize="512" BlockYSize="512" />
      <SrcRect xOff="0" yOff="1342.023" xSize="88602.5660000001" ySize="91494.977" />
      <DstRect xOff="13428.4339999999" yOff="0" xSize="88602.5660000001" ySize="91494.977" />
      <NODATA>-32767</NODATA>
    </ComplexSource>
    <ComplexSource>
      <SourceFilename relativeToVRT="0">/vsicurl/https://canelevation-dem.s3.ca-central-1.amazonaws.com/hrdem-lidar/SNCA-Eastern_Ontario_2022-1m-dtm.tif</SourceFilename>
      <SourceBand>1</SourceBand>
      <SourceProperties RasterXSize="197481" RasterYSize="233651" DataType="Float32" BlockXSize="512" BlockYSize="512" />
      <SrcRect xOff="93916.5660000001" yOff="0" xSize="102031" ySize="125944.023" />
      <DstRect xOff="0" yOff="8305.977" xSize="102031" ySize="125944.023" />
      <NODATA>-32767</NODATA>
    </ComplexSource>
  </VRTRasterBand>
  <OverviewList resampling="nearest">2 4 8 16 32 64 128</OverviewList>
</VRTDataset>
