<VRTDataset rasterXSize="93639" rasterYSize="124467">
  <SRS dataAxisToSRSAxisMapping="1,2">PROJCS["NAD83(CSRS) / Canada Atlas Lambert",GEOGCS["NAD83(CSRS)",DATUM["NAD83_Canadian_Spatial_Reference_System",SPHEROID["GRS 1980",6378137,298.257222101,AUTHORITY["EPSG","7019"]],AUTHORITY["EPSG","6140"]],PRIMEM["Greenwich",0,AUTHORITY["EPSG","8901"]],UNIT["degree",0.0174532925199433,AUTHORITY["EPSG","9122"]],AUTHORITY["EPSG","4617"]],PROJECTION["Lambert_Conformal_Conic_2SP"],PARAMETER["latitude_of_origin",49],PARAMETER["central_meridian",-95],PARAMETER["standard_parallel_1",49],PARAMETER["standard_parallel_2",77],PARAMETER["false_easting",0],PARAMETER["false_northing",0],UNIT["metre",1,AUTHORITY["EPSG","9001"]],AXIS["Easting",EAST],AXIS["Northing",NORTH],AUTHORITY["EPSG","3979"]]</SRS>
  <GeoTransform>  1.4419077370000000e+06,  1.0000000000000000e+00,  0.0000000000000000e+00, -1.5897124200000000e+05,  0.0000000000000000e+00, -1.0000000000000000e+00</GeoTransform>
  <VRTRasterBand dataType="Float32" band="1">
    <NoDataValue>-32767</NoDataValue>
    <ColorInterp>Gray</ColorInterp>
    <ComplexSource>
      <SourceFilename relativeToVRT="0">/vsicurl/https://canelevation-dem.s3.ca-central-1.amazonaws.com/hrdem-lidar/QC-2015_600014-47_MTM09-1m-dtm.tif</SourceFilename>
      <SourceBand>1</SourceBand>
      <SourceProperties RasterXSize="90250" RasterYSize="121455" DataType="Float32" BlockXSize="512" BlockYSize="512" />
      <SrcRect xOff="0" yOff="93004.242" xSize="68519.737" ySize="28450.758" />
      <DstRect xOff="25119.263" yOff="0" xSize="68519.737" ySize="28450.758" />
      <NODATA>-32767</NODATA>
    </ComplexSource>
    <ComplexSource>
      <SourceFilename relativeToVRT="0">/vsicurl/https://canelevation-dem.s3.ca-central-1.amazonaws.com/hrdem-lidar/NRCAN-Riviere_Outaouais_2019-1m-dtm.tif</SourceFilename>
      <SourceBand>1</SourceBand>
      <SourceProperties RasterXSize="260461" RasterYSize="121374" DataType="Float32" BlockXSize="512" BlockYSize="512" />
      <SrcRect xOff="93915.737" yOff="47972.242" xSize="93639" ySize="73401.758" />
      <DstRect xOff="0" yOff="0" xSize="93639" ySize="73401.758" />
      <NODATA>-32767</NODATA>
    </ComplexSource>
    <ComplexSource>
      <SourceFilename relativeToVRT="0">/vsicurl/https://canelevation-dem.s3.ca-central-1.amazonaws.com/hrdem-lidar/VILLE_OTTAWA-Ottawa_Gatineau_2019-1m-dtm.tif</SourceFilename>
      <SourceBand>1</SourceBand>
      <SourceProperties RasterXSize="102911" RasterYSize="99548" DataType="Float32" BlockXSize="512" BlockYSize="512" />
      <SrcRect xOff="0" yOff="25792.242" xSize="81650.737" ySize="73755.758" />
      <DstRect xOff="11988.263" yOff="0" xSize="81650.737" ySize="73755.758" />
      <NODATA>-32767</NODATA>
    </ComplexSource>
    <ComplexSource>
      <SourceFilename relativeToVRT="0">/vsicurl/https://canelevation-dem.s3.ca-central-1.amazonaws.com/hrdem-lidar/VILLE_OTTAWA-Ottawa_Gatineau_2020-1m-dtm.tif</SourceFilename>
      <SourceBand>1</SourceBand>
      <SourceProperties RasterXSize="102911" RasterYSize="83934" DataType="Float32" BlockXSize="512" BlockYSize="512" />
      <SrcRect xOff="0" yOff="19870.242" xSize="81650.737" ySize="64063.758" />
      <DstRect xOff="11988.263" yOff="0" xSize="81650.737" ySize="64063.758" />
      <NODATA>-32767</NODATA>
    </ComplexSource>
    <ComplexSource>
      <SourceFilename relativeToVRT="0">/vsicurl/https://canelevation-dem.s3.ca-central-1.amazonaws.com/hrdem-lidar/QC-600020_35_Outaouais_Gatineau_MTM9_2020-1m-dtm.tif</SourceFilename>
      <SourceBand>1</SourceBand>
      <SourceProperties RasterXSize="115167" RasterYSize="112374" DataType="Float32" BlockXSize="512" BlockYSize="512" />
      <SrcRect xOff="0" yOff="83923.242" xSize="84012.737" ySize="28450.758" />
      <DstRect xOff="9626.26300000004" yOff="0" xSize="84012.737" ySize="28450.758" />
      <NODATA>-32767</NODATA>
    </ComplexSource>
    <ComplexSource>
      <SourceFilename relativeToVRT="0">/vsicurl/https://canelevation-dem.s3.ca-central-1.amazonaws.com/hrdem-lidar/SNCA-Eastern_Ontario_Part1_2021-1m-dtm.tif</SourceFilename>
      <SourceBand>1</SourceBand>
      <SourceProperties RasterXSize="157524" RasterYSize="161098" DataType="Float32" BlockXSize="512" BlockYSize="512" />
      <SrcRect xOff="53142.737" yOff="0" xSize="93639" ySize="99479.242" />
      <DstRect xOff="0" yOff="24987.758" xSize="93639" ySize="99479.242" />
      <NODATA>-32767</NODATA>
    </ComplexSource>
    <ComplexSource>
      <SourceFilename relativeToVRT="0">/vsicurl/https://canelevation-dem.s3.ca-central-1.amazonaws.com/hrdem-lidar/SNCA-Eastern_Ontario_2022-1m-dtm.tif</SourceFilename>
      <SourceBand>1</SourceBand>
      <SourceProperties RasterXSize="197481" RasterYSize="233651" DataType="Float32" BlockXSize="512" BlockYSize="512" />
      <SrcRect xOff="21448.737" yOff="31635.242" xSize="93639" ySize="124467" />
      <DstRect xOff="0" yOff="0" xSize="93639" ySize="124467" />
      <NODATA>-32767</NODATA>
    </ComplexSource>
  </VRTRasterBand>
  <OverviewList resampling="nearest">2 4 8 16 32 64 128 256</OverviewList>
</VRTDataset>
