<VRTDataset rasterXSize="162371" rasterYSize="198337">
  <SRS dataAxisToSRSAxisMapping="1,2">PROJCS["NAD83(CSRS) / Canada Atlas Lambert",GEOGCS["NAD83(CSRS)",DATUM["NAD83_Canadian_Spatial_Reference_System",SPHEROID["GRS 1980",6378137,298.257222101,AUTHORITY["EPSG","7019"]],AUTHORITY["EPSG","6140"]],PRIMEM["Greenwich",0,AUTHORITY["EPSG","8901"]],UNIT["degree",0.0174532925199433,AUTHORITY["EPSG","9122"]],AUTHORITY["EPSG","4617"]],PROJECTION["Lambert_Conformal_Conic_2SP"],PARAMETER["latitude_of_origin",49],PARAMETER["central_meridian",-95],PARAMETER["standard_parallel_1",49],PARAMETER["standard_parallel_2",77],PARAMETER["false_easting",0],PARAMETER["false_northing",0],UNIT["metre",1,AUTHORITY["EPSG","9001"]],AXIS["Easting",EAST],AXIS["Northing",NORTH],AUTHORITY["EPSG","3979"]]</SRS>
  <GeoTransform>  2.5638042579999999e+06,  1.0000000000000000e+00,  0.0000000000000000e+00,  5.2423418699999998e+05,  0.0000000000000000e+00, -1.0000000000000000e+00</GeoTransform>
  <VRTRasterBand dataType="Float32" band="1">
    <NoDataValue>-32767</NoDataValue>
    <ColorInterp>Gray</ColorInterp>
    <ComplexSource>
      <SourceFilename relativeToVRT="0">/vsicurl/https://canelevation-dem.s3.ca-central-1.amazonaws.com/hrdem-lidar/NS-NSDNR_2017-1m-dtm.tif</SourceFilename>
      <SourceBand>1</SourceBand>
      <SourceProperties RasterXSize="201871" RasterYSize="225855" DataType="Float32" BlockXSize="512" BlockYSize="512" />
      <SrcRect xOff="124535.258" yOff="0" xSize="77335.7420000001" ySize="105739.813" />
      <DstRect xOff="0" yOff="92597.187" xSize="77335.7420000001" ySize="105739.813" />
      <NODATA>-32767</NODATA>
    </ComplexSource>
    <ComplexSource>
      <SourceFilename relativeToVRT="0">/vsicurl/https://canelevation-dem.s3.ca-central-1.amazonaws.com/hrdem-lidar/NS-NSDNR_2018-1m-dtm.tif</SourceFilename>
      <SourceBand>1</SourceBand>
      <SourceProperties RasterXSize="303658" RasterYSize="361198" DataType="Float32" BlockXSize="512" BlockYSize="512" />
      <SrcRect xOff="226322.258" yOff="0" xSize="77335.7420000001" ySize="135900.813" />
      <DstRect xOff="0" yOff="62436.187" xSize="77335.7420000001" ySize="135900.813" />
      <NODATA>-32767</NODATA>
    </ComplexSource>
    <ComplexSource>
      <SourceFilename relativeToVRT="0">/vsicurl/https://canelevation-dem.s3.ca-central-1.amazonaws.com/hrdem-lidar/NS-NSDNR_2020-1m-dtm.tif</SourceFilename>
      <SourceBand>1</SourceBand>
      <SourceProperties RasterXSize="304087" RasterYSize="593386" DataType="Float32" BlockXSize="512" BlockYSize="512" />
      <SrcRect xOff="274185.258" yOff="0" xSize="29901.7420000001" ySize="193576.813" />
      <DstRect xOff="0" yOff="4760.18699999998" xSize="29901.7420000001" ySize="193576.813" />
      <NODATA>-32767</NODATA>
    </ComplexSource>
  </VRTRasterBand>
  <OverviewList resampling="nearest">2 4 8 16 32 64 128 256</OverviewList>
</VRTDataset>
