<VRTDataset rasterXSize="202141" rasterYSize="127023">
  <SRS dataAxisToSRSAxisMapping="1,2">PROJCS["NAD83(CSRS) / Canada Atlas Lambert",GEOGCS["NAD83(CSRS)",DATUM["NAD83_Canadian_Spatial_Reference_System",SPHEROID["GRS 1980",6378137,298.257222101,AUTHORITY["EPSG","7019"]],AUTHORITY["EPSG","6140"]],PRIMEM["Greenwich",0,AUTHORITY["EPSG","8901"]],UNIT["degree",0.0174532925199433,AUTHORITY["EPSG","9122"]],AUTHORITY["EPSG","4617"]],PROJECTION["Lambert_Conformal_Conic_2SP"],PARAMETER["latitude_of_origin",49],PARAMETER["central_meridian",-95],PARAMETER["standard_parallel_1",49],PARAMETER["standard_parallel_2",77],PARAMETER["false_easting",0],PARAMETER["false_northing",0],UNIT["metre",1,AUTHORITY["EPSG","9001"]],AXIS["Easting",EAST],AXIS["Northing",NORTH],AUTHORITY["EPSG","3979"]]</SRS>
  <GeoTransform>  2.4550853130000001e+06,  1.0000000000000000e+00,  0.0000000000000000e+00,  2.7212884999999998e+05,  0.0000000000000000e+00, -1.0000000000000000e+00</GeoTransform>
  <VRTRasterBand dataType="Float32" band="1">
    <NoDataValue>-32767</NoDataValue>
    <ColorInterp>Gray</ColorInterp>
    <ComplexSource>
      <SourceFilename relativeToVRT="0">/vsicurl/https://canelevation-dem.s3.ca-central-1.amazonaws.com/hrdem-lidar/NS-Urbania-1m-dtm.tif</SourceFilename>
      <SourceBand>1</SourceBand>
      <SourceProperties RasterXSize="167025" RasterYSize="96730" DataType="Float32" BlockXSize="512" BlockYSize="512" />
      <SrcRect xOff="120857.313" yOff="0" xSize="46167.6869999999" ySize="96730" />
      <DstRect xOff="0" yOff="26768.85" xSize="46167.6869999999" ySize="96730" />
      <NODATA>-32767</NODATA>
    </ComplexSource>
    <ComplexSource>
      <SourceFilename relativeToVRT="0">/vsicurl/https://canelevation-dem.s3.ca-central-1.amazonaws.com/hrdem-lidar/NS-NSDNR_2017-1m-dtm.tif</SourceFilename>
      <SourceBand>1</SourceBand>
      <SourceProperties RasterXSize="201871" RasterYSize="225855" DataType="Float32" BlockXSize="512" BlockYSize="512" />
      <SrcRect xOff="15816.3130000001" yOff="159508.15" xSize="186054.687" ySize="66346.85" />
      <DstRect xOff="0" yOff="0" xSize="186054.687" ySize="66346.85" />
      <NODATA>-32767</NODATA>
    </ComplexSource>
    <ComplexSource>
      <SourceFilename relativeToVRT="0">/vsicurl/https://canelevation-dem.s3.ca-central-1.amazonaws.com/hrdem-lidar/NS-NSDNR_2017_2-1m-dtm.tif</SourceFilename>
      <SourceBand>1</SourceBand>
      <SourceProperties RasterXSize="132637" RasterYSize="270310" DataType="Float32" BlockXSize="512" BlockYSize="512" />
      <SrcRect xOff="28677.3130000001" yOff="219920.15" xSize="103959.687" ySize="50389.85" />
      <DstRect xOff="0" yOff="0" xSize="103959.687" ySize="50389.85" />
      <NODATA>-32767</NODATA>
    </ComplexSource>
    <ComplexSource>
      <SourceFilename relativeToVRT="0">/vsicurl/https://canelevation-dem.s3.ca-central-1.amazonaws.com/hrdem-lidar/HC-Halifax_County_Inland_2018-1m-dtm.tif</SourceFilename>
      <SourceBand>1</SourceBand>
      <SourceProperties RasterXSize="146857" RasterYSize="144115" DataType="Float32" BlockXSize="512" BlockYSize="512" />
      <SrcRect xOff="73017.3130000001" yOff="0" xSize="73839.6869999999" ySize="87383.15" />
      <DstRect xOff="0" yOff="39639.85" xSize="73839.6869999999" ySize="87383.15" />
      <NODATA>-32767</NODATA>
    </ComplexSource>
    <ComplexSource>
      <SourceFilename relativeToVRT="0">/vsicurl/https://canelevation-dem.s3.ca-central-1.amazonaws.com/hrdem-lidar/NS-NSDNR_2018-1m-dtm.tif</SourceFilename>
      <SourceBand>1</SourceBand>
      <SourceProperties RasterXSize="303658" RasterYSize="361198" DataType="Float32" BlockXSize="512" BlockYSize="512" />
      <SrcRect xOff="117603.313" yOff="189669.15" xSize="186054.687" ySize="127023" />
      <DstRect xOff="0" yOff="0" xSize="186054.687" ySize="127023" />
      <NODATA>-32767</NODATA>
    </ComplexSource>
    <ComplexSource>
      <SourceFilename relativeToVRT="0">/vsicurl/https://canelevation-dem.s3.ca-central-1.amazonaws.com/hrdem-lidar/NS-NSDNR_2019_3-1m-dtm.tif</SourceFilename>
      <SourceBand>1</SourceBand>
      <SourceProperties RasterXSize="419495" RasterYSize="190780" DataType="Float32" BlockXSize="512" BlockYSize="512" />
      <SrcRect xOff="117603.313" yOff="0" xSize="202141" ySize="120199.15" />
      <DstRect xOff="0" yOff="6823.84999999998" xSize="202141" ySize="120199.15" />
      <NODATA>-32767</NODATA>
    </ComplexSource>
    <ComplexSource>
      <SourceFilename relativeToVRT="0">/vsicurl/https://canelevation-dem.s3.ca-central-1.amazonaws.com/hrdem-lidar/NS-NSDNR_2020-1m-dtm.tif</SourceFilename>
      <SourceBand>1</SourceBand>
      <SourceProperties RasterXSize="304087" RasterYSize="593386" DataType="Float32" BlockXSize="512" BlockYSize="512" />
      <SrcRect xOff="165466.313" yOff="247345.15" xSize="138620.687" ySize="127023" />
      <DstRect xOff="0" yOff="0" xSize="138620.687" ySize="127023" />
      <NODATA>-32767</NODATA>
    </ComplexSource>
  </VRTRasterBand>
  <OverviewList resampling="nearest">2 4 8 16 32 64 128 256</OverviewList>
</VRTDataset>
