<VRTDataset rasterXSize="78279" rasterYSize="65536">
  <SRS dataAxisToSRSAxisMapping="1,2">PROJCS["NAD83(CSRS) / Canada Atlas Lambert",GEOGCS["NAD83(CSRS)",DATUM["NAD83_Canadian_Spatial_Reference_System",SPHEROID["GRS 1980",6378137,298.257222101,AUTHORITY["EPSG","7019"]],AUTHORITY["EPSG","6140"]],PRIMEM["Greenwich",0,AUTHORITY["EPSG","8901"]],UNIT["degree",0.0174532925199433,AUTHORITY["EPSG","9122"]],AUTHORITY["EPSG","4617"]],PROJECTION["Lambert_Conformal_Conic_2SP"],PARAMETER["latitude_of_origin",49],PARAMETER["central_meridian",-95],PARAMETER["standard_parallel_1",49],PARAMETER["standard_parallel_2",77],PARAMETER["false_easting",0],PARAMETER["false_northing",0],UNIT["metre",1,AUTHORITY["EPSG","9001"]],AXIS["Easting",EAST],AXIS["Northing",NORTH],AUTHORITY["EPSG","3979"]]</SRS>
  <GeoTransform>  2.2925336220000000e+06,  1.0000000000000000e+00,  0.0000000000000000e+00,  1.7056610000000001e+05,  0.0000000000000000e+00, -1.0000000000000000e+00</GeoTransform>
  <VRTRasterBand dataType="Float32" band="1">
    <NoDataValue>-32767</NoDataValue>
    <ColorInterp>Gray</ColorInterp>
    <ComplexSource>
      <SourceFilename relativeToVRT="0">/vsicurl/https://canelevation-dem.s3.ca-central-1.amazonaws.com/hrdem-lidar/NS-Lunenburg_County_2016-1m-dtm.tif</SourceFilename>
      <SourceBand>1</SourceBand>
      <SourceProperties RasterXSize="91223" RasterYSize="99368" DataType="Float32" BlockXSize="512" BlockYSize="512" />
      <SrcRect xOff="0" yOff="0" xSize="32755.622" ySize="22410.9" />
      <DstRect xOff="45523.378" yOff="43125.1" xSize="32755.622" ySize="22410.9" />
      <NODATA>-32767</NODATA>
    </ComplexSource>
    <ComplexSource>
      <SourceFilename relativeToVRT="0">/vsicurl/https://canelevation-dem.s3.ca-central-1.amazonaws.com/hrdem-lidar/NS-NSDNR_2018-1m-dtm.tif</SourceFilename>
      <SourceBand>1</SourceBand>
      <SourceProperties RasterXSize="303658" RasterYSize="361198" DataType="Float32" BlockXSize="512" BlockYSize="512" />
      <SrcRect xOff="0" yOff="291231.9" xSize="33330.622" ySize="65536" />
      <DstRect xOff="44948.378" yOff="0" xSize="33330.622" ySize="65536" />
      <NODATA>-32767</NODATA>
    </ComplexSource>
    <ComplexSource>
      <SourceFilename relativeToVRT="0">/vsicurl/https://canelevation-dem.s3.ca-central-1.amazonaws.com/hrdem-lidar/NS-NSDNR_2019_2-1m-dtm.tif</SourceFilename>
      <SourceBand>1</SourceBand>
      <SourceProperties RasterXSize="124358" RasterYSize="249823" DataType="Float32" BlockXSize="512" BlockYSize="512" />
      <SrcRect xOff="0" yOff="42841.9" xSize="70782.622" ySize="65536" />
      <DstRect xOff="7496.37800000003" yOff="0" xSize="70782.622" ySize="65536" />
      <NODATA>-32767</NODATA>
    </ComplexSource>
    <ComplexSource>
      <SourceFilename relativeToVRT="0">/vsicurl/https://canelevation-dem.s3.ca-central-1.amazonaws.com/hrdem-lidar/NS-NSDNR_2020-1m-dtm.tif</SourceFilename>
      <SourceBand>1</SourceBand>
      <SourceProperties RasterXSize="304087" RasterYSize="593386" DataType="Float32" BlockXSize="512" BlockYSize="512" />
      <SrcRect xOff="2914.62199999997" yOff="348907.9" xSize="78279" ySize="65536" />
      <DstRect xOff="0" yOff="0" xSize="78279" ySize="65536" />
      <NODATA>-32767</NODATA>
    </ComplexSource>
  </VRTRasterBand>
  <OverviewList resampling="nearest">2 4 8 16 32 64 128 256</OverviewList>
</VRTDataset>
