<VRTDataset rasterXSize="72826" rasterYSize="106795">
  <SRS dataAxisToSRSAxisMapping="1,2">PROJCS["NAD83(CSRS) / Canada Atlas Lambert",GEOGCS["NAD83(CSRS)",DATUM["NAD83_Canadian_Spatial_Reference_System",SPHEROID["GRS 1980",6378137,298.257222101,AUTHORITY["EPSG","7019"]],AUTHORITY["EPSG","6140"]],PRIMEM["Greenwich",0,AUTHORITY["EPSG","8901"]],UNIT["degree",0.0174532925199433,AUTHORITY["EPSG","9122"]],AUTHORITY["EPSG","4617"]],PROJECTION["Lambert_Conformal_Conic_2SP"],PARAMETER["latitude_of_origin",49],PARAMETER["central_meridian",-95],PARAMETER["standard_parallel_1",49],PARAMETER["standard_parallel_2",77],PARAMETER["false_easting",0],PARAMETER["false_northing",0],UNIT["metre",1,AUTHORITY["EPSG","9001"]],AXIS["Easting",EAST],AXIS["Northing",NORTH],AUTHORITY["EPSG","3979"]]</SRS>
  <GeoTransform>  2.1877981280000000e+06,  1.0000000000000000e+00,  0.0000000000000000e+00,  3.4789530699999997e+05,  0.0000000000000000e+00, -1.0000000000000000e+00</GeoTransform>
  <VRTRasterBand dataType="Float32" band="1">
    <NoDataValue>-32767</NoDataValue>
    <ColorInterp>Gray</ColorInterp>
    <ComplexSource>
      <SourceFilename relativeToVRT="0">/vsicurl/https://canelevation-dem.s3.ca-central-1.amazonaws.com/hrdem-lidar/NB-NBDNR-2015-1m-dtm.tif</SourceFilename>
      <SourceBand>1</SourceBand>
      <SourceProperties RasterXSize="165644" RasterYSize="144695" DataType="Float32" BlockXSize="512" BlockYSize="512" />
      <SrcRect xOff="110609.128" yOff="0" xSize="55034.872" ySize="30978.693" />
      <DstRect xOff="0" yOff="75816.307" xSize="55034.872" ySize="30978.693" />
      <NODATA>-32767</NODATA>
    </ComplexSource>
    <ComplexSource>
      <SourceFilename relativeToVRT="0">/vsicurl/https://canelevation-dem.s3.ca-central-1.amazonaws.com/hrdem-lidar/NB-NBDNR-2016-1m-dtm.tif</SourceFilename>
      <SourceBand>1</SourceBand>
      <SourceProperties RasterXSize="236654" RasterYSize="164277" DataType="Float32" BlockXSize="512" BlockYSize="512" />
      <SrcRect xOff="180557.128" yOff="38247.693" xSize="56096.872" ySize="106795" />
      <DstRect xOff="0" yOff="0" xSize="56096.872" ySize="106795" />
      <NODATA>-32767</NODATA>
    </ComplexSource>
    <ComplexSource>
      <SourceFilename relativeToVRT="0">/vsicurl/https://canelevation-dem.s3.ca-central-1.amazonaws.com/hrdem-lidar/NB-ERD_2017-1m-dtm.tif</SourceFilename>
      <SourceBand>1</SourceBand>
      <SourceProperties RasterXSize="442998" RasterYSize="324499" DataType="Float32" BlockXSize="512" BlockYSize="512" />
      <SrcRect xOff="272324.128" yOff="3981.69300000003" xSize="72826" ySize="106795" />
      <DstRect xOff="0" yOff="0" xSize="72826" ySize="106795" />
      <NODATA>-32767</NODATA>
    </ComplexSource>
  </VRTRasterBand>
  <OverviewList resampling="nearest">2 4 8 16 32 64 128 256</OverviewList>
</VRTDataset>
