<VRTDataset rasterXSize="85185" rasterYSize="66290">
  <SRS dataAxisToSRSAxisMapping="1,2">PROJCS["NAD83(CSRS) / Canada Atlas Lambert",GEOGCS["NAD83(CSRS)",DATUM["NAD83_Canadian_Spatial_Reference_System",SPHEROID["GRS 1980",6378137,298.257222101,AUTHORITY["EPSG","7019"]],AUTHORITY["EPSG","6140"]],PRIMEM["Greenwich",0,AUTHORITY["EPSG","8901"]],UNIT["degree",0.0174532925199433,AUTHORITY["EPSG","9122"]],AUTHORITY["EPSG","4617"]],PROJECTION["Lambert_Conformal_Conic_2SP"],PARAMETER["latitude_of_origin",49],PARAMETER["central_meridian",-95],PARAMETER["standard_parallel_1",49],PARAMETER["standard_parallel_2",77],PARAMETER["false_easting",0],PARAMETER["false_northing",0],UNIT["metre",1,AUTHORITY["EPSG","9001"]],AXIS["Easting",EAST],AXIS["Northing",NORTH],AUTHORITY["EPSG","3979"]]</SRS>
  <GeoTransform>  2.0626425759999999e+06,  1.0000000000000000e+00,  0.0000000000000000e+00,  2.3853443100000001e+05,  0.0000000000000000e+00, -1.0000000000000000e+00</GeoTransform>
  <VRTRasterBand dataType="Float32" band="1">
    <NoDataValue>-32767</NoDataValue>
    <ColorInterp>Gray</ColorInterp>
    <ComplexSource>
      <SourceFilename relativeToVRT="0">/vsicurl/https://canelevation-dem.s3.ca-central-1.amazonaws.com/hrdem-lidar/NB-NBDNR-2015-1m-dtm.tif</SourceFilename>
      <SourceBand>1</SourceBand>
      <SourceProperties RasterXSize="165644" RasterYSize="144695" DataType="Float32" BlockXSize="512" BlockYSize="512" />
      <SrcRect xOff="0" yOff="33544.569" xSize="70638.5759999999" ySize="66290" />
      <DstRect xOff="14546.4240000001" yOff="0" xSize="70638.5759999999" ySize="66290" />
      <NODATA>-32767</NODATA>
    </ComplexSource>
    <ComplexSource>
      <SourceFilename relativeToVRT="0">/vsicurl/https://canelevation-dem.s3.ca-central-1.amazonaws.com/hrdem-lidar/NB-ERD_2017-1m-dtm.tif</SourceFilename>
      <SourceBand>1</SourceBand>
      <SourceProperties RasterXSize="442998" RasterYSize="324499" DataType="Float32" BlockXSize="512" BlockYSize="512" />
      <SrcRect xOff="147168.576" yOff="113342.569" xSize="85185" ySize="66290" />
      <DstRect xOff="0" yOff="0" xSize="85185" ySize="66290" />
      <NODATA>-32767</NODATA>
    </ComplexSource>
    <ComplexSource>
      <SourceFilename relativeToVRT="0">/vsicurl/https://canelevation-dem.s3.ca-central-1.amazonaws.com/hrdem-lidar/NB-ERD_2018_aoi4-1m-dtm.tif</SourceFilename>
      <SourceBand>1</SourceBand>
      <SourceProperties RasterXSize="85065" RasterYSize="82061" DataType="Float32" BlockXSize="512" BlockYSize="512" />
      <SrcRect xOff="0" yOff="17230.569" xSize="82820.5759999999" ySize="64830.431" />
      <DstRect xOff="2364.42400000012" yOff="0" xSize="82820.5759999999" ySize="64830.431" />
      <NODATA>-32767</NODATA>
    </ComplexSource>
  </VRTRasterBand>
  <OverviewList resampling="nearest">2 4 8 16 32 64 128</OverviewList>
</VRTDataset>
