<VRTDataset rasterXSize="86707" rasterYSize="90720">
  <SRS dataAxisToSRSAxisMapping="1,2">PROJCS["NAD83(CSRS) / Canada Atlas Lambert",GEOGCS["NAD83(CSRS)",DATUM["NAD83_Canadian_Spatial_Reference_System",SPHEROID["GRS 1980",6378137,298.257222101,AUTHORITY["EPSG","7019"]],AUTHORITY["EPSG","6140"]],PRIMEM["Greenwich",0,AUTHORITY["EPSG","8901"]],UNIT["degree",0.0174532925199433,AUTHORITY["EPSG","9122"]],AUTHORITY["EPSG","4617"]],PROJECTION["Lambert_Conformal_Conic_2SP"],PARAMETER["latitude_of_origin",49],PARAMETER["central_meridian",-95],PARAMETER["standard_parallel_1",49],PARAMETER["standard_parallel_2",77],PARAMETER["false_easting",0],PARAMETER["false_northing",0],UNIT["metre",1,AUTHORITY["EPSG","9001"]],AXIS["Easting",EAST],AXIS["Northing",NORTH],AUTHORITY["EPSG","3979"]]</SRS>
  <GeoTransform>  2.0118892239999999e+06,  1.0000000000000000e+00,  0.0000000000000000e+00,  4.6128519799999997e+05,  0.0000000000000000e+00, -1.0000000000000000e+00</GeoTransform>
  <VRTRasterBand dataType="Float32" band="1">
    <NoDataValue>-32767</NoDataValue>
    <ColorInterp>Gray</ColorInterp>
    <ComplexSource>
      <SourceFilename relativeToVRT="0">/vsicurl/https://canelevation-dem.s3.ca-central-1.amazonaws.com/hrdem-lidar/QC-600016_19_Gaspesie_MTM6_2016_2017-1m-dtm.tif</SourceFilename>
      <SourceBand>1</SourceBand>
      <SourceProperties RasterXSize="73446" RasterYSize="69146" DataType="Float32" BlockXSize="512" BlockYSize="512" />
      <SrcRect xOff="0" yOff="0" xSize="71847.2239999999" ySize="34257.802" />
      <DstRect xOff="14859.7760000001" yOff="56462.198" xSize="71847.2239999999" ySize="34257.802" />
      <NODATA>-32767</NODATA>
    </ComplexSource>
    <ComplexSource>
      <SourceFilename relativeToVRT="0">/vsicurl/https://canelevation-dem.s3.ca-central-1.amazonaws.com/hrdem-lidar/QC-600016_19_Gaspesie_MTM5_2016_2017-1m-dtm.tif</SourceFilename>
      <SourceBand>1</SourceBand>
      <SourceProperties RasterXSize="127395" RasterYSize="150983" DataType="Float32" BlockXSize="512" BlockYSize="512" />
      <SrcRect xOff="0" yOff="70362.802" xSize="19788.2239999999" ySize="80620.198" />
      <DstRect xOff="66918.7760000001" yOff="0" xSize="19788.2239999999" ySize="80620.198" />
      <NODATA>-32767</NODATA>
    </ComplexSource>
    <ComplexSource>
      <SourceFilename relativeToVRT="0">/vsicurl/https://canelevation-dem.s3.ca-central-1.amazonaws.com/hrdem-lidar/QC-600019_11_Rivieres_Matane_et_Cascapedia_MTM5_2019-1m-dtm.tif</SourceFilename>
      <SourceBand>1</SourceBand>
      <SourceProperties RasterXSize="36003" RasterYSize="36010" DataType="Float32" BlockXSize="512" BlockYSize="512" />
      <SrcRect xOff="0" yOff="0" xSize="15728.2239999999" ySize="36010" />
      <DstRect xOff="70978.7760000001" yOff="35076.198" xSize="15728.2239999999" ySize="36010" />
      <NODATA>-32767</NODATA>
    </ComplexSource>
    <ComplexSource>
      <SourceFilename relativeToVRT="0">/vsicurl/https://canelevation-dem.s3.ca-central-1.amazonaws.com/hrdem-lidar/QC-600018_28_Gaspesie_MTM6_2018_20-1m-dtm.tif</SourceFilename>
      <SourceBand>1</SourceBand>
      <SourceProperties RasterXSize="104567" RasterYSize="108367" DataType="Float32" BlockXSize="512" BlockYSize="512" />
      <SrcRect xOff="20325.2239999999" yOff="34614.802" xSize="84241.7760000001" ySize="73752.198" />
      <DstRect xOff="0" yOff="0" xSize="84241.7760000001" ySize="73752.198" />
      <NODATA>-32767</NODATA>
    </ComplexSource>
    <ComplexSource>
      <SourceFilename relativeToVRT="0">/vsicurl/https://canelevation-dem.s3.ca-central-1.amazonaws.com/hrdem-lidar/QC-600018_28_Gaspesie_MTM5_2018_20-1m-dtm.tif</SourceFilename>
      <SourceBand>1</SourceBand>
      <SourceProperties RasterXSize="114523" RasterYSize="122980" DataType="Float32" BlockXSize="512" BlockYSize="512" />
      <SrcRect xOff="0" yOff="51188.802" xSize="61296.2239999999" ySize="71791.198" />
      <DstRect xOff="25410.7760000001" yOff="0" xSize="61296.2239999999" ySize="71791.198" />
      <NODATA>-32767</NODATA>
    </ComplexSource>
    <ComplexSource>
      <SourceFilename relativeToVRT="0">/vsicurl/https://canelevation-dem.s3.ca-central-1.amazonaws.com/hrdem-lidar/QC-600020_09_Gaspesie_MTM6_2020_21-1m-dtm.tif</SourceFilename>
      <SourceBand>1</SourceBand>
      <SourceProperties RasterXSize="44756" RasterYSize="58012" DataType="Float32" BlockXSize="512" BlockYSize="512" />
      <SrcRect xOff="0" yOff="0" xSize="44756" ySize="58012" />
      <DstRect xOff="40518.7760000001" yOff="28974.198" xSize="44756" ySize="58012" />
      <NODATA>-32767</NODATA>
    </ComplexSource>
    <ComplexSource>
      <SourceFilename relativeToVRT="0">/vsicurl/https://canelevation-dem.s3.ca-central-1.amazonaws.com/hrdem-lidar/QC-600020_08_Gaspesie_BasStLaurent_MTM6_2020-1m-dtm.tif</SourceFilename>
      <SourceBand>1</SourceBand>
      <SourceProperties RasterXSize="161889" RasterYSize="166537" DataType="Float32" BlockXSize="512" BlockYSize="512" />
      <SrcRect xOff="91933.2239999999" yOff="8686.80200000003" xSize="69955.7760000001" ySize="90720" />
      <DstRect xOff="0" yOff="0" xSize="69955.7760000001" ySize="90720" />
      <NODATA>-32767</NODATA>
    </ComplexSource>
    <ComplexSource>
      <SourceFilename relativeToVRT="0">/vsicurl/https://canelevation-dem.s3.ca-central-1.amazonaws.com/hrdem-lidar/QC-600020_09_Gaspesie_MTM5_2020_21_A-1m-dtm.tif</SourceFilename>
      <SourceBand>1</SourceBand>
      <SourceProperties RasterXSize="110098" RasterYSize="121434" DataType="Float32" BlockXSize="512" BlockYSize="512" />
      <SrcRect xOff="0" yOff="49642.802" xSize="53788.2239999999" ySize="71791.198" />
      <DstRect xOff="32918.7760000001" yOff="0" xSize="53788.2239999999" ySize="71791.198" />
      <NODATA>-32767</NODATA>
    </ComplexSource>
    <ComplexSource>
      <SourceFilename relativeToVRT="0">/vsicurl/https://canelevation-dem.s3.ca-central-1.amazonaws.com/hrdem-lidar/NRCAN-FHIMP_PICAI_QC_Cascapedia_2023-1m-dtm.tif</SourceFilename>
      <SourceBand>1</SourceBand>
      <SourceProperties RasterXSize="27189" RasterYSize="27189" DataType="Float32" BlockXSize="512" BlockYSize="512" />
      <SrcRect xOff="0" yOff="0" xSize="10964.2239999999" ySize="27189" />
      <DstRect xOff="75742.7760000001" yOff="48666.198" xSize="10964.2239999999" ySize="27189" />
      <NODATA>-32767</NODATA>
    </ComplexSource>
  </VRTRasterBand>
  <OverviewList resampling="nearest">2 4 8 16 32 64</OverviewList>
</VRTDataset>
