<VRTDataset rasterXSize="60166" rasterYSize="93439">
  <SRS dataAxisToSRSAxisMapping="1,2">PROJCS["NAD83(CSRS) / Canada Atlas Lambert",GEOGCS["NAD83(CSRS)",DATUM["NAD83_Canadian_Spatial_Reference_System",SPHEROID["GRS 1980",6378137,298.257222101,AUTHORITY["EPSG","7019"]],AUTHORITY["EPSG","6140"]],PRIMEM["Greenwich",0,AUTHORITY["EPSG","8901"]],UNIT["degree",0.0174532925199433,AUTHORITY["EPSG","9122"]],AUTHORITY["EPSG","4617"]],PROJECTION["Lambert_Conformal_Conic_2SP"],PARAMETER["latitude_of_origin",49],PARAMETER["central_meridian",-95],PARAMETER["standard_parallel_1",49],PARAMETER["standard_parallel_2",77],PARAMETER["false_easting",0],PARAMETER["false_northing",0],UNIT["metre",1,AUTHORITY["EPSG","9001"]],AXIS["Easting",EAST],AXIS["Northing",NORTH],AUTHORITY["EPSG","3979"]]</SRS>
  <GeoTransform>  2.0548028700000001e+06,  1.0000000000000000e+00,  0.0000000000000000e+00,  4.7215749200000003e+05,  0.0000000000000000e+00, -1.0000000000000000e+00</GeoTransform>
  <VRTRasterBand dataType="Float32" band="1">
    <NoDataValue>-32767</NoDataValue>
    <ColorInterp>Gray</ColorInterp>
    <ComplexSource>
      <SourceFilename relativeToVRT="0">/vsicurl/https://canelevation-dem.s3.ca-central-1.amazonaws.com/hrdem-lidar/QC-600016_19_Gaspesie_MTM5_2016_2017-1m-dtm.tif</SourceFilename>
      <SourceBand>1</SourceBand>
      <SourceProperties RasterXSize="127395" RasterYSize="150983" DataType="Float32" BlockXSize="512" BlockYSize="512" />
      <SrcRect xOff="0" yOff="59490.508" xSize="36160.8700000001" ySize="91492.492" />
      <DstRect xOff="24005.1299999999" yOff="0" xSize="36160.8700000001" ySize="91492.492" />
      <NODATA>-32767</NODATA>
    </ComplexSource>
    <ComplexSource>
      <SourceFilename relativeToVRT="0">/vsicurl/https://canelevation-dem.s3.ca-central-1.amazonaws.com/hrdem-lidar/QC-600019_11_Rivieres_Matane_et_Cascapedia_MTM5_2019-1m-dtm.tif</SourceFilename>
      <SourceBand>1</SourceBand>
      <SourceProperties RasterXSize="36003" RasterYSize="36010" DataType="Float32" BlockXSize="512" BlockYSize="512" />
      <SrcRect xOff="0" yOff="0" xSize="32100.8700000001" ySize="36010" />
      <DstRect xOff="28065.1299999999" yOff="45948.492" xSize="32100.8700000001" ySize="36010" />
      <NODATA>-32767</NODATA>
    </ComplexSource>
    <ComplexSource>
      <SourceFilename relativeToVRT="0">/vsicurl/https://canelevation-dem.s3.ca-central-1.amazonaws.com/hrdem-lidar/QC-600018_28_Gaspesie_MTM6_2018_20-1m-dtm.tif</SourceFilename>
      <SourceBand>1</SourceBand>
      <SourceProperties RasterXSize="104567" RasterYSize="108367" DataType="Float32" BlockXSize="512" BlockYSize="512" />
      <SrcRect xOff="63238.8700000001" yOff="23742.508" xSize="41328.1299999999" ySize="84624.492" />
      <DstRect xOff="0" yOff="0" xSize="41328.1299999999" ySize="84624.492" />
      <NODATA>-32767</NODATA>
    </ComplexSource>
    <ComplexSource>
      <SourceFilename relativeToVRT="0">/vsicurl/https://canelevation-dem.s3.ca-central-1.amazonaws.com/hrdem-lidar/QC-600018_28_Gaspesie_MTM5_2018_20-1m-dtm.tif</SourceFilename>
      <SourceBand>1</SourceBand>
      <SourceProperties RasterXSize="114523" RasterYSize="122980" DataType="Float32" BlockXSize="512" BlockYSize="512" />
      <SrcRect xOff="17502.8700000001" yOff="40316.508" xSize="60166" ySize="82663.492" />
      <DstRect xOff="0" yOff="0" xSize="60166" ySize="82663.492" />
      <NODATA>-32767</NODATA>
    </ComplexSource>
    <ComplexSource>
      <SourceFilename relativeToVRT="0">/vsicurl/https://canelevation-dem.s3.ca-central-1.amazonaws.com/hrdem-lidar/QC-600020_09_Gaspesie_MTM5_2020_21_A-1m-dtm.tif</SourceFilename>
      <SourceBand>1</SourceBand>
      <SourceProperties RasterXSize="110098" RasterYSize="121434" DataType="Float32" BlockXSize="512" BlockYSize="512" />
      <SrcRect xOff="9994.87000000011" yOff="38770.508" xSize="60166" ySize="82663.492" />
      <DstRect xOff="0" yOff="0" xSize="60166" ySize="82663.492" />
      <NODATA>-32767</NODATA>
    </ComplexSource>
    <ComplexSource>
      <SourceFilename relativeToVRT="0">/vsicurl/https://canelevation-dem.s3.ca-central-1.amazonaws.com/hrdem-lidar/NRCAN-FHIMP_PICAI_QC_Cascapedia_2023-1m-dtm.tif</SourceFilename>
      <SourceBand>1</SourceBand>
      <SourceProperties RasterXSize="27189" RasterYSize="27189" DataType="Float32" BlockXSize="512" BlockYSize="512" />
      <SrcRect xOff="0" yOff="0" xSize="27189" ySize="27189" />
      <DstRect xOff="32829.1299999999" yOff="59538.492" xSize="27189" ySize="27189" />
      <NODATA>-32767</NODATA>
    </ComplexSource>
  </VRTRasterBand>
  <OverviewList resampling="nearest">2 4 8 16 32 64</OverviewList>
</VRTDataset>
