<VRTDataset rasterXSize="90599" rasterYSize="75085">
  <SRS dataAxisToSRSAxisMapping="1,2">PROJCS["NAD83(CSRS) / Canada Atlas Lambert",GEOGCS["NAD83(CSRS)",DATUM["NAD83_Canadian_Spatial_Reference_System",SPHEROID["GRS 1980",6378137,298.257222101,AUTHORITY["EPSG","7019"]],AUTHORITY["EPSG","6140"]],PRIMEM["Greenwich",0,AUTHORITY["EPSG","8901"]],UNIT["degree",0.0174532925199433,AUTHORITY["EPSG","9122"]],AUTHORITY["EPSG","4617"]],PROJECTION["Lambert_Conformal_Conic_2SP"],PARAMETER["latitude_of_origin",49],PARAMETER["central_meridian",-95],PARAMETER["standard_parallel_1",49],PARAMETER["standard_parallel_2",77],PARAMETER["false_easting",0],PARAMETER["false_northing",0],UNIT["metre",1,AUTHORITY["EPSG","9001"]],AXIS["Easting",EAST],AXIS["Northing",NORTH],AUTHORITY["EPSG","3979"]]</SRS>
  <GeoTransform>  2.0650563980000000e+06,  1.0000000000000000e+00,  0.0000000000000000e+00,  1.6741388300000000e+05,  0.0000000000000000e+00, -1.0000000000000000e+00</GeoTransform>
  <VRTRasterBand dataType="Float32" band="1">
    <NoDataValue>-32767</NoDataValue>
    <ColorInterp>Gray</ColorInterp>
    <ComplexSource>
      <SourceFilename relativeToVRT="0">/vsicurl/https://canelevation-dem.s3.ca-central-1.amazonaws.com/hrdem-lidar/NB-12_MEDUCTIC-1m-dtm.tif</SourceFilename>
      <SourceBand>1</SourceBand>
      <SourceProperties RasterXSize="22622" RasterYSize="17419" DataType="Float32" BlockXSize="512" BlockYSize="512" />
      <SrcRect xOff="0" yOff="0" xSize="22622" ySize="17419" />
      <DstRect xOff="18000.602" yOff="33729.883" xSize="22622" ySize="17419" />
      <NODATA>-32767</NODATA>
    </ComplexSource>
    <ComplexSource>
      <SourceFilename relativeToVRT="0">/vsicurl/https://canelevation-dem.s3.ca-central-1.amazonaws.com/hrdem-lidar/NB-11_WOODSTOCK-1m-dtm.tif</SourceFilename>
      <SourceBand>1</SourceBand>
      <SourceProperties RasterXSize="26675" RasterYSize="26674" DataType="Float32" BlockXSize="512" BlockYSize="512" />
      <SrcRect xOff="0" yOff="0" xSize="26675" ySize="26674" />
      <DstRect xOff="600.601999999955" yOff="19263.883" xSize="26675" ySize="26674" />
      <NODATA>-32767</NODATA>
    </ComplexSource>
    <ComplexSource>
      <SourceFilename relativeToVRT="0">/vsicurl/https://canelevation-dem.s3.ca-central-1.amazonaws.com/hrdem-lidar/NB-NBDNR-2015-1m-dtm.tif</SourceFilename>
      <SourceBand>1</SourceBand>
      <SourceProperties RasterXSize="165644" RasterYSize="144695" DataType="Float32" BlockXSize="512" BlockYSize="512" />
      <SrcRect xOff="0" yOff="104665.117" xSize="78466.398" ySize="40029.883" />
      <DstRect xOff="12132.602" yOff="0" xSize="78466.398" ySize="40029.883" />
      <NODATA>-32767</NODATA>
    </ComplexSource>
    <ComplexSource>
      <SourceFilename relativeToVRT="0">/vsicurl/https://canelevation-dem.s3.ca-central-1.amazonaws.com/hrdem-lidar/NB-ERD_2017-1m-dtm.tif</SourceFilename>
      <SourceBand>1</SourceBand>
      <SourceProperties RasterXSize="442998" RasterYSize="324499" DataType="Float32" BlockXSize="512" BlockYSize="512" />
      <SrcRect xOff="149582.398" yOff="184463.117" xSize="90599" ySize="75085" />
      <DstRect xOff="0" yOff="0" xSize="90599" ySize="75085" />
      <NODATA>-32767</NODATA>
    </ComplexSource>
    <ComplexSource>
      <SourceFilename relativeToVRT="0">/vsicurl/https://canelevation-dem.s3.ca-central-1.amazonaws.com/hrdem-lidar/NB-ERD_2017_Refly-1m-dtm.tif</SourceFilename>
      <SourceBand>1</SourceBand>
      <SourceProperties RasterXSize="80280" RasterYSize="72107" DataType="Float32" BlockXSize="512" BlockYSize="512" />
      <SrcRect xOff="0" yOff="0" xSize="69676.398" ySize="21692.117" />
      <DstRect xOff="20922.602" yOff="53392.883" xSize="69676.398" ySize="21692.117" />
      <NODATA>-32767</NODATA>
    </ComplexSource>
  </VRTRasterBand>
  <OverviewList resampling="nearest">2 4 8 16 32 64 256</OverviewList>
</VRTDataset>
